Workbook

Sheet CPU
B2: Elaboração de Planilha Externa (PEX)
B4: 1) Para elaboração de Planilha Externa (PEX), deve-se, obrigatoriamente, seguir o padrão contido neste documento, salvo particularidade e condição específica de cada processo;
B6: 2) É dever do Analista de Proposta verificar todas as condições e particularidades do processo, visando a assertividade na elaboração da Planilha Externa (PEX);
B8: 3) Em casos específicos, mediante deliberação da Presidência, acompanhado de fundamentação do Jurídico, cumpre ao Analista de Proposta analisar a melhor possibilidade para fechamento do custo da Planilha Externa (PEX), seguindo a sequência de reduções abaixo: a) Reduzir o custo do fornecimento de insumos em até 30% do inicialmente precificado; b) Reduzir o custo do fornecimento de uniformes e EPI's para R$ 1,00 mensal por colaborador; c) Reduzir o custo do fornecimento de insumos em até 50% do inicialmente precificado; d) Substituir a fórmula contida na rubrica "Transporte" para o valor de R$ 1,00 mensal por colaborador, justificado pela opção da companhia no fornecimento de transporte próprio; e) Redução de encargos: uso restrito a partir de deliberação da Gerência e Presidência, devendo o Analista de Proposta analisar, através da expertise, fatores e pontos possíveis de redução.
B10: 4) Todas as diretrizes anteriores devem acompanhar e respeitar as particularidades do processo.

Sheet Entrada de dados
B1: CONVENÇÃO | C1: SALÁRIO | D1: ALIMENTAÇÃO | E1: BSF | F1: FFP | G1: MÉDICA | H1: ALIMENTAÇÃO NAS FÉRIAS | I1: UNIFORME | J1: MATERIAL DE LIMPEZA | K1: MATERIAIS | L1: MATERIAL DE HIGIENE | M1: EQUIPAMENTOS | N1: VEICULO
A2: SUPERVISOR GERAL | B2: PR000074/2025 | C2: 2807 | D2: 805 | E2: 28 | F2: 28 | G2: 87.5 | H2: =D2/12 -> 67.08 | I2: =insumos!$F$28 -> 19.92 | J2: 0 | L2: 0 | M2: =insumos!$F$158 -> 18.78 | N2: =insumos!$F$165 -> 25.67
A3: ENCARREGADO + DE 20 EMPREGADOS | B3: PR000074/2025 | C3: 2232 | D3: 805 | E3: 28 | F3: 28 | G3: 87.5 | H3: =D3/12 -> 67.08 | I3: =insumos!$F$19 -> 19.92 | J3: 0 | L3: 0 | M3: =insumos!$F$158 -> 18.78 | N3: =insumos!$F$165 -> 25.67
A4: MEIO OFICIAL DE MANUTENÇÃO | B4: PR000456/2025 | C4: 2689 | D4: 805 | E4: 28 | F4: 28 | G4: 81 | H4: =D4/12 -> 67.08 | I4: =insumos!$F$54 -> 43.67 | J4: 0 | L4: 0 | M4: =insumos!$F$158 -> 18.78 | N4: =insumos!$F$165 -> 25.67
A5: COPEIRA | B5: PR000074/2025 | C5: 1821 | D5: 805 | E5: 28 | F5: 28 | G5: 87.5 | H5: =D5/12 -> 67.08 | I5: =insumos!$F$40 -> 27.92 | J5: 0 | L5: 0 | M5: =insumos!$F$158 -> 18.78 | N5: =insumos!$F$165 -> 25.67
A6: JARDINEIRO | B6: PR000074/2025 | C6: 1884 | D6: 805 | E6: 28 | F6: 28 | G6: 87.5 | H6: =D6/12 -> 67.08 | I6: =insumos!$F$54 -> 43.67 | J6: 0 | L6: 0 | M6: =insumos!$F$158 -> 18.78 | N6: =insumos!$F$165 -> 25.67
A7: SERVENTE DE LIMPEZA | B7: PR000074/2025 | C7: 1764 | D7: 805 | E7: 28 | F7: 28 | G7: 87.5 | H7: =D7/12 -> 67.08 | I7: =insumos!$F$10 -> 19.16 | J7: =insumos!$F$103/86 -> 198.91 | K7: =insumos!$F$125/86 -> 7.08 | L7: =insumos!$F$135/86 -> 205.86 | M7: =insumos!$F$158 -> 18.78 | N7: =insumos!$F$165 -> 25.67
A8: SALARIO MINIMO | C8: 1518

Sheet Quadro Resumo
B2: QUADRO RESUMO
B3: Lote | C3: Item | D3: Descrição | E3: CH | F3: Unidade de Medida | G3: Qtde | H3: Valor Unitário | I3: Total Mensal | J3: Total 30 meses
B4: 1 | C4: 1 | D4: ='Entrada de dados'!$A$2 -> SUPERVISOR GERAL | E4: 44 | F4: posto | G4: 1 | H4: ='1'!$D$134 -> 6960.65 | I4: =H4*G4 -> 6960.65 | J4: =I4*30 -> 208819.5
C5: 2 | D5: ='Entrada de dados'!A3 -> ENCARREGADO + DE 20 EMPREGADOS | E5: 44 | F5: posto | G5: 4 | H5: ='2'!$D$134 -> 5303.88 | I5: =H5*G5 -> 21215.52 | J5: =I5*30 -> 636465.6
C6: 3 | D6: ='Entrada de dados'!A4 -> MEIO OFICIAL DE MANUTENÇÃO | E6: 44 | F6: posto | G6: 3 | H6: ='3'!$D$134 -> 6187.6 | I6: =H6*G6 -> 18562.8 | J6: =I6*30 -> 556884
C7: 4 | D7: ='Entrada de dados'!A5 -> COPEIRA | E7: 44 | F7: posto | G7: 5 | H7: ='4'!$D$134 -> 4534.54 | I7: =H7*G7 -> 22672.7 | J7: =I7*30 -> 680181
C8: 5 | D8: ='Entrada de dados'!A6 -> JARDINEIRO | E8: 44 | F8: posto | G8: 1 | H8: ='5'!$D$134 -> 4671.2 | I8: =H8*G8 -> 4671.2 | J8: =I8*30 -> 140136
C9: 6 | D9: ='Entrada de dados'!$A$7 -> SERVENTE DE LIMPEZA | E9: 44 | F9: posto | G9: 42 | H9: ='6'!$D$134 -> 4871.73 | I9: =H9*G9 -> 204612.66 | J9: =I9*30 -> 6138379.8
C10: 7 | D10: ='Entrada de dados'!$A$7 -> SERVENTE DE LIMPEZA | E10: 12X36 D | F10: posto | G10: 2 | H10: ='7'!$D$134 -> 5077.63 | I10: =H10*G10 -> 10155.26 | J10: =I10*30 -> 304657.8
C11: 8 | D11: ='Entrada de dados'!$A$7 -> SERVENTE DE LIMPEZA | E11: 12X36 N | F11: posto | G11: 2 | H11: ='8'!$D$134 -> 5706.22 | I11: =H11*G11 -> 11412.44 | J11: =I11*30 -> 342373.2
C12: 9 | D12: ='Entrada de dados'!$A$7 -> SERVENTE DE LIMPEZA | E12: 12X36 D | F12: posto | G12: 20 | H12: ='9'!$D$134 -> 6298.23 | I12: =H12*G12 -> 125964.6 | J12: =I12*30 -> 3778938
C13: 10 | D13: ='Entrada de dados'!$A$7 -> SERVENTE DE LIMPEZA | E13: 12X36 N | F13: posto | G13: 20 | H13: ='10'!$D$134 -> 7143.16 | I13: =H13*G13 -> 142863.2 | J13: =I13*30 -> 4285896
B14: TOTAL MENSAL
B16: TOTAL 30 meses | J16: =SUM(J4:J13) -> 17072731

Sheet 1
A1: PLANILHA DE CUSTOS E FORMAÇÃO DE PREÇOS
A3: PROCESSO LICITATÓRIO Nº: 177/2025
A4: PREGÃO Nº: 1772025
A7: Discriminação dos Serviços (dados referentes à contratação)
A8: A | B8: Data da apresentação da proposta (dia/mês/ano) | D8: 45783
A9: B | B9: Município onde será executado o serviço: | D9: PARANAGUÁ/ANTONINA
A10: C | B10: Nº de Registro da Convenção Coletiva de Trabalho no MTE: | D10: =VLOOKUP(A14,'Entrada de dados'!$A$1:$N$8,2,FALSE) -> PR000074/2025
A11: D | B11: Nº de meses de execução contratual | D11: 30
A13: IDENTIFICAÇÃO DO SERVIÇO | C13: UNIDADE DE MEDIDA | D13: QTDE
A14: ='Quadro Resumo'!D4 -> SUPERVISOR GERAL | C14: Posto de Serviço | D14: =VLOOKUP(A14,'Quadro Resumo'!D3:G13,4,FALSE) -> 1
A16: Carga horaria semanal | D16: 44
A17: Data base da categoria (dia / mês / ano): | D17: 45689
A19: Módulo 1: COMPOSIÇÃO DA REMUNERAÇÃO
A20: 1 | B20: Composição da Remuneração | D20: Valor (R$)
A21: A | B21: Salário Base | D21: =VLOOKUP(A14,'Entrada de dados'!A2:H8,3,FALSE)/44*'1'!D16 -> 2807 | F21: De acordo com a CCT
A22: B | B22: Adicional de periculosidade | F22: Conforme obrigatoriedade da legislação de regência.
A23: C | B23: Adicional de insalubridade | D23: 0 | F23: DEVERÁ SER UTILIZADA A PORCENTAGEM DE 20%, PARA APRESENTAÇÃO DE TODAS AS PLANILHAS.
A24: D | B24: Adicional noturno | F24: Conforme obrigatoriedade da legislação de regência.
A25: E | B25: Adicional de hora noturna reduzida | F25: Conforme obrigatoriedade da legislação de regência.
A26: F | B26: Cumulação de função | D26: 280 | F26: Conforme obrigatoriedade da legislação de regência.
A27: Total da Remuneração | D27: =SUM(D21:D26) -> 3087
A29: Módulo 2: ENCARGOS E BENEFÍCIOS ANUAIS, MENSAIS E DIÁRIOS
A31: Submódulo 2.1 - 13º (décimo terceiro) Salário, Férias e Adicional de Férias
A32: 2.1 | B32: 13º Salário, Férias e Adicional de Férias | C32: Percentual (%) | D32: Valor (R$)
A33: A | B33: 13º (décimo terceiro) Salário | C33: 0.0833 | D33: =ROUND($D$27*C33,2) -> 257.15 | F33: 1/12 (um doze avos) do total da remuneração.
A34: B | B34: Adicional de Férias | C34: 0.0278 | D34: =ROUND($D$27*C34,2) -> 85.82 | F34: Conforme previsão da IN 05/2017
A35: C | B35: Subtotal | C35: =SUM(C33:C34) -> 0.1111 | D35: =SUM(D33:D34) -> 342.97
A36: D | B36: Incidência do submódulo 2.2 sobre o submódulo 2.1 | C36: =C35*C49 -> 0.04 | D36: =ROUND($D$27*C36,2) -> 123.48
A37: TOTAL | C37: =SUM(C35:C36) -> 0.1511 | D37: =SUM(D35:D36) -> 466.45
A39: Submódulo 2.2 - Encargos Previdenciários (GPS), Fundo de Garantia por Tempo de Serviço (FGTS) e outras contribuições.
A40: 2.2 | B40: GPS, FGTS e outras contribuições | C40: Percentual (%) | D40: Valor (R$)
A41: A | B41: INSS | C41: 0.2 | D41: =ROUND($D$27*C41,2) -> 617.4 | F41: Art. 195, I, "A", Constituição Federal de 1988; art. 22, inciso I, da Lei 8.212/91
A42: B | B42: Salário Educação | C42: 0.025 | D42: =ROUND($D$27*C42,2) -> 77.18 | F42: Art. 212, § 5º da CF/88; Decreto-Lei nº 1.422/75
A43: C | B43: SAT | C43: =2%*1.0942 -> 0.0219 | D43: =ROUND($D$27*C43,2) -> 67.61 | F43: Art. 22, inciso II, da Lei nº 8.212/91 - De acordo com o percentual constante na GEFIP.
A44: D | B44: SESC ou SESI | C44: 0.015 | D44: =ROUND($D$27*C44,2) -> 46.31 | F44: Art. 30 da Lei nº 8.036/90; Decreto n.º 2.318/86
A45: E | B45: SENAI - SENAC | C45: 0.01 | D45: =ROUND($D$27*C45,2) -> 30.87 | F45: Decreto-Lei nº 2.318/86
A46: F | B46: SEBRAE | C46: 0.006 | D46: =ROUND($D$27*C46,2) -> 18.52 | F46: Art. 8º, §3º, Lei nº 8.029/90
A47: G | B47: INCRA | C47: 0.002 | D47: =ROUND($D$27*C47,2) -> 6.17 | F47: Lei nº 2.613/55; art. 1º, I, Decreto-Lei nº 1.146/70
A48: H | B48: FGTS | C48: 0.08 | D48: =ROUND($D$27*C48,2) -> 246.96 | F48: Art. 7º, Inciso III, da CF/88, c/c o art. 15, Lei nº 8.036/90
A49: TOTAL | C49: =ROUND(SUM(C41:C48),4) -> 0.3599 | D49: =ROUND(SUM(D41:D48),2) -> 1111.02 | F49: Nota 1: Os percentuais dos encargos previdenciários, do FGTS e demais contribuições são aqueles estabelecidos pela legislação vigente.
...

Sheet 2
A1: PLANILHA DE CUSTOS E FORMAÇÃO DE PREÇOS
A3: PROCESSO LICITATÓRIO Nº: 177/2025
A4: PREGÃO Nº: 1772025
A7: Discriminação dos Serviços (dados referentes à contratação)
A8: A | B8: Data da apresentação da proposta (dia/mês/ano) | D8: 45783
A9: B | B9: Município onde será executado o serviço: | D9: PARANAGUÁ/ANTONINA
A10: C | B10: Nº de Registro da Convenção Coletiva de Trabalho no MTE: | D10: =VLOOKUP(A14,'Entrada de dados'!$A$1:$N$8,2,FALSE) -> PR000074/2025
A11: D | B11: Nº de meses de execução contratual | D11: 30
A13: IDENTIFICAÇÃO DO SERVIÇO | C13: UNIDADE DE MEDIDA | D13: QTDE
A14: ='Quadro Resumo'!D5 -> ENCARREGADO + DE 20 EMPREGADOS | C14: Posto de Serviço | D14: =VLOOKUP(A14,'Quadro Resumo'!D3:G13,4,FALSE) -> 4
A16: Carga horaria semanal | D16: 44
A17: Data base da categoria (dia / mês / ano): | D17: 45689
A19: Módulo 1: COMPOSIÇÃO DA REMUNERAÇÃO
A20: 1 | B20: Composição da Remuneração | D20: Valor (R$)
A21: A | B21: Salário Base | D21: =VLOOKUP(A14,'Entrada de dados'!A2:H8,3,FALSE)/44*'2'!D16 -> 2232 | F21: De acordo com a CCT
A22: B | B22: Adicional de periculosidade | F22: Conforme obrigatoriedade da legislação de regência.
A23: C | B23: Adicional de insalubridade | D23: 0 | F23: DEVERÁ SER UTILIZADA A PORCENTAGEM DE 20%, PARA APRESENTAÇÃO DE TODAS AS PLANILHAS.
A24: D | B24: Adicional noturno | F24: Conforme obrigatoriedade da legislação de regência.
A25: E | B25: Adicional de hora noturna reduzida | F25: Conforme obrigatoriedade da legislação de regência.
A26: F | B26: Cumulação de função | D26: 0 | F26: Conforme obrigatoriedade da legislação de regência.
A27: Total da Remuneração | D27: =SUM(D21:D26) -> 2232
A29: Módulo 2: ENCARGOS E BENEFÍCIOS ANUAIS, MENSAIS E DIÁRIOS
A31: Submódulo 2.1 - 13º (décimo terceiro) Salário, Férias e Adicional de Férias
A32: 2.1 | B32: 13º Salário, Férias e Adicional de Férias | C32: Percentual (%) | D32: Valor (R$)
A33: A | B33: 13º (décimo terceiro) Salário | C33: 0.0833 | D33: =ROUND($D$27*C33,2) -> 185.93 | F33: 1/12 (um doze avos) do total da remuneração.
A34: B | B34: Adicional de Férias | C34: 0.0278 | D34: =ROUND($D$27*C34,2) -> 62.05 | F34: Conforme previsão da IN 05/2017
A35: C | B35: Subtotal | C35: =SUM(C33:C34) -> 0.1111 | D35: =SUM(D33:D34) -> 247.98
A36: D | B36: Incidência do submódulo 2.2 sobre o submódulo 2.1 | C36: =C35*C49 -> 0.04 | D36: =ROUND($D$27*C36,2) -> 89.28
A37: TOTAL | C37: =SUM(C35:C36) -> 0.1511 | D37: =SUM(D35:D36) -> 337.26
A39: Submódulo 2.2 - Encargos Previdenciários (GPS), Fundo de Garantia por Tempo de Serviço (FGTS) e outras contribuições.
A40: 2.2 | B40: GPS, FGTS e outras contribuições | C40: Percentual (%) | D40: Valor (R$)
A41: A | B41: INSS | C41: 0.2 | D41: =ROUND($D$27*C41,2) -> 446.4 | F41: Art. 195, I, "A", Constituição Federal de 1988; art. 22, inciso I, da Lei 8.212/91
A42: B | B42: Salário Educação | C42: 0.025 | D42: =ROUND($D$27*C42,2) -> 55.8 | F42: Art. 212, § 5º da CF/88; Decreto-Lei nº 1.422/75
A43: C | B43: SAT | C43: =2%*1.0942 -> 0.0219 | D43: =ROUND($D$27*C43,2) -> 48.88 | F43: Art. 22, inciso II, da Lei nº 8.212/91 - De acordo com o percentual constante na GEFIP.
A44: D | B44: SESC ou SESI | C44: 0.015 | D44: =ROUND($D$27*C44,2) -> 33.48 | F44: Art. 30 da Lei nº 8.036/90; Decreto n.º 2.318/86
A45: E | B45: SENAI - SENAC | C45: 0.01 | D45: =ROUND($D$27*C45,2) -> 22.32 | F45: Decreto-Lei nº 2.318/86
A46: F | B46: SEBRAE | C46: 0.006 | D46: =ROUND($D$27*C46,2) -> 13.39 | F46: Art. 8º, §3º, Lei nº 8.029/90
A47: G | B47: INCRA | C47: 0.002 | D47: =ROUND($D$27*C47,2) -> 4.46 | F47: Lei nº 2.613/55; art. 1º, I, Decreto-Lei nº 1.146/70
A48: H | B48: FGTS | C48: 0.08 | D48: =ROUND($D$27*C48,2) -> 178.56 | F48: Art. 7º, Inciso III, da CF/88, c/c o art. 15, Lei nº 8.036/90
A49: TOTAL | C49: =ROUND(SUM(C41:C48),4) -> 0.3599 | D49: =ROUND(SUM(D41:D48),2) -> 803.29 | F49: Nota 1: Os percentuais dos encargos previdenciários, do FGTS e demais contribuições são aqueles estabelecidos pela legislação vigente.
...

Sheet 3
A1: PLANILHA DE CUSTOS E FORMAÇÃO DE PREÇOS
A3: PROCESSO LICITATÓRIO Nº: 177/2025
A4: PREGÃO Nº: 1772025
A7: Discriminação dos Serviços (dados referentes à contratação)
A8: A | B8: Data da apresentação da proposta (dia/mês/ano) | D8: 45783
A9: B | B9: Município onde será executado o serviço: | D9: PARANAGUÁ/ANTONINA
A10: C | B10: Nº de Registro da Convenção Coletiva de Trabalho no MTE: | D10: =VLOOKUP(A14,'Entrada de dados'!$A$1:$N$8,2,FALSE) -> PR000456/2025
A11: D | B11: Nº de meses de execução contratual | D11: 30
A13: IDENTIFICAÇÃO DO SERVIÇO | C13: UNIDADE DE MEDIDA | D13: QTDE
A14: ='Quadro Resumo'!D6 -> MEIO OFICIAL DE MANUTENÇÃO | C14: Posto de Serviço | D14: =VLOOKUP(A14,'Quadro Resumo'!D3:G13,4,FALSE) -> 3
A16: Carga horaria semanal | D16: 44
A17: Data base da categoria (dia / mês / ano): | D17: 45689
A19: Módulo 1: COMPOSIÇÃO DA REMUNERAÇÃO
A20: 1 | B20: Composição da Remuneração | D20: Valor (R$)
A21: A | B21: Salário Base | D21: =VLOOKUP(A14,'Entrada de dados'!A2:H8,3,FALSE)/44*'3'!D16 -> 2689 | F21: De acordo com a CCT
A22: B | B22: Adicional de periculosidade | F22: Conforme obrigatoriedade da legislação de regência.
A23: C | B23: Adicional de insalubridade | D23: 0 | F23: DEVERÁ SER UTILIZADA A PORCENTAGEM DE 20%, PARA APRESENTAÇÃO DE TODAS AS PLANILHAS.
A24: D | B24: Adicional noturno | F24: Conforme obrigatoriedade da legislação de regência.
A25: E | B25: Adicional de hora noturna reduzida | F25: Conforme obrigatoriedade da legislação de regência.
A26: F | B26: Cumulação de função | D26: 0 | F26: Conforme obrigatoriedade da legislação de regência.
A27: Total da Remuneração | D27: =SUM(D21:D26) -> 2689
A29: Módulo 2: ENCARGOS E BENEFÍCIOS ANUAIS, MENSAIS E DIÁRIOS
A31: Submódulo 2.1 - 13º (décimo terceiro) Salário, Férias e Adicional de Férias
A32: 2.1 | B32: 13º Salário, Férias e Adicional de Férias | C32: Percentual (%) | D32: Valor (R$)
A33: A | B33: 13º (décimo terceiro) Salário | C33: 0.0833 | D33: =ROUND($D$27*C33,2) -> 223.99 | F33: 1/12 (um doze avos) do total da remuneração.
A34: B | B34: Adicional de Férias | C34: 0.0278 | D34: =ROUND($D$27*C34,2) -> 74.75 | F34: Conforme previsão da IN 05/2017
A35: C | B35: Subtotal | C35: =SUM(C33:C34) -> 0.1111 | D35: =SUM(D33:D34) -> 298.74
A36: D | B36: Incidência do submódulo 2.2 sobre o submódulo 2.1 | C36: =C35*C49 -> 0.04 | D36: =ROUND($D$27*C36,2) -> 107.56
A37: TOTAL | C37: =SUM(C35:C36) -> 0.1511 | D37: =SUM(D35:D36) -> 406.3
A39: Submódulo 2.2 - Encargos Previdenciários (GPS), Fundo de Garantia por Tempo de Serviço (FGTS) e outras contribuições.
A40: 2.2 | B40: GPS, FGTS e outras contribuições | C40: Percentual (%) | D40: Valor (R$)
A41: A | B41: INSS | C41: 0.2 | D41: =ROUND($D$27*C41,2) -> 537.8 | F41: Art. 195, I, "A", Constituição Federal de 1988; art. 22, inciso I, da Lei 8.212/91
A42: B | B42: Salário Educação | C42: 0.025 | D42: =ROUND($D$27*C42,2) -> 67.23 | F42: Art. 212, § 5º da CF/88; Decreto-Lei nº 1.422/75
A43: C | B43: SAT | C43: =2%*1.0942 -> 0.0219 | D43: =ROUND($D$27*C43,2) -> 58.89 | F43: Art. 22, inciso II, da Lei nº 8.212/91 - De acordo com o percentual constante na GEFIP.
A44: D | B44: SESC ou SESI | C44: 0.015 | D44: =ROUND($D$27*C44,2) -> 40.34 | F44: Art. 30 da Lei nº 8.036/90; Decreto n.º 2.318/86
A45: E | B45: SENAI - SENAC | C45: 0.01 | D45: =ROUND($D$27*C45,2) -> 26.89 | F45: Decreto-Lei nº 2.318/86
A46: F | B46: SEBRAE | C46: 0.006 | D46: =ROUND($D$27*C46,2) -> 16.13 | F46: Art. 8º, §3º, Lei nº 8.029/90
A47: G | B47: INCRA | C47: 0.002 | D47: =ROUND($D$27*C47,2) -> 5.38 | F47: Lei nº 2.613/55; art. 1º, I, Decreto-Lei nº 1.146/70
A48: H | B48: FGTS | C48: 0.08 | D48: =ROUND($D$27*C48,2) -> 215.12 | F48: Art. 7º, Inciso III, da CF/88, c/c o art. 15, Lei nº 8.036/90
A49: TOTAL | C49: =ROUND(SUM(C41:C48),4) -> 0.3599 | D49: =ROUND(SUM(D41:D48),2) -> 967.78 | F49: Nota 1: Os percentuais dos encargos previdenciários, do FGTS e demais contribuições são aqueles estabelecidos pela legislação vigente.
...

Sheet 4
A1: PLANILHA DE CUSTOS E FORMAÇÃO DE PREÇOS
A3: PROCESSO LICITATÓRIO Nº: 177/2025
A4: PREGÃO Nº: 1772025
A7: Discriminação dos Serviços (dados referentes à contratação)
A8: A | B8: Data da apresentação da proposta (dia/mês/ano) | D8: 45783
A9: B | B9: Município onde será executado o serviço: | D9: PARANAGUÁ/ANTONINA
A10: C | B10: Nº de Registro da Convenção Coletiva de Trabalho no MTE: | D10: =VLOOKUP(A14,'Entrada de dados'!$A$1:$N$8,2,FALSE) -> PR000074/2025
A11: D | B11: Nº de meses de execução contratual | D11: 30
A13: IDENTIFICAÇÃO DO SERVIÇO | C13: UNIDADE DE MEDIDA | D13: QTDE
A14: ='Quadro Resumo'!D7 -> COPEIRA | C14: Posto de Serviço | D14: =VLOOKUP(A14,'Quadro Resumo'!D3:G13,4,FALSE) -> 5
A16: Carga horaria semanal | D16: 44
A17: Data base da categoria (dia / mês / ano): | D17: 45689
A19: Módulo 1: COMPOSIÇÃO DA REMUNERAÇÃO
A20: 1 | B20: Composição da Remuneração | D20: Valor (R$)
A21: A | B21: Salário Base | D21: =VLOOKUP(A14,'Entrada de dados'!A2:H8,3,FALSE)/44*'4'!D16 -> 1821 | F21: De acordo com a CCT
A22: B | B22: Adicional de periculosidade | F22: Conforme obrigatoriedade da legislação de regência.
A23: C | B23: Adicional de insalubridade | D23: 0 | F23: DEVERÁ SER UTILIZADA A PORCENTAGEM DE 20%, PARA APRESENTAÇÃO DE TODAS AS PLANILHAS.
A24: D | B24: Adicional noturno | F24: Conforme obrigatoriedade da legislação de regência.
A25: E | B25: Adicional de hora noturna reduzida | F25: Conforme obrigatoriedade da legislação de regência.
A26: F | B26: Cumulação de função | D26: 0 | F26: Conforme obrigatoriedade da legislação de regência.
A27: Total da Remuneração | D27: =SUM(D21:D26) -> 1821
A29: Módulo 2: ENCARGOS E BENEFÍCIOS ANUAIS, MENSAIS E DIÁRIOS
A31: Submódulo 2.1 - 13º (décimo terceiro) Salário, Férias e Adicional de Férias
A32: 2.1 | B32: 13º Salário, Férias e Adicional de Férias | C32: Percentual (%) | D32: Valor (R$)
A33: A | B33: 13º (décimo terceiro) Salário | C33: 0.0833 | D33: =ROUND($D$27*C33,2) -> 151.69 | F33: 1/12 (um doze avos) do total da remuneração.
A34: B | B34: Adicional de Férias | C34: 0.0278 | D34: =ROUND($D$27*C34,2) -> 50.62 | F34: Conforme previsão da IN 05/2017
A35: C | B35: Subtotal | C35: =SUM(C33:C34) -> 0.1111 | D35: =SUM(D33:D34) -> 202.31
A36: D | B36: Incidência do submódulo 2.2 sobre o submódulo 2.1 | C36: =C35*C49 -> 0.04 | D36: =ROUND($D$27*C36,2) -> 72.84
A37: TOTAL | C37: =SUM(C35:C36) -> 0.1511 | D37: =SUM(D35:D36) -> 275.15
A39: Submódulo 2.2 - Encargos Previdenciários (GPS), Fundo de Garantia por Tempo de Serviço (FGTS) e outras contribuições.
A40: 2.2 | B40: GPS, FGTS e outras contribuições | C40: Percentual (%) | D40: Valor (R$)
A41: A | B41: INSS | C41: 0.2 | D41: =ROUND($D$27*C41,2) -> 364.2 | F41: Art. 195, I, "A", Constituição Federal de 1988; art. 22, inciso I, da Lei 8.212/91
A42: B | B42: Salário Educação | C42: 0.025 | D42: =ROUND($D$27*C42,2) -> 45.53 | F42: Art. 212, § 5º da CF/88; Decreto-Lei nº 1.422/75
A43: C | B43: SAT | C43: =2%*1.0942 -> 0.0219 | D43: =ROUND($D$27*C43,2) -> 39.88 | F43: Art. 22, inciso II, da Lei nº 8.212/91 - De acordo com o percentual constante na GEFIP.
A44: D | B44: SESC ou SESI | C44: 0.015 | D44: =ROUND($D$27*C44,2) -> 27.32 | F44: Art. 30 da Lei nº 8.036/90; Decreto n.º 2.318/86
A45: E | B45: SENAI - SENAC | C45: 0.01 | D45: =ROUND($D$27*C45,2) -> 18.21 | F45: Decreto-Lei nº 2.318/86
A46: F | B46: SEBRAE | C46: 0.006 | D46: =ROUND($D$27*C46,2) -> 10.93 | F46: Art. 8º, §3º, Lei nº 8.029/90
A47: G | B47: INCRA | C47: 0.002 | D47: =ROUND($D$27*C47,2) -> 3.64 | F47: Lei nº 2.613/55; art. 1º, I, Decreto-Lei nº 1.146/70
A48: H | B48: FGTS | C48: 0.08 | D48: =ROUND($D$27*C48,2) -> 145.68 | F48: Art. 7º, Inciso III, da CF/88, c/c o art. 15, Lei nº 8.036/90
A49: TOTAL | C49: =ROUND(SUM(C41:C48),4) -> 0.3599 | D49: =ROUND(SUM(D41:D48),2) -> 655.39 | F49: Nota 1: Os percentuais dos encargos previdenciários, do FGTS e demais contribuições são aqueles estabelecidos pela legislação vigente.
...

Sheet 5
A1: PLANILHA DE CUSTOS E FORMAÇÃO DE PREÇOS
A3: PROCESSO LICITATÓRIO Nº: 177/2025
A4: PREGÃO Nº: 1772025
A7: Discriminação dos Serviços (dados referentes à contratação)
A8: A | B8: Data da apresentação da proposta (dia/mês/ano) | D8: 45783
A9: B | B9: Município onde será executado o serviço: | D9: PARANAGUÁ/ANTONINA
A10: C | B10: Nº de Registro da Convenção Coletiva de Trabalho no MTE: | D10: =VLOOKUP(A14,'Entrada de dados'!$A$1:$N$8,2,FALSE) -> PR000074/2025
A11: D | B11: Nº de meses de execução contratual | D11: 30
A13: IDENTIFICAÇÃO DO SERVIÇO | C13: UNIDADE DE MEDIDA | D13: QTDE
A14: ='Quadro Resumo'!D8 -> JARDINEIRO | C14: Posto de Serviço | D14: =VLOOKUP(A14,'Quadro Resumo'!D3:G13,4,FALSE) -> 1
A16: Carga horaria semanal | D16: 44
A17: Data base da categoria (dia / mês / ano): | D17: 45689
A19: Módulo 1: COMPOSIÇÃO DA REMUNERAÇÃO
A20: 1 | B20: Composição da Remuneração | D20: Valor (R$)
A21: A | B21: Salário Base | D21: =VLOOKUP(A14,'Entrada de dados'!A2:H8,3,FALSE)/44*'5'!D16 -> 1884 | F21: De acordo com a CCT
A22: B | B22: Adicional de periculosidade | F22: Conforme obrigatoriedade da legislação de regência.
A23: C | B23: Adicional de insalubridade | D23: 0 | F23: DEVERÁ SER UTILIZADA A PORCENTAGEM DE 20%, PARA APRESENTAÇÃO DE TODAS AS PLANILHAS.
A24: D | B24: Adicional noturno | F24: Conforme obrigatoriedade da legislação de regência.
A25: E | B25: Adicional de hora noturna reduzida | F25: Conforme obrigatoriedade da legislação de regência.
A26: F | B26: Cumulação de função | D26: 0 | F26: Conforme obrigatoriedade da legislação de regência.
A27: Total da Remuneração | D27: =SUM(D21:D26) -> 1884
A29: Módulo 2: ENCARGOS E BENEFÍCIOS ANUAIS, MENSAIS E DIÁRIOS
A31: Submódulo 2.1 - 13º (décimo terceiro) Salário, Férias e Adicional de Férias
A32: 2.1 | B32: 13º Salário, Férias e Adicional de Férias | C32: Percentual (%) | D32: Valor (R$)
A33: A | B33: 13º (décimo terceiro) Salário | C33: 0.0833 | D33: =ROUND($D$27*C33,2) -> 156.94 | F33: 1/12 (um doze avos) do total da remuneração.
A34: B | B34: Adicional de Férias | C34: 0.0278 | D34: =ROUND($D$27*C34,2) -> 52.38 | F34: Conforme previsão da IN 05/2017
A35: C | B35: Subtotal | C35: =SUM(C33:C34) -> 0.1111 | D35: =SUM(D33:D34) -> 209.32
A36: D | B36: Incidência do submódulo 2.2 sobre o submódulo 2.1 | C36: =C35*C49 -> 0.04 | D36: =ROUND($D$27*C36,2) -> 75.36
A37: TOTAL | C37: =SUM(C35:C36) -> 0.1511 | D37: =SUM(D35:D36) -> 284.68
A39: Submódulo 2.2 - Encargos Previdenciários (GPS), Fundo de Garantia por Tempo de Serviço (FGTS) e outras contribuições.
A40: 2.2 | B40: GPS, FGTS e outras contribuições | C40: Percentual (%) | D40: Valor (R$)
A41: A | B41: INSS | C41: 0.2 | D41: =ROUND($D$27*C41,2) -> 376.8 | F41: Art. 195, I, "A", Constituição Federal de 1988; art. 22, inciso I, da Lei 8.212/91
A42: B | B42: Salário Educação | C42: 0.025 | D42: =ROUND($D$27*C42,2) -> 47.1 | F42: Art. 212, § 5º da CF/88; Decreto-Lei nº 1.422/75
A43: C | B43: SAT | C43: =2%*1.0942 -> 0.0219 | D43: =ROUND($D$27*C43,2) -> 41.26 | F43: Art. 22, inciso II, da Lei nº 8.212/91 - De acordo com o percentual constante na GEFIP.
A44: D | B44: SESC ou SESI | C44: 0.015 | D44: =ROUND($D$27*C44,2) -> 28.26 | F44: Art. 30 da Lei nº 8.036/90; Decreto n.º 2.318/86
A45: E | B45: SENAI - SENAC | C45: 0.01 | D45: =ROUND($D$27*C45,2) -> 18.84 | F45: Decreto-Lei nº 2.318/86
A46: F | B46: SEBRAE | C46: 0.006 | D46: =ROUND($D$27*C46,2) -> 11.3 | F46: Art. 8º, §3º, Lei nº 8.029/90
A47: G | B47: INCRA | C47: 0.002 | D47: =ROUND($D$27*C47,2) -> 3.77 | F47: Lei nº 2.613/55; art. 1º, I, Decreto-Lei nº 1.146/70
A48: H | B48: FGTS | C48: 0.08 | D48: =ROUND($D$27*C48,2) -> 150.72 | F48: Art. 7º, Inciso III, da CF/88, c/c o art. 15, Lei nº 8.036/90
A49: TOTAL | C49: =ROUND(SUM(C41:C48),4) -> 0.3599 | D49: =ROUND(SUM(D41:D48),2) -> 678.05 | F49: Nota 1: Os percentuais dos encargos previdenciários, do FGTS e demais contribuições são aqueles estabelecidos pela legislação vigente.
...

Sheet 6
A1: PLANILHA DE CUSTOS E FORMAÇÃO DE PREÇOS
A3: PROCESSO LICITATÓRIO Nº: 177/2025
A4: PREGÃO Nº: 1772025
A7: Discriminação dos Serviços (dados referentes à contratação)
A8: A | B8: Data da apresentação da proposta (dia/mês/ano) | D8: 45783
A9: B | B9: Município onde será executado o serviço: | D9: PARANAGUÁ/ANTONINA
A10: C | B10: Nº de Registro da Convenção Coletiva de Trabalho no MTE: | D10: =VLOOKUP(A14,'Entrada de dados'!$A$1:$N$8,2,FALSE) -> PR000074/2025
A11: D | B11: Nº de meses de execução contratual | D11: 30
A13: IDENTIFICAÇÃO DO SERVIÇO | C13: UNIDADE DE MEDIDA | D13: QTDE
A14: ='Quadro Resumo'!D9 -> SERVENTE DE LIMPEZA | C14: Posto de Serviço | D14: =VLOOKUP(A14,'Quadro Resumo'!D3:G13,4,FALSE) -> 42
A16: Carga horaria semanal | D16: 44
A17: Data base da categoria (dia / mês / ano): | D17: 45689
A19: Módulo 1: COMPOSIÇÃO DA REMUNERAÇÃO
A20: 1 | B20: Composição da Remuneração | D20: Valor (R$)
A21: A | B21: Salário Base | D21: =VLOOKUP(A14,'Entrada de dados'!A2:H8,3,FALSE)/44*'6'!D16 -> 1764 | F21: De acordo com a CCT
A22: B | B22: Adicional de periculosidade | F22: Conforme obrigatoriedade da legislação de regência.
A23: C | B23: Adicional de insalubridade | D23: 0 | F23: DEVERÁ SER UTILIZADA A PORCENTAGEM DE 20%, PARA APRESENTAÇÃO DE TODAS AS PLANILHAS.
A24: D | B24: Adicional noturno | F24: Conforme obrigatoriedade da legislação de regência.
A25: E | B25: Adicional de hora noturna reduzida | F25: Conforme obrigatoriedade da legislação de regência.
A26: F | B26: Cumulação de função | D26: 0 | F26: Conforme obrigatoriedade da legislação de regência.
A27: Total da Remuneração | D27: =SUM(D21:D26) -> 1764
A29: Módulo 2: ENCARGOS E BENEFÍCIOS ANUAIS, MENSAIS E DIÁRIOS
A31: Submódulo 2.1 - 13º (décimo terceiro) Salário, Férias e Adicional de Férias
A32: 2.1 | B32: 13º Salário, Férias e Adicional de Férias | C32: Percentual (%) | D32: Valor (R$)
A33: A | B33: 13º (décimo terceiro) Salário | C33: 0.0833 | D33: =ROUND($D$27*C33,2) -> 146.94 | F33: 1/12 (um doze avos) do total da remuneração.
A34: B | B34: Adicional de Férias | C34: 0.0278 | D34: =ROUND($D$27*C34,2) -> 49.04 | F34: Conforme previsão da IN 05/2017
A35: C | B35: Subtotal | C35: =SUM(C33:C34) -> 0.1111 | D35: =SUM(D33:D34) -> 195.98
A36: D | B36: Incidência do submódulo 2.2 sobre o submódulo 2.1 | C36: =C35*C49 -> 0.04 | D36: =ROUND($D$27*C36,2) -> 70.56
A37: TOTAL | C37: =SUM(C35:C36) -> 0.1511 | D37: =SUM(D35:D36) -> 266.54
A39: Submódulo 2.2 - Encargos Previdenciários (GPS), Fundo de Garantia por Tempo de Serviço (FGTS) e outras contribuições.
A40: 2.2 | B40: GPS, FGTS e outras contribuições | C40: Percentual (%) | D40: Valor (R$)
A41: A | B41: INSS | C41: 0.2 | D41: =ROUND($D$27*C41,2) -> 352.8 | F41: Art. 195, I, "A", Constituição Federal de 1988; art. 22, inciso I, da Lei 8.212/91
A42: B | B42: Salário Educação | C42: 0.025 | D42: =ROUND($D$27*C42,2) -> 44.1 | F42: Art. 212, § 5º da CF/88; Decreto-Lei nº 1.422/75
A43: C | B43: SAT | C43: =2%*1.0942 -> 0.0219 | D43: =ROUND($D$27*C43,2) -> 38.63 | F43: Art. 22, inciso II, da Lei nº 8.212/91 - De acordo com o percentual constante na GEFIP.
A44: D | B44: SESC ou SESI | C44: 0.015 | D44: =ROUND($D$27*C44,2) -> 26.46 | F44: Art. 30 da Lei nº 8.036/90; Decreto n.º 2.318/86
A45: E | B45: SENAI - SENAC | C45: 0.01 | D45: =ROUND($D$27*C45,2) -> 17.64 | F45: Decreto-Lei nº 2.318/86
A46: F | B46: SEBRAE | C46: 0.006 | D46: =ROUND($D$27*C46,2) -> 10.58 | F46: Art. 8º, §3º, Lei nº 8.029/90
A47: G | B47: INCRA | C47: 0.002 | D47: =ROUND($D$27*C47,2) -> 3.53 | F47: Lei nº 2.613/55; art. 1º, I, Decreto-Lei nº 1.146/70
A48: H | B48: FGTS | C48: 0.08 | D48: =ROUND($D$27*C48,2) -> 141.12 | F48: Art. 7º, Inciso III, da CF/88, c/c o art. 15, Lei nº 8.036/90
A49: TOTAL | C49: =ROUND(SUM(C41:C48),4) -> 0.3599 | D49: =ROUND(SUM(D41:D48),2) -> 634.86 | F49: Nota 1: Os percentuais dos encargos previdenciários, do FGTS e demais contribuições são aqueles estabelecidos pela legislação vigente.
...

Sheet 7
A1: PLANILHA DE CUSTOS E FORMAÇÃO DE PREÇOS
A3: PROCESSO LICITATÓRIO Nº: 177/2025
A4: PREGÃO Nº: 1772025
A7: Discriminação dos Serviços (dados referentes à contratação)
A8: A | B8: Data da apresentação da proposta (dia/mês/ano) | D8: 45783
A9: B | B9: Município onde será executado o serviço: | D9: PARANAGUÁ/ANTONINA
A10: C | B10: Nº de Registro da Convenção Coletiva de Trabalho no MTE: | D10: =VLOOKUP(A14,'Entrada de dados'!$A$1:$N$8,2,FALSE) -> PR000074/2025
A11: D | B11: Nº de meses de execução contratual | D11: 30
A13: IDENTIFICAÇÃO DO SERVIÇO | C13: UNIDADE DE MEDIDA | D13: QTDE
A14: ='Quadro Resumo'!D9 -> SERVENTE DE LIMPEZA | C14: Posto de Serviço | D14: =VLOOKUP(A14,'Quadro Resumo'!D3:G13,4,FALSE) -> 42
A16: Carga horaria semanal | D16: 44
A17: Data base da categoria (dia / mês / ano): | D17: 45689
A19: Módulo 1: COMPOSIÇÃO DA REMUNERAÇÃO
A20: 1 | B20: Composição da Remuneração | D20: Valor (R$)
A21: A | B21: Salário Base | D21: =VLOOKUP(A14,'Entrada de dados'!A2:H8,3,FALSE)/44*'7'!D16 -> 1764 | F21: De acordo com a CCT
A22: B | B22: Adicional de periculosidade | F22: Conforme obrigatoriedade da legislação de regência.
A23: C | B23: Adicional de insalubridade | D23: 0 | F23: DEVERÁ SER UTILIZADA A PORCENTAGEM DE 20%, PARA APRESENTAÇÃO DE TODAS AS PLANILHAS.
A24: D | B24: Adicional noturno | F24: Conforme obrigatoriedade da legislação de regência.
A25: E | B25: Adicional de hora noturna reduzida | F25: Conforme obrigatoriedade da legislação de regência.
A26: F | B26: Cumulação de função | D26: 0 | F26: Conforme obrigatoriedade da legislação de regência.
A27: Total da Remuneração | D27: =SUM(D21:D26) -> 1764
A29: Módulo 2: ENCARGOS E BENEFÍCIOS ANUAIS, MENSAIS E DIÁRIOS
A31: Submódulo 2.1 - 13º (décimo terceiro) Salário, Férias e Adicional de Férias
A32: 2.1 | B32: 13º Salário, Férias e Adicional de Férias | C32: Percentual (%) | D32: Valor (R$)
A33: A | B33: 13º (décimo terceiro) Salário | C33: 0.0833 | D33: =ROUND($D$27*C33,2) -> 146.94 | F33: 1/12 (um doze avos) do total da remuneração.
A34: B | B34: Adicional de Férias | C34: 0.0278 | D34: =ROUND($D$27*C34,2) -> 49.04 | F34: Conforme previsão da IN 05/2017
A35: C | B35: Subtotal | C35: =SUM(C33:C34) -> 0.1111 | D35: =SUM(D33:D34) -> 195.98
A36: D | B36: Incidência do submódulo 2.2 sobre o submódulo 2.1 | C36: =C35*C49 -> 0.04 | D36: =ROUND($D$27*C36,2) -> 70.56
A37: TOTAL | C37: =SUM(C35:C36) -> 0.1511 | D37: =SUM(D35:D36) -> 266.54
A39: Submódulo 2.2 - Encargos Previdenciários (GPS), Fundo de Garantia por Tempo de Serviço (FGTS) e outras contribuições.
A40: 2.2 | B40: GPS, FGTS e outras contribuições | C40: Percentual (%) | D40: Valor (R$)
A41: A | B41: INSS | C41: 0.2 | D41: =ROUND($D$27*C41,2) -> 352.8 | F41: Art. 195, I, "A", Constituição Federal de 1988; art. 22, inciso I, da Lei 8.212/91
A42: B | B42: Salário Educação | C42: 0.025 | D42: =ROUND($D$27*C42,2) -> 44.1 | F42: Art. 212, § 5º da CF/88; Decreto-Lei nº 1.422/75
A43: C | B43: SAT | C43: =2%*1.0942 -> 0.0219 | D43: =ROUND($D$27*C43,2) -> 38.63 | F43: Art. 22, inciso II, da Lei nº 8.212/91 - De acordo com o percentual constante na GEFIP.
A44: D | B44: SESC ou SESI | C44: 0.015 | D44: =ROUND($D$27*C44,2) -> 26.46 | F44: Art. 30 da Lei nº 8.036/90; Decreto n.º 2.318/86
A45: E | B45: SENAI - SENAC | C45: 0.01 | D45: =ROUND($D$27*C45,2) -> 17.64 | F45: Decreto-Lei nº 2.318/86
A46: F | B46: SEBRAE | C46: 0.006 | D46: =ROUND($D$27*C46,2) -> 10.58 | F46: Art. 8º, §3º, Lei nº 8.029/90
A47: G | B47: INCRA | C47: 0.002 | D47: =ROUND($D$27*C47,2) -> 3.53 | F47: Lei nº 2.613/55; art. 1º, I, Decreto-Lei nº 1.146/70
A48: H | B48: FGTS | C48: 0.08 | D48: =ROUND($D$27*C48,2) -> 141.12 | F48: Art. 7º, Inciso III, da CF/88, c/c o art. 15, Lei nº 8.036/90
A49: TOTAL | C49: =ROUND(SUM(C41:C48),4) -> 0.3599 | D49: =ROUND(SUM(D41:D48),2) -> 634.86 | F49: Nota 1: Os percentuais dos encargos previdenciários, do FGTS e demais contribuições são aqueles estabelecidos pela legislação vigente.
...

Sheet 8
A1: PLANILHA DE CUSTOS E FORMAÇÃO DE PREÇOS
A3: PROCESSO LICITATÓRIO Nº: 177/2025
A4: PREGÃO Nº: 1772025
A7: Discriminação dos Serviços (dados referentes à contratação)
A8: A | B8: Data da apresentação da proposta (dia/mês/ano) | D8: 45783
A9: B | B9: Município onde será executado o serviço: | D9: PARANAGUÁ/ANTONINA
A10: C | B10: Nº de Registro da Convenção Coletiva de Trabalho no MTE: | D10: =VLOOKUP(A14,'Entrada de dados'!$A$1:$N$8,2,FALSE) -> PR000074/2025
A11: D | B11: Nº de meses de execução contratual | D11: 30
A13: IDENTIFICAÇÃO DO SERVIÇO | C13: UNIDADE DE MEDIDA | D13: QTDE
A14: ='Quadro Resumo'!D9 -> SERVENTE DE LIMPEZA | C14: Posto de Serviço | D14: =VLOOKUP(A14,'Quadro Resumo'!D3:G13,4,FALSE) -> 42
A16: Carga horaria semanal | D16: 44
A17: Data base da categoria (dia / mês / ano): | D17: 45689
A19: Módulo 1: COMPOSIÇÃO DA REMUNERAÇÃO
A20: 1 | B20: Composição da Remuneração | D20: Valor (R$)
A21: A | B21: Salário Base | D21: =VLOOKUP(A14,'Entrada de dados'!A2:H8,3,FALSE)/44*'8'!D16 -> 1764 | F21: De acordo com a CCT
A22: B | B22: Adicional de periculosidade | F22: Conforme obrigatoriedade da legislação de regência.
A23: C | B23: Adicional de insalubridade | D23: 0 | F23: DEVERÁ SER UTILIZADA A PORCENTAGEM DE 20%, PARA APRESENTAÇÃO DE TODAS AS PLANILHAS.
A24: D | B24: Adicional noturno | D24: =D21/220*0.2*7*15 -> 168.38 | F24: Conforme obrigatoriedade da legislação de regência.
A25: E | B25: Adicional de hora noturna reduzida | D25: =D21/220*1.2*(((7*15)/52.5)*60-(7*15)) -> 144.33 | F25: Conforme obrigatoriedade da legislação de regência.
A26: F | B26: Cumulação de função | D26: 0 | F26: Conforme obrigatoriedade da legislação de regência.
A27: Total da Remuneração | D27: =SUM(D21:D26) -> 2076.71
A29: Módulo 2: ENCARGOS E BENEFÍCIOS ANUAIS, MENSAIS E DIÁRIOS
A31: Submódulo 2.1 - 13º (décimo terceiro) Salário, Férias e Adicional de Férias
A32: 2.1 | B32: 13º Salário, Férias e Adicional de Férias | C32: Percentual (%) | D32: Valor (R$)
A33: A | B33: 13º (décimo terceiro) Salário | C33: 0.0833 | D33: =ROUND($D$27*C33,2) -> 172.99 | F33: 1/12 (um doze avos) do total da remuneração.
A34: B | B34: Adicional de Férias | C34: 0.0278 | D34: =ROUND($D$27*C34,2) -> 57.73 | F34: Conforme previsão da IN 05/2017
A35: C | B35: Subtotal | C35: =SUM(C33:C34) -> 0.1111 | D35: =SUM(D33:D34) -> 230.72
A36: D | B36: Incidência do submódulo 2.2 sobre o submódulo 2.1 | C36: =C35*C49 -> 0.04 | D36: =ROUND($D$27*C36,2) -> 83.07
A37: TOTAL | C37: =SUM(C35:C36) -> 0.1511 | D37: =SUM(D35:D36) -> 313.79
A39: Submódulo 2.2 - Encargos Previdenciários (GPS), Fundo de Garantia por Tempo de Serviço (FGTS) e outras contribuições.
A40: 2.2 | B40: GPS, FGTS e outras contribuições | C40: Percentual (%) | D40: Valor (R$)
A41: A | B41: INSS | C41: 0.2 | D41: =ROUND($D$27*C41,2) -> 415.34 | F41: Art. 195, I, "A", Constituição Federal de 1988; art. 22, inciso I, da Lei 8.212/91
A42: B | B42: Salário Educação | C42: 0.025 | D42: =ROUND($D$27*C42,2) -> 51.92 | F42: Art. 212, § 5º da CF/88; Decreto-Lei nº 1.422/75
A43: C | B43: SAT | C43: =2%*1.0942 -> 0.0219 | D43: =ROUND($D$27*C43,2) -> 45.48 | F43: Art. 22, inciso II, da Lei nº 8.212/91 - De acordo com o percentual constante na GEFIP.
A44: D | B44: SESC ou SESI | C44: 0.015 | D44: =ROUND($D$27*C44,2) -> 31.15 | F44: Art. 30 da Lei nº 8.036/90; Decreto n.º 2.318/86
A45: E | B45: SENAI - SENAC | C45: 0.01 | D45: =ROUND($D$27*C45,2) -> 20.77 | F45: Decreto-Lei nº 2.318/86
A46: F | B46: SEBRAE | C46: 0.006 | D46: =ROUND($D$27*C46,2) -> 12.46 | F46: Art. 8º, §3º, Lei nº 8.029/90
A47: G | B47: INCRA | C47: 0.002 | D47: =ROUND($D$27*C47,2) -> 4.15 | F47: Lei nº 2.613/55; art. 1º, I, Decreto-Lei nº 1.146/70
A48: H | B48: FGTS | C48: 0.08 | D48: =ROUND($D$27*C48,2) -> 166.14 | F48: Art. 7º, Inciso III, da CF/88, c/c o art. 15, Lei nº 8.036/90
A49: TOTAL | C49: =ROUND(SUM(C41:C48),4) -> 0.3599 | D49: =ROUND(SUM(D41:D48),2) -> 747.41 | F49: Nota 1: Os percentuais dos encargos previdenciários, do FGTS e demais contribuições são aqueles estabelecidos pela legislação vigente.
...

Sheet 9
A1: PLANILHA DE CUSTOS E FORMAÇÃO DE PREÇOS
A3: PROCESSO LICITATÓRIO Nº: 177/2025
A4: PREGÃO Nº: 1772025
A7: Discriminação dos Serviços (dados referentes à contratação)
A8: A | B8: Data da apresentação da proposta (dia/mês/ano) | D8: 45783
A9: B | B9: Município onde será executado o serviço: | D9: PARANAGUÁ/ANTONINA
A10: C | B10: Nº de Registro da Convenção Coletiva de Trabalho no MTE: | D10: =VLOOKUP(A14,'Entrada de dados'!$A$1:$N$8,2,FALSE) -> PR000074/2025
A11: D | B11: Nº de meses de execução contratual | D11: 30
A13: IDENTIFICAÇÃO DO SERVIÇO | C13: UNIDADE DE MEDIDA | D13: QTDE
A14: ='Quadro Resumo'!D9 -> SERVENTE DE LIMPEZA | C14: Posto de Serviço | D14: =VLOOKUP(A14,'Quadro Resumo'!D3:G13,4,FALSE) -> 42
A16: Carga horaria semanal | D16: 44
A17: Data base da categoria (dia / mês / ano): | D17: 45689
A19: Módulo 1: COMPOSIÇÃO DA REMUNERAÇÃO
A20: 1 | B20: Composição da Remuneração | D20: Valor (R$)
A21: A | B21: Salário Base | D21: =VLOOKUP(A14,'Entrada de dados'!A2:H8,3,FALSE)/44*'9'!D16 -> 1764 | F21: De acordo com a CCT
A22: B | B22: Adicional de periculosidade | F22: Conforme obrigatoriedade da legislação de regência.
A23: C | B23: Adicional de insalubridade | D23: ='Entrada de dados'!C8*40% -> 607.2 | F23: DEVERÁ SER UTILIZADA A PORCENTAGEM DE 20%, PARA APRESENTAÇÃO DE TODAS AS PLANILHAS.
A24: D | B24: Adicional noturno | F24: Conforme obrigatoriedade da legislação de regência.
A25: E | B25: Adicional de hora noturna reduzida | F25: Conforme obrigatoriedade da legislação de regência.
A26: F | B26: Cumulação de função | D26: 0 | F26: Conforme obrigatoriedade da legislação de regência.
A27: Total da Remuneração | D27: =SUM(D21:D26) -> 2371.2
A29: Módulo 2: ENCARGOS E BENEFÍCIOS ANUAIS, MENSAIS E DIÁRIOS
A31: Submódulo 2.1 - 13º (décimo terceiro) Salário, Férias e Adicional de Férias
A32: 2.1 | B32: 13º Salário, Férias e Adicional de Férias | C32: Percentual (%) | D32: Valor (R$)
A33: A | B33: 13º (décimo terceiro) Salário | C33: 0.0833 | D33: =ROUND($D$27*C33,2) -> 197.52 | F33: 1/12 (um doze avos) do total da remuneração.
A34: B | B34: Adicional de Férias | C34: 0.0278 | D34: =ROUND($D$27*C34,2) -> 65.92 | F34: Conforme previsão da IN 05/2017
A35: C | B35: Subtotal | C35: =SUM(C33:C34) -> 0.1111 | D35: =SUM(D33:D34) -> 263.44
A36: D | B36: Incidência do submódulo 2.2 sobre o submódulo 2.1 | C36: =C35*C49 -> 0.04 | D36: =ROUND($D$27*C36,2) -> 94.85
A37: TOTAL | C37: =SUM(C35:C36) -> 0.1511 | D37: =SUM(D35:D36) -> 358.29
A39: Submódulo 2.2 - Encargos Previdenciários (GPS), Fundo de Garantia por Tempo de Serviço (FGTS) e outras contribuições.
A40: 2.2 | B40: GPS, FGTS e outras contribuições | C40: Percentual (%) | D40: Valor (R$)
A41: A | B41: INSS | C41: 0.2 | D41: =ROUND($D$27*C41,2) -> 474.24 | F41: Art. 195, I, "A", Constituição Federal de 1988; art. 22, inciso I, da Lei 8.212/91
A42: B | B42: Salário Educação | C42: 0.025 | D42: =ROUND($D$27*C42,2) -> 59.28 | F42: Art. 212, § 5º da CF/88; Decreto-Lei nº 1.422/75
A43: C | B43: SAT | C43: =2%*1.0942 -> 0.0219 | D43: =ROUND($D$27*C43,2) -> 51.93 | F43: Art. 22, inciso II, da Lei nº 8.212/91 - De acordo com o percentual constante na GEFIP.
A44: D | B44: SESC ou SESI | C44: 0.015 | D44: =ROUND($D$27*C44,2) -> 35.57 | F44: Art. 30 da Lei nº 8.036/90; Decreto n.º 2.318/86
A45: E | B45: SENAI - SENAC | C45: 0.01 | D45: =ROUND($D$27*C45,2) -> 23.71 | F45: Decreto-Lei nº 2.318/86
A46: F | B46: SEBRAE | C46: 0.006 | D46: =ROUND($D$27*C46,2) -> 14.23 | F46: Art. 8º, §3º, Lei nº 8.029/90
A47: G | B47: INCRA | C47: 0.002 | D47: =ROUND($D$27*C47,2) -> 4.74 | F47: Lei nº 2.613/55; art. 1º, I, Decreto-Lei nº 1.146/70
A48: H | B48: FGTS | C48: 0.08 | D48: =ROUND($D$27*C48,2) -> 189.7 | F48: Art. 7º, Inciso III, da CF/88, c/c o art. 15, Lei nº 8.036/90
A49: TOTAL | C49: =ROUND(SUM(C41:C48),4) -> 0.3599 | D49: =ROUND(SUM(D41:D48),2) -> 853.4 | F49: Nota 1: Os percentuais dos encargos previdenciários, do FGTS e demais contribuições são aqueles estabelecidos pela legislação vigente.
...

Sheet 10
A1: PLANILHA DE CUSTOS E FORMAÇÃO DE PREÇOS
A3: PROCESSO LICITATÓRIO Nº: 177/2025
A4: PREGÃO Nº: 1772025
A7: Discriminação dos Serviços (dados referentes à contratação)
A8: A | B8: Data da apresentação da proposta (dia/mês/ano) | D8: 45783
A9: B | B9: Município onde será executado o serviço: | D9: PARANAGUÁ/ANTONINA
A10: C | B10: Nº de Registro da Convenção Coletiva de Trabalho no MTE: | D10: =VLOOKUP(A14,'Entrada de dados'!$A$1:$N$8,2,FALSE) -> PR000074/2025
A11: D | B11: Nº de meses de execução contratual | D11: 30
A13: IDENTIFICAÇÃO DO SERVIÇO | C13: UNIDADE DE MEDIDA | D13: QTDE
A14: ='Quadro Resumo'!D9 -> SERVENTE DE LIMPEZA | C14: Posto de Serviço | D14: =VLOOKUP(A14,'Quadro Resumo'!D3:G13,4,FALSE) -> 42
A16: Carga horaria semanal | D16: 44
A17: Data base da categoria (dia / mês / ano): | D17: 45689
A19: Módulo 1: COMPOSIÇÃO DA REMUNERAÇÃO
A20: 1 | B20: Composição da Remuneração | D20: Valor (R$)
A21: A | B21: Salário Base | D21: =VLOOKUP(A14,'Entrada de dados'!A2:H8,3,FALSE)/44*'10'!D16 -> 1764 | F21: De acordo com a CCT
A22: B | B22: Adicional de periculosidade | F22: Conforme obrigatoriedade da legislação de regência.
A23: C | B23: Adicional de insalubridade | D23: ='Entrada de dados'!C8*40% -> 607.2 | F23: DEVERÁ SER UTILIZADA A PORCENTAGEM DE 20%, PARA APRESENTAÇÃO DE TODAS AS PLANILHAS.
A24: D | B24: Adicional noturno | D24: =(D21+D23)/220*0.2*7*15 -> 226.34 | F24: Conforme obrigatoriedade da legislação de regência.
A25: E | B25: Adicional de hora noturna reduzida | D25: =(D21+D23)/220*1.2*(((7*15)/52.5)*60-(7*15)) -> 194.01 | F25: Conforme obrigatoriedade da legislação de regência.
A26: F | B26: Cumulação de função | D26: 0 | F26: Conforme obrigatoriedade da legislação de regência.
A27: Total da Remuneração | D27: =SUM(D21:D26) -> 2791.55
A29: Módulo 2: ENCARGOS E BENEFÍCIOS ANUAIS, MENSAIS E DIÁRIOS
A31: Submódulo 2.1 - 13º (décimo terceiro) Salário, Férias e Adicional de Férias
A32: 2.1 | B32: 13º Salário, Férias e Adicional de Férias | C32: Percentual (%) | D32: Valor (R$)
A33: A | B33: 13º (décimo terceiro) Salário | C33: 0.0833 | D33: =ROUND($D$27*C33,2) -> 232.54 | F33: 1/12 (um doze avos) do total da remuneração.
A34: B | B34: Adicional de Férias | C34: 0.0278 | D34: =ROUND($D$27*C34,2) -> 77.61 | F34: Conforme previsão da IN 05/2017
A35: C | B35: Subtotal | C35: =SUM(C33:C34) -> 0.1111 | D35: =SUM(D33:D34) -> 310.15
A36: D | B36: Incidência do submódulo 2.2 sobre o submódulo 2.1 | C36: =C35*C49 -> 0.04 | D36: =ROUND($D$27*C36,2) -> 111.66
A37: TOTAL | C37: =SUM(C35:C36) -> 0.1511 | D37: =SUM(D35:D36) -> 421.81
A39: Submódulo 2.2 - Encargos Previdenciários (GPS), Fundo de Garantia por Tempo de Serviço (FGTS) e outras contribuições.
A40: 2.2 | B40: GPS, FGTS e outras contribuições | C40: Percentual (%) | D40: Valor (R$)
A41: A | B41: INSS | C41: 0.2 | D41: =ROUND($D$27*C41,2) -> 558.31 | F41: Art. 195, I, "A", Constituição Federal de 1988; art. 22, inciso I, da Lei 8.212/91
A42: B | B42: Salário Educação | C42: 0.025 | D42: =ROUND($D$27*C42,2) -> 69.79 | F42: Art. 212, § 5º da CF/88; Decreto-Lei nº 1.422/75
A43: C | B43: SAT | C43: =2%*1.0942 -> 0.0219 | D43: =ROUND($D$27*C43,2) -> 61.13 | F43: Art. 22, inciso II, da Lei nº 8.212/91 - De acordo com o percentual constante na GEFIP.
A44: D | B44: SESC ou SESI | C44: 0.015 | D44: =ROUND($D$27*C44,2) -> 41.87 | F44: Art. 30 da Lei nº 8.036/90; Decreto n.º 2.318/86
A45: E | B45: SENAI - SENAC | C45: 0.01 | D45: =ROUND($D$27*C45,2) -> 27.92 | F45: Decreto-Lei nº 2.318/86
A46: F | B46: SEBRAE | C46: 0.006 | D46: =ROUND($D$27*C46,2) -> 16.75 | F46: Art. 8º, §3º, Lei nº 8.029/90
A47: G | B47: INCRA | C47: 0.002 | D47: =ROUND($D$27*C47,2) -> 5.58 | F47: Lei nº 2.613/55; art. 1º, I, Decreto-Lei nº 1.146/70
A48: H | B48: FGTS | C48: 0.08 | D48: =ROUND($D$27*C48,2) -> 223.32 | F48: Art. 7º, Inciso III, da CF/88, c/c o art. 15, Lei nº 8.036/90
A49: TOTAL | C49: =ROUND(SUM(C41:C48),4) -> 0.3599 | D49: =ROUND(SUM(D41:D48),2) -> 1004.67 | F49: Nota 1: Os percentuais dos encargos previdenciários, do FGTS e demais contribuições são aqueles estabelecidos pela legislação vigente.
...

Sheet insumos
B1: UNIFORME SERVENTE
B2: DESCRIÇÃO | C2: QTDE ANUAL | D2: VALOR UNITÁRIO | E2: VALOR TOTAL | F2: VALOR MENSAL
B3: CALÇA - Sarja Brim 100% algodão com identificação da empresa | C3: 2 | D3: 40 | E3: =D3*C3 -> 80 | F3: =E3/12 -> 6.67
B4: CAMISETA MANGA CURTA - 100% algodão, com identificação da empresa | C4: 2 | D4: 17 | E4: =D4*C4 -> 34 | F4: =E4/12 -> 2.83
B5: CAMISETA MANGA LONGA - 100% algodão, com identificação da empresa | C5: 2 | D5: 20 | E5: =D5*C5 -> 40 | F5: =E5/12 -> 3.33
B6: CRACHÁ - cordão com trava de segurança | C6: 1 | D6: 5 | E6: =D6*C6 -> 5 | F6: =E6/12 -> 0.42
B7: LUVAS DE BORRACHA - confeccionada em borracha natural, revestimento interno de verniz silver, antialérgica, superfície externa antiderrapante na palma e face palmar dos dedos, lisa na parte dorsal e punhos, impermeáveis, resistentes a (os): produtos químicos de limpeza, rasgamento e perfurações por punção, embalagem contendo o par, com Certificado de Aprovação - CA emitido pelo órgão competente. gravado na peça, cor azul. | C7: 6 | D7: 3.5 | E7: =D7*C7 -> 21 | F7: =E7/12 -> 1.75
B8: SAPATO DE SEGURANÇA - confeccionado em couro, fechamento com elástico, solado de poliuretano monodensidad | C8: 1 | D8: 40 | E8: =D8*C8 -> 40 | F8: =E8/12 -> 3.33
B9: OCULOS DE PROTEÇÃO - confeccionado em policarbonato óptico, com armação de nylon e hastes com comprimento regulável, filtro UVA/UVB | C9: 1 | D9: 10 | E9: =D9*C9 -> 10 | F9: =E9/12 -> 0.83
B10: VALOR MENSAL | F10: =SUM(F3:F9) -> 19.16
B12: UNIFORME ENCARREGADO
B13: DESCRIÇÃO | C13: QTDE ANUAL | D13: VALOR UNITÁRIO | E13: VALOR TOTAL | F13: VALOR MENSAL
B14: CALÇA - Sarja Brim 100% algodão com identificação da empresa | C14: 2 | D14: 40 | E14: =D14*C14 -> 80 | F14: =E14/12 -> 6.67
B15: CAMISETA MANGA CURTA - 100% algodão, com identificação da empresa | C15: 2 | D15: 17 | E15: =D15*C15 -> 34 | F15: =E15/12 -> 2.83
B16: CAMISETA MANGA LONGA - 100% algodão, com identificação da empresa | C16: 2 | D16: 20 | E16: =D16*C16 -> 40 | F16: =E16/12 -> 3.33
B17: CRACHÁ - cordão com trava de segurança | C17: 1 | D17: 5 | E17: =D17*C17 -> 5 | F17: =E17/12 -> 0.42
B18: SAPATO DE SEGURANÇA - confeccionado em couro, fechamento com elástico, solado de poliuretano monodensidad | C18: 2 | D18: 40 | E18: =D18*C18 -> 80 | F18: =E18/12 -> 6.67
B19: VALOR MENSAL | F19: =SUM(F14:F18) -> 19.92
B21: UNIFORME SUPERVISOR
B22: DESCRIÇÃO | C22: QTDE ANUAL | D22: VALOR UNITÁRIO | E22: VALOR TOTAL | F22: VALOR MENSAL
B23: CALÇA - Sarja Brim 100% algodão com identificação da empresa | C23: 2 | D23: 40 | E23: =D23*C23 -> 80 | F23: =E23/12 -> 6.67
B24: CAMISETA MANGA CURTA - 100% algodão, com identificação da empresa | C24: 2 | D24: 17 | E24: =D24*C24 -> 34 | F24: =E24/12 -> 2.83
B25: CAMISETA MANGA LONGA - 100% algodão, com identificação da empresa | C25: 2 | D25: 20 | E25: =D25*C25 -> 40 | F25: =E25/12 -> 3.33
B26: CRACHÁ - cordão com trava de segurança | C26: 1 | D26: 5 | E26: =D26*C26 -> 5 | F26: =E26/12 -> 0.42
B27: SAPATO DE SEGURANÇA - confeccionado em couro, fechamento com elástico, solado de poliuretano monodensidad | C27: 2 | D27: 40 | E27: =D27*C27 -> 80 | F27: =E27/12 -> 6.67
B28: VALOR MENSAL | F28: =SUM(F23:F27) -> 19.92
B30: UNIFORME COPEIRA
B31: DESCRIÇÃO | C31: QTDE ANUAL | D31: VALOR UNITÁRIO | E31: VALOR TOTAL | F31: VALOR MENSAL
B32: JALECO - algodão 100% com identificação da empresa | C32: 2 | D32: 35 | E32: =D32*C32 -> 70 | F32: =E32/12 -> 5.83
B33: CALÇA - Sarja Brim 100% algodão com identificação da empresa | C33: 2 | D33: 40 | E33: =D33*C33 -> 80 | F33: =E33/12 -> 6.67
B34: CAMISETA MANGA CURTA - 100% algodão, com identificação da empresa | C34: 2 | D34: 17 | E34: =D34*C34 -> 34 | F34: =E34/12 -> 2.83
B35: CAMISETA MANGA LONGA - 100% algodão, com identificação da empresa | C35: 2 | D35: 20 | E35: =D35*C35 -> 40 | F35: =E35/12 -> 3.33
B36: TOUCA - descartável, polipropileno não tecido, cor branca | C36: 1 | D36: 5 | E36: =D36*C36 -> 5 | F36: =E36/12 -> 0.42
B37: CRACHÁ - cordão com trava de segurança | C37: 1 | D37: 5 | E37: =D37*C37 -> 5 | F37: =E37/12 -> 0.42
B38: LUVAS DE BORRACHA - confeccionada em borracha natural, revestimento interno de verniz silver, antialérgica, superfície externa antiderrapante na palma e face palmar dos dedos, lisa na parte dorsal e punhos, impermeáveis, resistentes a (os): produtos químicos de limpeza, rasgamento e perfurações por punção, embalagem contendo o par, com Certificado de Aprovação - CA emitido pelo órgão competente. gravado na peça, cor azul. | C38: 6 | D38: 3.5 | E38: =D38*C38 -> 21 | F38: =E38/12 -> 1.75
B39: SAPATO DE SEGURANÇA - confeccionado em couro, fechamento com elástico, solado de poliuretano monodensidad | C39: 2 | D39: 40 | E39: =D39*C39 -> 80 | F39: =E39/12 -> 6.67
B40: VALOR MENSAL | F40: =SUM(F32:F39) -> 27.92
B42: UNIFORME JARDINEIRO E MEIO OFICIAL
B43: DESCRIÇÃO | C43: QTDE ANUAL | D43: VALOR UNITÁRIO | E43: VALOR TOTAL | F43: VALOR MENSAL
B44: BONÉ - brim 100% algodão, com protetor de nuca, ajuste por fivela ou velcro | C44: 2 | D44: 20 | E44: =D44*C44 -> 40 | F44: =E44/12 -> 3.33
...
