Workbook
Name __xlnm.Print_Area_1: #REF!
Name __xlnm.Print_Area_2: #REF!
Name __xlnm.Print_Area_2: #REF!
Name __xlnm.Print_Area_3: #REF!
Name __xlnm.Print_Area_3: #REF!
Name __xlnm.Print_Area_3_1: #REF!
Name __xlnm.Print_Area_3_1: #REF!
Name __xlnm.Print_Titles_1: #REF!
Name __xlnm.Print_Titles_2: #REF!
Name __xlnm.Print_Titles_2: #REF!
Name __xlnm.Print_Titles_3: #REF!
Name __xlnm.Print_Titles_3: #REF!
Name _R10P: #REF!
Name _R10P: #REF!
Name _R10R: #REF!
Name _R10R: #REF!
Name _R11P: #REF!
Name _R11P: #REF!
Name _R11R: #REF!
Name _R11R: #REF!
Name _R12P: #REF!
Name _R12P: #REF!
Name _R12R: #REF!
Name _R12R: #REF!
Name _R13P: #REF!
Name _R13P: #REF!
Name _R13R: #REF!
Name _R13R: #REF!
Name _R14P: #REF!
Name _R14P: #REF!
Name _R14R: #REF!
Name _R14R: #REF!
Name _R15P: #REF!
Name _R15P: #REF!
Name _R15R: #REF!
Name _R15R: #REF!
Name _R16P: #REF!
Name _R16P: #REF!
Name _R16R: #REF!
Name _R16R: #REF!
Name _R17P: #REF!
Name _R17P: #REF!
Name _R17R: #REF!
Name _R17R: #REF!
Name _R18P: #REF!
Name _R18P: #REF!
Name _R18R: #REF!
Name _R18R: #REF!
Name _R19P: #REF!
Name _R19P: #REF!
Name _R19R: #REF!
Name _R19R: #REF!
Name _R1P: #REF!
Name _R1P: #REF!
Name _R1R: #REF!
Name _R1R: #REF!
Name _R20P: #REF!
Name _R20P: #REF!
Name _R20R: #REF!
Name _R20R: #REF!

Sheet ANEXO VI
G3: DESCONTO | I3: 0.00070048426
A4: REESTRUTURAÇÃO RODOFERROVIÁRIA DA REGIÃO LESTE DO PORTO DE PARANAGUÁ | G4: R$ | H4: 60666425 | I4: R$ | J4: =TRUNC(SUM(J7:J102),2) -> 60623959
A5: ITEM | B5: DESCRIÇÃO | C5: CRITÉRIO DE MEDIÇÃO | D5: ÍNDICE DE REAJUSTAMENTO | E5: PESO (%) | G5: PREÇO MÁXIMO (C/ BDI) | I5: PROPOSTA LICITANTE
A6: 0 | B6: PROJETO EXECUTIVO
A7: 0.1 | B7: Elaboração de projeto executivo | C7: 90% conforme lista de documentos a serem entregues e seus pesos (sujeito à aprovação preliminar da APPA) | D7: Obras Rodoviárias DNIT - Consultoria | E7: 0.04291 | G7: R$ | H7: 2603445 | I7: R$ | J7: =TRUNC(H7/(1+$I$3),2) -> 2601622.6
C8: 10% documentação final e projetos "as-built" | D8: Obras Rodoviárias DNIT - Consultoria | E8: 0.00477 | G8: R$ | H8: 289271.67 | I8: R$ | J8: =TRUNC(H8/(1+$I$3),2) -> 289069.18
A9: 1 | B9: INSTALAÇÕES PROVISÓRIAS E GERENCIAMENTO DE OBRA
A10: 1.1 | B10: Canteiro de obras | C10: 25% na mobilização inicial do canteiro | D10: INCC-DI - FGV | E10: 0.00539 | G10: R$ | H10: 327140.47 | I10: R$ | J10: =TRUNC(H10/(1+$I$3),2) -> 326911.47
C11: 70% proporcional a execução financeira do contrato (excluídos itens 0 e 1) | D11: INCC-DI - FGV | E11: 0.0151 | G11: R$ | H11: 915993.32 | I11: R$ | J11: =TRUNC(H11/(1+$I$3),2) -> 915352.13
C12: 05% na desmobilização final do canteiro | D12: INCC-DI - FGV | E12: 0.00108 | G12: R$ | H12: 65428.09 | I12: R$ | J12: =TRUNC(H12/(1+$I$3),2) -> 65382.29
A13: 1.2 | B13: Mobilização e desmobilização de equipamentos | C13: % execução financeira do contrato (excluídos itens 0 e 1) | D13: Obras Rodoviárias DNIT - Mobilização e Desmobilização | E13: 0.00053 | G13: R$ | H13: 31939.84 | I13: R$ | J13: =TRUNC(H13/(1+$I$3),2) -> 31917.48
A14: 1.3 | B14: Administração local | C14: % execução financeira do contrato (excluídos itens 0 e 1) | D14: Obras Rodoviárias DNIT - Administração Local | E14: 0.08611 | G14: R$ | H14: 5223796.6 | I14: R$ | J14: =TRUNC(H14/(1+$I$3),2) -> 5220140
A15: 2 | B15: SERVIÇOS PRELIMINARES / DEMOLIÇÕES
A16: 2.1 | B16: SUPRESSÃO VEGETAL | C16: % área de supressão vegetal executada em relação ao total do projeto | D16: Obras Rodoviárias DNIT - Terraplenagem | E16: 0.00179 | G16: R$ | H16: 108699.91 | I16: R$ | J16: =TRUNC(H16/(1+$I$3),2) -> 108623.82
A17: 2.2 | B17: INTERFERÊNCIAS DESMONTES, DEMOLIÇÕES E REMOÇÕES | J17: =TRUNC(H17/(1+$I$3),2) -> 0
A18: 2.2.1 | B18: Demolição de vias férreas | C18: % comprimento executado sobre total do projeto | D18: Obras Ferroviárias DNIT - Super estrutura de via permanente (c/ fornecimento de material) | E18: 0.00686 | G18: R$ | H18: 416399.29 | I18: R$ | J18: =TRUNC(H18/(1+$I$3),2) -> 416107.81
A19: 2.2.2 | B19: Demolição de pavimento rígido e calçamentos existentes | C19: % área de demolição executada em relação ao total de projeto | D19: INCC-DI - FGV | E19: 0.01628 | G19: R$ | H19: 987476.05 | I19: R$ | J19: =TRUNC(H19/(1+$I$3),2) -> 986784.82
A20: 2.2.3 | B20: EDIFICAÇÃO E1 – Galpão das Balanças Ferroviárias de Entrada do Terminal | C20: 100% após demolição da edificação | D20: INCC-DI - FGV | E20: 0.00031 | G20: R$ | H20: 18980.73 | I20: R$ | J20: =TRUNC(H20/(1+$I$3),2) -> 18967.44
A21: 2.2.4 | B21: EDIFICAÇÃO E2 – Balanças Rodoviárias Saída das Moegas | C21: 100% após demolição da edificação | D21: INCC-DI - FGV | E21: 0.00031 | G21: R$ | H21: 18980.73 | I21: R$ | J21: =TRUNC(H21/(1+$I$3),2) -> 18967.44
A22: 2.2.5 | B22: EDIFICAÇÃO E3 - Casa de Controle das Balanças Rodoviárias de Saída dos Tombadores | C22: 100% após demolição da edificação | D22: INCC-DI - FGV | E22: 0.00016 | G22: R$ | H22: 9490.36 | I22: R$ | J22: =TRUNC(H22/(1+$I$3),2) -> 9483.71
A23: 2.2.6 | B23: EDIFICAÇÃO E4 – Galpão dos Tombadores e da Moega para Caçamba de 25 m | C23: 100% após demolição da edificação | D23: INCC-DI - FGV | E23: 0.00125 | G23: R$ | H23: 75922.92 | I23: R$ | J23: =TRUNC(H23/(1+$I$3),2) -> 75869.77
A24: 2.2.7 | B24: EDIFICAÇÃO E5 – Galpão das Balanças das Moegas 2 e 3 | C24: 100% após demolição da edificação | D24: INCC-DI - FGV | E24: 0.00078 | G24: R$ | H24: 47451.82 | I24: R$ | J24: =TRUNC(H24/(1+$I$3),2) -> 47418.6
A25: 2.2.8 | B25: EDIFICAÇÃO E6 - Guarita do Portão 8 | C25: 100% após demolição da edificação | D25: INCC-DI - FGV | E25: 0.00016 | G25: R$ | H25: 9490.36 | I25: R$ | J25: =TRUNC(H25/(1+$I$3),2) -> 9483.71
A26: 2.2.9 | B26: EDIFICAÇÃO E7 - Portaria da COAMO | C26: 100% após demolição da edificação | D26: INCC-DI - FGV | E26: 0.00016 | G26: R$ | H26: 9490.36 | I26: R$ | J26: =TRUNC(H26/(1+$I$3),2) -> 9483.71
A27: 2.3 | B27: CARGA MANOBRA E TRANSPORTE DE MATERIAL DEMOLIDO | C27: % execução financeira do item 2.2 | D27: Obras Rodoviárias DNIT - Terraplenagem | E27: 0.02798 | G27: R$ | H27: 1697389.4 | I27: R$ | J27: =TRUNC(H27/(1+$I$3),2) -> 1696201.2
A28: 2.4 | B28: RECUPERAÇÃO DE DISPOSITIVOS EXISTENTES | C28: 100% após recuperação dos dispositivos de drenagem existentes e que serão utilizados | D28: Obras Rodoviárias DNIT - Drenagem | E28: 0.00286 | G28: R$ | H28: 173291.75 | I28: R$ | J28: =TRUNC(H28/(1+$I$3),2) -> 173170.44
A29: 3 | B29: TERRAPLENAGEM (RODOVIÁRIA E FERROVIÁRIA)
A30: 3.1 | B30: ESCAVAÇÃO, CARGA E TRANSPORTE DE MATERIAL DE 1ª CATEGORIA | C30: % volume de escavação executado em relação ao volume total do projeto | D30: Obras Rodoviárias DNIT - Terraplenagem | E30: 0.03062 | G30: R$ | H30: 1857677.6 | I30: R$ | J30: =TRUNC(H30/(1+$I$3),2) -> 1856377.2
A31: 3.2 | B31: REGULARIZAÇÃO DO SUBLEITO | C31: % área regularizada em relação à aréa total a regularizar do projeto | D31: Obras Rodoviárias DNIT - Terraplenagem | E31: 0.00121 | G31: R$ | H31: 73488.67 | I31: R$ | J31: =TRUNC(H31/(1+$I$3),2) -> 73437.22
A32: 3.3 | B32: COMPACTAÇÃO DE ATERRO | C32: % volume de aterro executado sobre em relação ao volume total do projeto | D32: Obras Rodoviárias DNIT - Terraplenagem | E32: 0.00178 | G32: R$ | H32: 107843.73 | I32: R$ | J32: =TRUNC(H32/(1+$I$3),2) -> 107768.24
A33: 3.4 | B33: ESCAVAÇÃO DE CAVAS E VALAS | C33: % comprimento de valas para drenagens executadas em relação ao total do projeto | D33: Obras Rodoviárias DNIT - Terraplenagem | E33: 0.00091 | G33: R$ | H33: 55236.27 | I33: R$ | J33: =TRUNC(H33/(1+$I$3),2) -> 55197.6
A34: 3.5 | B34: REGULARIZAÇÃO DE CAVAS E VALAS | C34: % comprimento de valas para drenagens executadas em relação ao total do projeto | D34: Obras Rodoviárias DNIT - Terraplenagem | E34: 0.00024 | G34: R$ | H34: 14447.75 | I34: R$ | J34: =TRUNC(H34/(1+$I$3),2) -> 14437.63
A35: 3.6 | B35: REATERRO DE CAVAS E VALAS | C35: % comprimento de valas para drenagens executadas em relação ao total do projeto | D35: Obras Rodoviárias DNIT - Terraplenagem | E35: 0.00703 | G35: R$ | H35: 426428.62 | I35: R$ | J35: =TRUNC(H35/(1+$I$3),2) -> 426130.12
A36: 3.7 | B36: CARGA, DESCARGA E TRANSPORTE PARA BOTA FORA | C36: % volume removido sobre total previsto em projeto (com comprovação de destinação final) | D36: Obras Rodoviárias DNIT - Terraplenagem | E36: 0.00327 | G36: R$ | H36: 198245.39 | I36: R$ | J36: =TRUNC(H36/(1+$I$3),2) -> 198106.61
A37: 4 | B37: DRENAGEM E OBRAS DE ARTE CORRENTES
A38: 4.1 | B38: MEIO FIO | J38: =TRUNC(H38/(1+$I$3),2) -> 0
A39: 4.1.1 | B39: Meio-fio de concreto - MFC 01 - areia e brita comerciais - fôrma de madeira | C39: % meio fio tipo 01 executado sobre total dos projetos (pavimentação) | D39: Obras Rodoviárias DNIT - Drenagem | E39: 0.00366 | G39: R$ | H39: 221993.4 | I39: R$ | J39: =TRUNC(H39/(1+$I$3),2) -> 221838
A40: 4.1.2 | B40: Meio-fio de concreto - MFC 05 - areia e brita comerciais - fôrma de madeira | C40: % meio fio tipo 05 executado sobre total dos projetos (pavimentação) | D40: Obras Rodoviárias DNIT - Drenagem | E40: 0.00123 | G40: R$ | H40: 74443.55 | I40: R$ | J40: =TRUNC(H40/(1+$I$3),2) -> 74391.43
A41: 4.2 | B41: DRENOS | J41: =TRUNC(H41/(1+$I$3),2) -> 0
A42: 4.2.1 | B42: Dreno subsuperficial simples - DSS - tubo PEAD corrugado perfurado para drenagem - D = 250 MM - brita comercial | C42: % comprimento executado sobre total do projeto | D42: Obras Rodoviárias DNIT - Drenagem | E42: 0.01038 | G42: R$ | H42: 629437.54 | I42: R$ | J42: =TRUNC(H42/(1+$I$3),2) -> 628996.93
A43: 4.2.2 | B43: Dreno subsuperficial simples - DSS - tubos PEAD corrugado perfurado para drenagem - D = 400 MM - brita comercial | C43: % comprimento executado sobre total do projeto | D43: Obras Rodoviárias DNIT - Drenagem | E43: 0.00314 | G43: R$ | H43: 190393.82 | I43: R$ | J43: =TRUNC(H43/(1+$I$3),2) -> 190260.54
A44: 4.2.3 | B44: Dreno subsuperficial duplo - DSD - tubos PEAD corrugado perfurado para drenagem - D = 400 MM - brita comercial | C44: % comprimento executado sobre total do projeto | D44: Obras Rodoviárias DNIT - Drenagem | E44: 0.01387 | G44: R$ | H44: 841696.3 | I44: R$ | J44: =TRUNC(H44/(1+$I$3),2) -> 841107.11
A45: 4.3 | B45: CAIXAS | J45: =TRUNC(H45/(1+$I$3),2) -> 0
A46: 4.3.1 | B46: Caixa de ligação e passagem - CLP 19 - areia e brita comerciais | C46: % CLP 19 executadas em relação ao total do projeto | D46: Obras Rodoviárias DNIT - Drenagem | E46: 0.00019 | G46: R$ | H46: 11375.37 | I46: R$ | J46: =TRUNC(H46/(1+$I$3),2) -> 11367.4
A47: 4.3.2 | B47: Caixa de ligação e passagem - CLP 20 - areia e brita comerciais | C47: % CLP 20 executadas em relação ao total do projeto | D47: Obras Rodoviárias DNIT - Drenagem | E47: 0.00048 | G47: R$ | H47: 29050.28 | I47: R$ | J47: =TRUNC(H47/(1+$I$3),2) -> 29029.94
A48: 4.3.3 | B48: Caixa de ligação e passagem - CLP 21 - areia e brita comerciais | C48: % CLP 21 executadas em relação ao total do projeto | D48: Obras Rodoviárias DNIT - Drenagem | E48: 0.00045 | G48: R$ | H48: 27047.42 | I48: R$ | J48: =TRUNC(H48/(1+$I$3),2) -> 27028.48
A49: 4.3.4 | B49: Caixa de ligação e passagem - CLP 22 - areia e brita comerciais | C49: % CLP 22 executadas em relação ao total do projeto | D49: Obras Rodoviárias DNIT - Drenagem | E49: 0.00041 | G49: R$ | H49: 24732.8 | I49: R$ | J49: =TRUNC(H49/(1+$I$3),2) -> 24715.48
A50: 4.3.5 | B50: Caixa de ligação e passagem - CLP 23 - areia e brita comerciais | C50: % CLP 23 executadas em relação ao total do projeto | D50: Obras Rodoviárias DNIT - Drenagem | E50: 0.00032 | G50: R$ | H50: 19453.36 | I50: R$ | J50: =TRUNC(H50/(1+$I$3),2) -> 19439.74
A51: 4.4 | B51: BOCAS DE LOBO | J51: =TRUNC(H51/(1+$I$3),2) -> 0
A52: 4.4.1 | B52: Boca de lobo combinada - chapéu e grelha simples - BLC 01 - areia e brita comerciais | C52: % BLC 01 executadas em relação ao total do projeto | D52: Obras Rodoviárias DNIT - Drenagem | E52: 0.00025 | G52: R$ | H52: 15307.65 | I52: R$ | J52: =TRUNC(H52/(1+$I$3),2) -> 15296.93
A53: 4.4.2 | B53: Boca de lobo combinada - chapéu e grelha simples - BLC 02 - areia e brita comerciais | C53: % BLC 02 executadas em relação ao total do projeto | D53: Obras Rodoviárias DNIT - Drenagem | E53: 0.00239 | G53: R$ | H53: 145283.35 | I53: R$ | J53: =TRUNC(H53/(1+$I$3),2) -> 145181.65
A54: 4.4.3 | B54: Boca de lobo combinada - chapéu e grelha simples - BLC 03 - areia e brita comerciais | C54: % BLC 03 executadas em relação ao total do projeto | D54: Obras Rodoviárias DNIT - Drenagem | E54: 0.00161 | G54: R$ | H54: 97498.2 | I54: R$ | J54: =TRUNC(H54/(1+$I$3),2) -> 97429.95
A55: 4.4.4 | B55: Boca de lobo simples - grelha de concreto - BLSG 01 - areia e brita comerciais | C55: % BLSG 01 executadas em relação ao total do projeto | D55: Obras Rodoviárias DNIT - Drenagem | E55: 0.00059 | G55: R$ | H55: 35691.04 | I55: R$ | J55: =TRUNC(H55/(1+$I$3),2) -> 35666.05
A56: 4.4.5 | B56: Boca de lobo simples - grelha de concreto - BLSG 02 - areia e brita comerciais | C56: % BLSG 02 executadas em relação ao total do projeto | D56: Obras Rodoviárias DNIT - Drenagem | E56: 0.00052 | G56: R$ | H56: 31801.71 | I56: R$ | J56: =TRUNC(H56/(1+$I$3),2) -> 31779.44
A57: 4.5 | B57: REDES | J57: =TRUNC(H57/(1+$I$3),2) -> 0
A58: 4.5.1 | B58: Tubo PEAD para drenagem - D = 300 mm - fornecimento e instalação | C58: % comprimento de tubo PEAD d=300mm assentados | D58: Obras Rodoviárias DNIT - Drenagem | E58: 0.00075 | G58: R$ | H58: 45716.76 | I58: R$ | J58: =TRUNC(H58/(1+$I$3),2) -> 45684.75
A59: 4.5.2 | B59: Tubo PEAD para drenagem - D = 400 mm - fornecimento e instalação | C59: % comprimento de tubo PEAD d=400mm assentados | D59: Obras Rodoviárias DNIT - Drenagem | E59: 0.00212 | G59: R$ | H59: 128781.98 | I59: R$ | J59: =TRUNC(H59/(1+$I$3),2) -> 128691.83
A60: 4.5.3 | B60: Tubo PEAD para drenagem - D = 600 mm - fornecimento e instalação | C60: % comprimento de tubo PEAD d=600mm assentados | D60: Obras Rodoviárias DNIT - Drenagem | E60: 0.00646 | G60: R$ | H60: 391938.9 | I60: R$ | J60: =TRUNC(H60/(1+$I$3),2) -> 391664.54
A61: 4.5.4 | B61: Tubo PEAD para drenagem - D = 800 mm - fornecimento e instalação | C61: % comprimento de tubo PEAD d=800mm assentados | D61: Obras Rodoviárias DNIT - Drenagem | E61: 0.01286 | G61: R$ | H61: 780264.06 | I61: R$ | J61: =TRUNC(H61/(1+$I$3),2) -> 779717.87
A62: 4.5.5 | B62: Tubo PEAD para drenagem - D = 1.000 mm - fornecimento e instalação | C62: % comprimento de tubo PEAD d=1000mm assentados | D62: Obras Rodoviárias DNIT - Drenagem | E62: 0.0059 | G62: R$ | H62: 358094.69 | I62: R$ | J62: =TRUNC(H62/(1+$I$3),2) -> 357844.02
A63: 4.5.6 | B63: Tubo PEAD para drenagem - D = 1.200 mm - fornecimento e instalação | C63: % comprimento de tubo PEAD d=1200mm assentados | D63: Obras Rodoviárias DNIT - Drenagem | E63: 0.00283 | G63: R$ | H63: 171805.98 | I63: R$ | J63: =TRUNC(H63/(1+$I$3),2) -> 171685.71
A64: 4.5.7 | B64: Tubo PEAD para drenagem - D = 1.500 mm - fornecimento e instalação | C64: % comprimento de tubo PEAD d=1500mm assentados | D64: Obras Rodoviárias DNIT - Drenagem | E64: 0.00959 | G64: R$ | H64: 581713.5 | I64: R$ | J64: =TRUNC(H64/(1+$I$3),2) -> 581306.3
A65: 4.5.8 | B65: Escoramento contínuo de valas com tábuas de 2,5 x 30 cm e longarinas de 6 x 16 cm - estroncas a cada metro não incluídas - profundidade de até 4 m - madeira com utilização de 3 vezes - confecção, instalação e retirada | C65: % comprimento de tubo PEAD assentados (total de todos os diâmetros) | D65: Obras Rodoviárias DNIT - Drenagem | E65: 0.01382 | G65: R$ | H65: 838621.13 | I65: R$ | J65: =TRUNC(H65/(1+$I$3),2) -> 838034.1
A66: 4.5.9 | B66: Estroncas para valas com D = 15 cm - madeira com utilização de 3 vezes | C66: % comprimento de tubo PEAD assentados (total de todos os diâmetros) | D66: Obras Rodoviárias DNIT - Drenagem | E66: 0.00094 | G66: R$ | H66: 56896.31 | I66: R$ | J66: =TRUNC(H66/(1+$I$3),2) -> 56856.48
A67: 5 | B67: SUPERESTRUTURA PARA VIA FÉRREA
A68: 5.1 | B68: AMV | C68: 80% fornecimento dos materiais dos AMVs (proporcional à quantidade entregue) | D68: Obras Ferroviárias DNIT - Super estrutura de via permanente (c/ fornecimento de material) | E68: 0.01548 | G68: R$ | H68: 938841.02 | I68: R$ | J68: =TRUNC(H68/(1+$I$3),2) -> 938183.83
C69: 20% conforme número de AMVs concluídos em relação ao total de AMVs de projeto | D69: Obras Ferroviárias DNIT - Super estrutura de via permanente (c/ fornecimento de material) | E69: 0.00387 | G69: R$ | H69: 234710.25 | I69: R$ | J69: =TRUNC(H69/(1+$I$3),2) -> 234545.95
A70: 5.2 | B70: MONTAGEM E ASSENTAMENTO DE GRADE | C70: 80% fornecimento dos trilhos, dormentes e acessórios (proporcional ao trecho entregue) | D70: Obras Ferroviárias DNIT - Super estrutura de via permanente (c/ fornecimento de material) | E70: 0.30354 | G70: R$ | H70: 18414588 | I70: R$ | J70: =TRUNC(H70/(1+$I$3),2) -> 18401698
C71: 20% conforme comprimento de grade de linha férrea executada em relação ao total de projeto | D71: Obras Ferroviárias DNIT - Super estrutura de via permanente (c/ fornecimento de material) | E71: 0.07588 | G71: R$ | H71: 4603646.9 | I71: R$ | J71: =TRUNC(H71/(1+$I$3),2) -> 4600424.4
A72: 5.3 | B72: EXECUÇÃO DE LASTRO | C72: % comprimento de lastro ferroviário executado em relação ao comprimento total de projeto | D72: Obras Ferroviárias DNIT - Super estrutura de via permanente (c/ fornecimento de material) | E72: 0.04043 | G72: R$ | H72: 2452652.6 | I72: R$ | J72: =TRUNC(H72/(1+$I$3),2) -> 2450935.8
A73: 5.4 | B73: IMPRIMAÇÃO DO SUB-LASTRO | C73: % comprimento executado em relação ao comprimento total de projeto | D73: Obras Ferroviárias DNIT - Super estrutura de via permanente (c/ fornecimento de material) | E73: 0.00282 | G73: R$ | H73: 171231.78 | I73: R$ | J73: =TRUNC(H73/(1+$I$3),2) -> 171111.91
A74: 6 | B74: PAVIMENTAÇÃO RODOVIÁRIA
A75: 6.1 | B75: PAVIMENTO DE CONCRETO | J75: =TRUNC(H75/(1+$I$3),2) -> 0
A76: 6.1.1 | B76: Aplicação de geotêxtil não-tecido agulhado com resistência à tração longitudinal de 14 kN/m | C76: % área de sub-base (geotêxtil e macadame seco) concluída em relação ao total de projeto | D76: Obras Rodoviárias DNIT - Pavimentação | E76: 0.00414 | G76: R$ | H76: 250941.39 | I76: R$ | J76: =TRUNC(H76/(1+$I$3),2) -> 250765.73
A77: 6.1.2 | B77: Base ou sub-base de macadame seco com brita comercial | E77: 0.01561 | G77: R$ | H77: 946753.02 | I77: R$ | J77: =TRUNC(H77/(1+$I$3),2) -> 946090.29
A78: 6.1.3 | B78: Sub-base de concreto compactado com rolo - brita comercial | C78: % área de sub base CCR concluída em relação ao total de projeto | D78: Obras Rodoviárias DNIT - Pavimentação | E78: 0.01124 | G78: R$ | H78: 682110.55 | I78: R$ | J78: =TRUNC(H78/(1+$I$3),2) -> 681633.07
A79: 6.1.4 | B79: Imprimação com emulsão asfáltica | C79: % área de sub base imprimação concluída em relação ao total de projeto | D79: Obras Rodoviárias DNIT - Emulsão Asfáltica de Imprimação | E79: 0.00021 | G79: R$ | H79: 12655.1 | I79: R$ | J79: =TRUNC(H79/(1+$I$3),2) -> 12646.24
A80: 6.1.5 | B80: Emulsão asfáltica para imprimação | E80: 0.00162 | G80: R$ | H80: 98038.78 | I80: R$ | J80: =TRUNC(H80/(1+$I$3),2) -> 97970.15
A81: 6.1.6 | B81: Armação em aço CA-25 - fornecimento, preparo e colocação | C81: % área de pavimento executado em relação ao total de projeto | D81: Obras Rodoviárias DNIT - Pavimentos Concreto Cimento Portland | E81: 0.03413 | G81: R$ | H81: 2070489.5 | I81: R$ | J81: =TRUNC(H81/(1+$I$3),2) -> 2069040.2
A82: 6.1.7 | B82: Pavimento de concreto com fôrmas deslizantes - areia e brita comerciais | E82: 0.041 | G82: R$ | H82: 2487144.1 | I82: R$ | J82: =TRUNC(H82/(1+$I$3),2) -> 2485403.1
A83: 6.1.8 | B83: Serragem de juntas em pavimento de concreto, limpeza e enchimento com selante a frio | C83: % área de pavimento (selagem de juntas) executado em relação ao total de projeto | D83: Obras Rodoviárias DNIT - Pavimentos Concreto Cimento Portland | E83: 0.00484 | G83: R$ | H83: 293370.87 | I83: R$ | J83: =TRUNC(H83/(1+$I$3),2) -> 293165.51
A84: 7 | B84: SINALIZAÇÃO
A85: 7.1 | B85: SINALIZAÇÃO VERTICAL | C85: 100% após conclusão da sinalização vertical definitiva (divisível em eixos viários) | D85: Obras Rodoviárias DNIT - Sinalização Vertical | E85: 0.00151 | G85: R$ | H85: 91862.92 | I85: R$ | J85: =TRUNC(H85/(1+$I$3),2) -> 91798.61
A86: 7.2 | B86: SINALIZAÇÃO HORIZONTAL | C86: 100% após conclusão da sinalização horizontal definitiva (divisível em eixos viários) | D86: Obras Rodoviárias DNIT - Sinalização Horizontal | E86: 0.00261 | G86: R$ | H86: 158497.43 | I86: R$ | J86: =TRUNC(H86/(1+$I$3),2) -> 158386.48
A87: 8 | B87: OBRAS COMPLEMENTARES
A88: 8.1 | B88: REVESTIMENTO VEGETAL | J88: =TRUNC(H88/(1+$I$3),2) -> 0
A89: 8.1.1 | B89: Plantio de grama comercial em placas | C89: 100% após conclusão do plantio de grama em placas | D89: Obras Rodoviárias DNIT - Obras Complementares e Meio Ambiente | E89: 0.00071 | G89: R$ | H89: 43232.46 | I89: R$ | J89: =TRUNC(H89/(1+$I$3),2) -> 43202.19
A90: 8.1.2 | B90: Revestimento vegetal com grama em mudas em superfícies inclinadas | C90: 100% após conclusão do plantio de grama em mudas | D90: Obras Rodoviárias DNIT - Obras Complementares e Meio Ambiente | E90: 0.00039 | G90: R$ | H90: 23868.71 | I90: R$ | J90: =TRUNC(H90/(1+$I$3),2) -> 23852
A91: 8.1.3 | B91: Plantio de muda de árvore ornamental com altura até 1,00 m em cova de 0,60 x 0,60 x 0,60 m | C91: 100% após conclusão do plantio das árvores ornamentais/paisagismo | D91: Obras Rodoviárias DNIT - Obras Complementares e Meio Ambiente | E91: 4e-05 | G91: R$ | H91: 2445.94 | I91: R$ | J91: =TRUNC(H91/(1+$I$3),2) -> 2444.22
A92: 8.2 | B92: VEDAÇÃO | J92: =TRUNC(H92/(1+$I$3),2) -> 0
A93: 8.2.1 | B93: Cerca em painel de Nylofor 3D, inclusive postes, acessórios para fixação e portões | C93: 100% após instalação dos cercamentos (divisível conforme proporção executada) | D93: Obras Rodoviárias DNIT - Obras Complementares e Meio Ambiente | E93: 0.0223 | G93: R$ | H93: 1352769.4 | I93: R$ | J93: =TRUNC(H93/(1+$I$3),2) -> 1351822.5
A94: 8.2.2 | B94: Muro em alvenaria de blocos de concreto com espessura de 0,20 m h=1,0m | C94: 100% após conclusão da adequação do muro de divisa Centro Sul | D94: Obras Rodoviárias DNIT - Obras Complementares e Meio Ambiente | E94: 9e-05 | G94: R$ | H94: 5702.65 | I94: R$ | J94: =TRUNC(H94/(1+$I$3),2) -> 5698.65
A95: 8.3 | B95: CALÇADA / PÁTIO | J95: =TRUNC(H95/(1+$I$3),2) -> 0
A96: 8.3.1 | B96: Calçada de concreto fck=20 MPa, 12 cm de concreto e tela soldada Q-196, inclindo ladrilho hidráulico | C96: % área de calçada de concreto concluída em relação ao total de projeto | D96: Obras Rodoviárias DNIT - Obras Complementares e Meio Ambiente | E96: 0.01954 | G96: R$ | H96: 1185395.6 | I96: R$ | J96: =TRUNC(H96/(1+$I$3),2) -> 1184565.9
A97: 8.3.2 | B97: Execução de pavimento em piso intertravado, com bloco Paver de 20 x 10 cm, espessura de 8 cm | C97: % área de calçada em paver concluída em relação ao total de projeto | D97: Obras Rodoviárias DNIT - Obras Complementares e Meio Ambiente | E97: 0.01723 | G97: R$ | H97: 1045405.9 | I97: R$ | J97: =TRUNC(H97/(1+$I$3),2) -> 1044674.1
A98: 8.3.3 | B98: Lastro de brita comercial - espalhamento mecânico | C98: % revestimento em brita do Pátio Ferroviário em relação ao total de projeto | D98: Obras Rodoviárias DNIT - Drenagem | E98: 0.0056 | G98: R$ | H98: 339745.35 | I98: R$ | J98: =TRUNC(H98/(1+$I$3),2) -> 339507.53
A99: 8.4 | B99: PASSAGEM EM NIVEL | C99: 50% cada uma das PNs previstas no projeto | D99: Obras Rodoviárias DNIT - Obras Complementares e Meio Ambiente | E99: 3e-05 | G99: R$ | H99: 1976.02 | I99: R$ | J99: =TRUNC(H99/(1+$I$3),2) -> 1974.63
A100: 9 | B100: ELÉTRICA
A101: 9.1 | B101: ILUMINAÇÃO PÚBLICA | C101: 100% após conclusão da iluminação pública (divisível em circuitos/eixos viários) | D101: INCC-DI - FGV | E101: 0.01029 | G101: R$ | H101: 624462.72 | I101: R$ | J101: =TRUNC(H101/(1+$I$3),2) -> 624025.59
A102: 9.2 | B102: AJUSTE DE REDE - MÉDIA TENSÃO | C102: 100% após conclusão da relocação da rede de Média Tensão (energização) | D102: INCC-DI - FGV | E102: 0.01024 | G102: R$ | H102: 621400.52 | I102: R$ | J102: =TRUNC(H102/(1+$I$3),2) -> 620965.54
...

Sheet CRONOGRAMA
M3: PRÓPRIO: | N3: =IF('[3]FOLHA FECHAMENTO'!$C$10<>"",'[3]FOLHA FECHAMENTO'!$C$10," ") -> Projeto Básico de Reestruturação da Região Leste do Porto de Paranaguá / PR – Cais Leste – Ferrovia e Rodovia | AE3: DATA: | AF3: 45510
M4: MUNICÍPIO: | N4: =IF([3]DADOS!$D$16<>"",[3]DADOS!$D$16," ") -> PARANAGUÁ | AE4: TIPO OBRA: | AF4: =IF('[3]FOLHA FECHAMENTO'!K10<>"",'[3]FOLHA FECHAMENTO'!K10," ") -> RODOVIÁRIO/FERROVIÁRIO
AE5: PROTOCOLO: | AF5: =IF('[3]FOLHA FECHAMENTO'!$K$12<>"",'[3]FOLHA FECHAMENTO'!$K$12," ")
AE6: PRAZO EXECUÇÃO | AF6: =IF('[3]FOLHA FECHAMENTO'!$F$33<>"",'[3]FOLHA FECHAMENTO'!$F$33," ") -> 420
AF7: BDI | AG7: 0.233768
B8: SERVIÇOS | D8: 30 | E8: % NO PERIODO | F8: 60 | G8: % NO PERIODO | H8: 90 | I8: % NO PERIODO | J8: 120 | K8: % NO PERIODO | L8: 150 | M8: % NO PERIODO | N8: 180 | O8: % NO PERIODO | P8: 210 | Q8: % NO PERIODO | R8: 240 | S8: % NO PERIODO | T8: 270 | U8: % NO PERIODO | V8: 300 | W8: % NO PERIODO | X8: 330 | Y8: % NO PERIODO | Z8: 360 | AA8: % NO PERIODO | AB8: 390 | AC8: % NO PERIODO | AD8: 420 | AE8: % NO PERIODO | AF8: VALOR | AG8: VALOR
A9: ITEM | C9: ÍNDICE | AF9: SERVIÇO | AG9: PLANILHA
AF10: C/ BDI | AG10: S/ BDI
A11: 0 | B11: PROJETO EXECUTIVO | C11: =IFERROR(AF11/$AF$21,0) -> 0.047682334 | D11: =IF(B11<>"",E11*AF11," ") -> 953928.3 | E11: 0.33 | F11: =IF(B11<>"",G11*AF11," ") -> 982835.22 | G11: 0.34 | H11: =IF(B11<>"",I11*AF11," ") -> 953928.3 | I11: 0.33 | AF11: =(IF(B11<>"",AG11*(1+$AG$7)," ")) -> 2890691.8 | AG11: =('ANEXO VI'!J7+'ANEXO VI'!J8)/(1+$AG$7) -> 2342978.4
A12: 1 | B12: =[3]RESUMO!C15 -> INSTALAÇÕES PROVISÓRIAS E GERENCIAMENTO DE OBRA | C12: =IFERROR(AF12/$AF$21,0) -> 0.10820315 | D12: =IF(B12<>"",E12*AF12," ") -> 1311940.7 | E12: 0.2 | F12: =IF(B12<>"",G12*AF12," ") -> 983955.5 | G12: 0.15 | H12: =IF(B12<>"",I12*AF12," ") -> 327985.17 | I12: 0.05 | J12: =IF(B12<>"",K12*AF12," ") -> 327985.17 | K12: 0.05 | L12: =IF(B12<>"",M12*AF12," ") -> 327985.17 | M12: 0.05 | N12: =IF($B12<>"",$O12*$AF12," ") -> 327985.17 | O12: 0.05 | P12: =IF($B12<>"",$Q12*$AF12," ") -> 327985.17 | Q12: 0.05 | R12: =IF($B12<>"",$S12*$AF12," ") -> 327985.17 | S12: 0.05 | T12: =IF($B12<>"",$U12*$AF12," ") -> 327985.17 | U12: 0.05 | V12: =IF($B12<>"",$W12*$AF12," ") -> 327985.17 | W12: 0.05 | X12: =IF($B12<>"",$Y12*$AF12," ") -> 327985.17 | Y12: 0.05 | Z12: =IF($B12<>"",$AA12*$AF12," ") -> 327985.17 | AA12: 0.05 | AB12: =IF($B12<>"",$AC12*$AF12," ") -> 327985.17 | AC12: 0.05 | AD12: =IF($B12<>"",$AE12*$AF12," ") -> 655970.33 | AE12: 0.1 | AF12: =(IF(B12<>"",AG12*(1+$AG$7)," ")) -> 6559703.3 | AG12: =('ANEXO VI'!J10+'ANEXO VI'!J11+'ANEXO VI'!J12+'ANEXO VI'!J13+'ANEXO VI'!J14)/(1+AG7) -> 5316804.6 | AJ12: =E12+G12+I12+K12+M12+O12+Q12+S12+U12+W12+Y12+AA12+AC12+AE12 -> 1
A13: 2 | B13: =[3]RESUMO!C16 -> SERVIÇOS PRELIMINARES / DEMOLIÇÕES | C13: =IFERROR(AF13/$AF$21,0) -> 0.058896887 | D13: =IF(B13<>"",E13*AF13," ") -> 0 | F13: =IF(B13<>"",G13*AF13," ") -> 1071168.7 | G13: 0.3 | H13: =IF(B13<>"",I13*AF13," ") -> 1071168.7 | I13: 0.3 | J13: =IF(B13<>"",K13*AF13," ") -> 714112.49 | K13: 0.2 | L13: =IF(B13<>"",M13*AF13," ") -> 714112.49 | M13: 0.2 | N13: =IF($B13<>"",$O13*$AF13," ") -> 0 | P13: =IF($B13<>"",$Q13*$AF13," ") -> 0 | R13: =IF($B13<>"",$S13*$AF13," ") -> 0 | T13: =IF($B13<>"",$U13*$AF13," ") -> 0 | V13: =IF($B13<>"",$W13*$AF13," ") -> 0 | X13: =IF($B13<>"",$Y13*$AF13," ") -> 0 | Z13: =IF($B13<>"",$AA13*$AF13," ") -> 0 | AB13: =IF($B13<>"",$AC13*$AF13," ") -> 0 | AD13: =IF($B13<>"",$AE13*$AF13," ") -> 0 | AF13: =(IF(B13<>"",AG13*(1+$AG$7)," ")) -> 3570562.4 | AG13: =SUM('ANEXO VI'!J16:J28)/(1+AG7) -> 2894030.7 | AJ13: =E13+G13+I13+K13+M13+O13+Q13+S13+U13+W13+Y13+AA13+AC13+AE13 -> 1
A14: 3 | B14: =[3]RESUMO!C17 -> TERRAPLENAGEM | C14: =IFERROR(AF14/$AF$21,0) -> 0.045055696 | D14: =IF(B14<>"",E14*AF14," ") -> 0 | F14: =IF(B14<>"",G14*AF14," ") -> 0 | H14: =IF(B14<>"",I14*AF14," ") -> 0 | J14: =IF(B14<>"",K14*AF14," ") -> 682863.66 | K14: 0.25 | L14: =IF(B14<>"",M14*AF14," ") -> 682863.66 | M14: 0.25 | N14: =IF($B14<>"",$O14*$AF14," ") -> 682863.66 | O14: 0.25 | P14: =IF($B14<>"",$Q14*$AF14," ") -> 682863.66 | Q14: 0.25 | T14: =IF($B14<>"",$U14*$AF14," ") -> 0 | V14: =IF($B14<>"",$W14*$AF14," ") -> 0 | X14: =IF($B14<>"",$Y14*$AF14," ") -> 0 | Z14: =IF($B14<>"",$AA14*$AF14," ") -> 0 | AB14: =IF($B14<>"",$AC14*$AF14," ") -> 0 | AD14: =IF($B14<>"",$AE14*$AF14," ") -> 0 | AF14: =(IF(B14<>"",AG14*(1+$AG$7)," ")) -> 2731454.6 | AG14: =SUM('ANEXO VI'!J30:J36)/(1+AG7) -> 2213912.7 | AJ14: =E14+G14+I14+K14+M14+O14+Q14+S14+U14+W14+Y14+AA14+AC14+AE14 -> 1
A15: 4 | B15: =[3]RESUMO!C18 -> DRENAGEM E OBRAS DE ARTE CORRENTES | C15: =IFERROR(AF15/$AF$21,0) -> 0.094764756 | D15: =IF(B15<>"",E15*AF15," ") -> 0 | F15: =IF(B15<>"",G15*AF15," ") -> 0 | H15: =IF(B15<>"",I15*AF15," ") -> 0 | J15: =IF(B15<>"",K15*AF15," ") -> 0 | L15: =IF(B15<>"",M15*AF15," ") -> 1149002.9 | M15: 0.2 | N15: =IF($B15<>"",$O15*$AF15," ") -> 1149002.9 | O15: 0.2 | P15: =IF($B15<>"",$Q15*$AF15," ") -> 1149002.9 | Q15: 0.2 | R15: =IF($B15<>"",$S15*$AF15," ") -> 1149002.9 | S15: 0.2 | T15: =IF($B15<>"",$U15*$AF15," ") -> 1149002.9 | U15: 0.2 | X15: =IF($B15<>"",$Y15*$AF15," ") -> 0 | Z15: =IF($B15<>"",$AA15*$AF15," ") -> 0 | AB15: =IF($B15<>"",$AC15*$AF15," ") -> 0 | AD15: =IF($B15<>"",$AE15*$AF15," ") -> 0 | AF15: =(IF(B15<>"",AG15*(1+$AG$7)," ")) -> 5745014.7 | AG15: =SUM('ANEXO VI'!J38:J66)/(1+AG7) -> 4656478.9 | AJ15: =E15+G15+I15+K15+M15+O15+Q15+S15+U15+W15+Y15+AA15+AC15+AE15 -> 1
A16: 5 | B16: =[3]RESUMO!C19 -> SUPERESTRUTURA PARA VIA FÉRREA | C16: =IFERROR(AF16/$AF$21,0) -> 0.44201831 | D16: =IF(B16<>"",E16*AF16," ") -> 0 | F16: =IF(B16<>"",G16*AF16," ") -> 0 | H16: =IF(B16<>"",I16*AF16," ") -> 0 | J16: =IF(B16<>"",K16*AF16," ") -> 0 | L16: =IF(B16<>"",M16*AF16," ") -> 4019534.9 | M16: 0.15 | N16: =IF($B16<>"",$O16*$AF16," ") -> 4019534.9 | O16: 0.15 | P16: =IF($B16<>"",$Q16*$AF16," ") -> 4019534.9 | Q16: 0.15 | R16: =IF($B16<>"",$S16*$AF16," ") -> 4019534.9 | S16: 0.15 | T16: =IF($B16<>"",$U16*$AF16," ") -> 4019534.9 | U16: 0.15 | V16: =IF($B16<>"",$W16*$AF16," ") -> 4019534.9 | W16: 0.15 | X16: =IF($B16<>"",$Y16*$AF16," ") -> 1339845 | Y16: 0.05 | Z16: =IF($B16<>"",$AA16*$AF16," ") -> 1339845 | AA16: 0.05 | AB16: =IF($B16<>"",$AC16*$AF16," ") -> 0 | AD16: =IF($B16<>"",$AE16*$AF16," ") -> 0 | AF16: =(IF(B16<>"",AG16*(1+$AG$7)," ")) -> 26796899 | AG16: =SUM('ANEXO VI'!J68:J73)/(1+AG7) -> 21719561 | AJ16: =E16+G16+I16+K16+M16+O16+Q16+S16+U16+W16+Y16+AA16+AC16+AE16 -> 1
A17: 6 | B17: =[3]RESUMO!C20 -> PAVIMENTAÇÃO RODOVIÁRIA | C17: =IFERROR(AF17/$AF$21,0) -> 0.11277248 | D17: =IF(B17<>"",E17*AF17," ") -> 0 | F17: =IF(B17<>"",G17*AF17," ") -> 0 | H17: =IF(B17<>"",I17*AF17," ") -> 0 | J17: =IF(B17<>"",K17*AF17," ") -> 0 | L17: =IF(B17<>"",M17*AF17," ") -> 0 | N17: =IF($B17<>"",$O17*$AF17," ") -> 0 | P17: =IF($B17<>"",$Q17*$AF17," ") -> 0 | R17: =IF($B17<>"",$S17*$AF17," ") -> 1367342.9 | S17: 0.2 | T17: =IF($B17<>"",$U17*$AF17," ") -> 1367342.9 | U17: 0.2 | V17: =IF($B17<>"",$W17*$AF17," ") -> 1367342.9 | W17: 0.2 | X17: =IF($B17<>"",$Y17*$AF17," ") -> 1367342.9 | Y17: 0.2 | Z17: =IF($B17<>"",$AA17*$AF17," ") -> 1367342.9 | AA17: 0.2 | AB17: =IF($B17<>"",$AC17*$AF17," ") -> 0 | AD17: =IF($B17<>"",$AE17*$AF17," ") -> 0 | AF17: =(IF(B17<>"",AG17*(1+$AG$7)," ")) -> 6836714.3 | AG17: =SUM('ANEXO VI'!J75:J83)/(1+AG7) -> 5541328.9 | AJ17: =E17+G17+I17+K17+M17+O17+Q17+S17+U17+W17+Y17+AA17+AC17+AE17 -> 1
A18: 7 | B18: =[3]RESUMO!C21 -> SINALIZAÇÃO | C18: =IFERROR(AF18/$AF$21,0) -> 0.0041268353 | D18: =IF(B18<>"",E18*AF18," ") -> 0 | F18: =IF(B18<>"",G18*AF18," ") -> 0 | H18: =IF(B18<>"",I18*AF18," ") -> 0 | J18: =IF(B18<>"",K18*AF18," ") -> 0 | L18: =IF(B18<>"",M18*AF18," ") -> 0 | N18: =IF($B18<>"",$O18*$AF18," ") -> 0 | P18: =IF($B18<>"",$Q18*$AF18," ") -> 0 | R18: =IF($B18<>"",$S18*$AF18," ") -> 0 | T18: =IF($B18<>"",$U18*$AF18," ") -> 0 | V18: =IF($B18<>"",$W18*$AF18," ") -> 0 | X18: =IF($B18<>"",$Y18*$AF18," ") -> 0 | Z18: =IF($B18<>"",$AA18*$AF18," ") -> 87564.781 | AA18: 0.35 | AB18: =IF($B18<>"",$AC18*$AF18," ") -> 87564.781 | AC18: 0.35 | AD18: =IF($B18<>"",$AE18*$AF18," ") -> 75055.527 | AE18: 0.3 | AF18: =(IF(B18<>"",AG18*(1+$AG$7)," ")) -> 250185.09 | AG18: =SUM('ANEXO VI'!J85:J86)/(1+AG7) -> 202781.31 | AJ18: =E18+G18+I18+K18+M18+O18+Q18+S18+U18+W18+Y18+AA18+AC18+AE18 -> 1
A19: 8 | B19: =[3]RESUMO!C22 -> OBRAS COMPLEMENTARES | C19: =IFERROR(AF19/$AF$21,0) -> 0.065943263 | D19: =IF(B19<>"",E19*AF19," ") -> 0 | F19: =IF(B19<>"",G19*AF19," ") -> 0 | H19: =IF(B19<>"",I19*AF19," ") -> 0 | J19: =IF(B19<>"",K19*AF19," ") -> 0 | L19: =IF(B19<>"",M19*AF19," ") -> 0 | N19: =IF($B19<>"",$O19*$AF19," ") -> 0 | P19: =IF($B19<>"",$Q19*$AF19," ") -> 0 | R19: =IF($B19<>"",$S19*$AF19," ") -> 0 | T19: =IF($B19<>"",$U19*$AF19," ") -> 0 | V19: =IF($B19<>"",$W19*$AF19," ") -> 0 | X19: =IF($B19<>"",$Y19*$AF19," ") -> 0 | Z19: =IF($B19<>"",$AA19*$AF19," ") -> 1399209.6 | AA19: 0.35 | AB19: =IF($B19<>"",$AC19*$AF19," ") -> 1399209.6 | AC19: 0.35 | AD19: =IF($B19<>"",$AE19*$AF19," ") -> 1199322.5 | AE19: 0.3 | AF19: =(IF(B19<>"",AG19*(1+$AG$7)," ")) -> 3997741.6 | AG19: =SUM('ANEXO VI'!J88:J99)/(1+AG7) -> 3240270.2 | AJ19: =E19+G19+I19+K19+M19+O19+Q19+S19+U19+W19+Y19+AA19+AC19+AE19 -> 1
A20: 9 | B20: =[3]RESUMO!C23 -> ILUMINAÇÃO | C20: =IFERROR(AF20/$AF$21,0) -> 0.020536289 | D20: =IF(B20<>"",E20*AF20," ") -> 0 | F20: =IF(B20<>"",G20*AF20," ") -> 0 | H20: =IF(B20<>"",I20*AF20," ") -> 0 | J20: =IF(B20<>"",K20*AF20," ") -> 0 | L20: =IF(B20<>"",M20*AF20," ") -> 0 | N20: =IF($B20<>"",$O20*$AF20," ") -> 0 | P20: =IF($B20<>"",$Q20*$AF20," ") -> 0 | R20: =IF($B20<>"",$S20*$AF20," ") -> 0 | T20: =IF($B20<>"",$U20*$AF20," ") -> 0 | V20: =IF($B20<>"",$W20*$AF20," ") -> 0 | X20: =IF($B20<>"",$Y20*$AF20," ") -> 0 | Z20: =IF($B20<>"",$AA20*$AF20," ") -> 435746.9 | AA20: 0.35 | AB20: =IF($B20<>"",$AC20*$AF20," ") -> 435746.9 | AC20: 0.35 | AD20: =IF($B20<>"",$AE20*$AF20," ") -> 373497.34 | AE20: 0.3 | AF20: =(IF(B20<>"",AG20*(1+$AG$7)," ")) -> 1244991.1 | AG20: =SUM('ANEXO VI'!J101:J102)/(1+AG7) -> 1009096.6 | AJ20: =E20+G20+I20+K20+M20+O20+Q20+S20+U20+W20+Y20+AA20+AC20+AE20 -> 1
A21: VALOR DA PARCELA DETERMINADA COM BASE NO PREÇO MÁXIMO | C21: =SUMIF(C12:C20,">0",C12:C20) -> 0.95231767 | D21: =SUMIF(D11:D20,">0",D11:D20) -> 2265869 | E21: =IF($AF$21=0,0,D21/$AF$21) -> 0.0373758 | F21: =SUMIF(F11:F20,">0",F11:F20) -> 3037959.5 | G21: =IF($AF$21=0,0,F21/$AF$21) -> 0.050111532 | H21: =SUMIF(H11:H20,">0",H11:H20) -> 2353082.2 | I21: =IF($AF$21=0,0,H21/$AF$21) -> 0.038814394 | J21: =SUMIF(J11:J20,">0",J11:J20) -> 1724961.3 | K21: =IF($AF$21=0,0,J21/$AF$21) -> 0.028453459 | L21: =SUMIF(L11:L20,">0",L11:L20) -> 6893499.2 | M21: =IF($AF$21=0,0,L21/$AF$21) -> 0.11370916 | N21: =SUMIF(N11:N20,">0",N11:N20) -> 6179386.7 | O21: =IF($AF$21=0,0,N21/$AF$21) -> 0.10192978 | P21: =SUMIF(P11:P20,">0",P11:P20) -> 6179386.7 | Q21: =IF($AF$21=0,0,P21/$AF$21) -> 0.10192978 | R21: =SUMIF(R11:R20,">0",R11:R20) -> 6863865.9 | S21: =IF($AF$21=0,0,R21/$AF$21) -> 0.11322035 | T21: =SUMIF(T11:T20,">0",T11:T20) -> 6863865.9 | U21: =IF($AF$21=0,0,T21/$AF$21) -> 0.11322035 | V21: =SUMIF(V11:V20,">0",V11:V20) -> 5714862.9 | W21: =IF($AF$21=0,0,V21/$AF$21) -> 0.0942674 | X21: =SUMIF(X11:X20,">0",X11:X20) -> 3035173 | Y21: =IF($AF$21=0,0,X21/$AF$21) -> 0.050065569 | Z21: =SUMIF(Z11:Z20,">0",Z11:Z20) -> 4957694.3 | AA21: =IF($AF$21=0,0,Z21/$AF$21) -> 0.081777805 | AB21: =SUMIF(AB11:AB20,">0",AB11:AB20) -> 2250506.4 | AC21: =IF($AF$21=0,0,AB21/$AF$21) -> 0.037122393 | AD21: =SUMIF(AD11:AD20,">0",AD11:AD20) -> 2303845.7 | AE21: =IF($AF$21=0,0,AD21/$AF$21) -> 0.038002231 | AF21: =TRUNC(SUMIF(AF11:AF20,">0",AF11:AF20),2) -> 60623959 | AG21: =SUMIF(AG11:AG20,">0",AG11:AG20) -> 49137243 | AJ21: =E21+G21+I21+K21+M21+O21+Q21+S21+U21+W21+Y21+AA21+AC21+AE21 -> 1
A22: VALOR PROPOSTO | C22: ='ANEXO VI'!H4 -> 60666425 | D22: =IF($C$22<>"",(1-$C$23)*D$21," ") -> 2264281.8 | E22: =E21 -> 0.0373758 | F22: =IF($C$22<>"",(1-$C$23)*F$21," ") -> 3035831.4 | G22: =G21 -> 0.050111532 | H22: =IF($C$22<>"",(1-$C$23)*H$21," ") -> 2351433.9 | I22: =I21 -> 0.038814394 | J22: =IF($C$22<>"",(1-$C$23)*J$21," ") -> 1723753 | K22: =K21 -> 0.028453459 | L22: =IF($C$22<>"",(1-$C$23)*L$21," ") -> 6888670.4 | M22: =M21 -> 0.11370916 | N22: =IF($C$22<>"",(1-$C$23)*N$21," ") -> 6175058.1 | O22: =O21 -> 0.10192978 | P22: =IF($C$22<>"",(1-$C$23)*P$21," ") -> 6175058.1 | Q22: =Q21 -> 0.10192978 | R22: =IF($C$22<>"",(1-$C$23)*R$21," ") -> 6859057.8 | S22: =S21 -> 0.11322035 | T22: =IF($C$22<>"",(1-$C$23)*T$21," ") -> 6859057.8 | U22: =U21 -> 0.11322035 | V22: =IF($C$22<>"",(1-$C$23)*V$21," ") -> 5710859.8 | W22: =W21 -> 0.0942674 | X22: =IF($C$22<>"",(1-$C$23)*X$21," ") -> 3033046.9 | Y22: =Y21 -> 0.050065569 | Z22: =IF($C$22<>"",(1-$C$23)*Z$21," ") -> 4954221.5 | AA22: =AA21 -> 0.081777805 | AB22: =IF($C$22<>"",(1-$C$23)*AB$21," ") -> 2248930 | AC22: =AC21 -> 0.037122393 | AD22: =IF($C$22<>"",(1-$C$23)*AD$21," ") -> 2302231.9 | AE22: =AE21 -> 0.038002231 | AJ22: =E22+G22+I22+K22+M22+O22+Q22+S22+U22+W22+Y22+AA22+AC22+AE22 -> 1
A23: DESCONTO PROPOSTO / VALOR DAS PARCELAS | C23: ='ANEXO VI'!I3 -> 0.00070048426
A24: TOTAL ACUMULADO COM O DESCONTO PROPOSTO | D24: =IF(C22<>"",D22,D21) -> 2264281.8 | E24: =E22 -> 0.0373758 | F24: =IF(C22<>"",F22+D24,D24+F21) -> 5300113.2 | G24: =G22+E24 -> 0.087487332 | H24: =IF(C22<>"",F24+H22,F24+H21) -> 7651547.1 | I24: =I22+G24 -> 0.12630173 | J24: =IF(C22<>"",H24+J22,H24+J21) -> 9375300.1 | K24: =K22+I24 -> 0.15475519 | L24: =IF(C22<>"",J24+L22,J24+L21) -> 16263970 | M24: =M22+K24 -> 0.26846434 | N24: =IF(C22<>"",L24+N22,L24+N21) -> 22439029 | O24: =O22+M24 -> 0.37039412 | P24: =IF(E22<>"",N24+P22,N24+P21) -> 28614087 | Q24: =Q22+O24 -> 0.4723239 | R24: =IF(G22<>"",P24+R22,P24+R21) -> 35473145 | S24: =S22+Q24 -> 0.58554425 | T24: =IF(I22<>"",R24+T22,R24+T21) -> 42332202 | U24: =U22+S24 -> 0.6987646 | V24: =IF(E22<>"",T24+V22,N24+V21) -> 48043062 | W24: =W22+O24 -> 0.46466152 | X24: =IF(G22<>"",V24+X22,P24+X21) -> 51076109 | Y24: =Y22+Q24 -> 0.52238947 | Z24: =IF(I22<>"",X24+Z22,R24+Z21) -> 56030331 | AA24: =AA22+S24 -> 0.66732206 | AB24: =IF(C22<>"",Z24+AB22,L24+AB21) -> 58279261 | AC24: =AC22+M24 -> 0.30558673 | AD24: =IF(E22<>"",AB24+AD22,AB24+AD21) -> 60581492 | AE24: =AE22+O24 -> 0.40839635
