Workbook
Name \i: #REF!
Name \i: #REF!
Name ____xlnm.Print_Area_2: #REF!
Name ____xlnm.Print_Area_2: #REF!
Name ____xlnm.Print_Area_2: #REF!
Name ____xlnm.Print_Area_3: #REF!
Name ____xlnm.Print_Area_3_1: #REF!
Name ____xlnm.Print_Titles_2: #REF!
Name ____xlnm.Print_Titles_3: #REF!
Name ___xlnm.Print_Area_2: #REF!
Name ___xlnm.Print_Area_3: #REF!
Name ___xlnm.Print_Area_3_1: #REF!
Name ___xlnm.Print_Titles_2: #REF!
Name ___xlnm.Print_Titles_3: #REF!
Name __Anonymous_Sheet_DB__0: [1]PLANILHA_SINTÉTICA!#REF!
Name __Anonymous_Sheet_DB__0: [1]PLANILHA_SINTÉTICA!#REF!
Name __Anonymous_Sheet_DB__0: [2]PLANILHA_SINTÉTICA!#REF!
Name __xlnm.Print_Area_1: #REF!
Name __xlnm.Print_Area_1: #REF!
Name __xlnm.Print_Area_1: #REF!
Name __xlnm.Print_Area_2: #REF!
Name __xlnm.Print_Area_2: #REF!
Name __xlnm.Print_Area_2: #REF!
Name __xlnm.Print_Area_2: #REF!
Name __xlnm.Print_Area_3: #REF!
Name __xlnm.Print_Area_3: #REF!
Name __xlnm.Print_Area_3_1: #REF!
Name __xlnm.Print_Titles_1: #REF!
Name __xlnm.Print_Titles_2: #REF!
Name __xlnm.Print_Titles_3: #REF!
Name _R10P: #REF!
Name _R10P: #REF!
Name _R10P: #REF!
Name _R10P: #REF!
Name _R10R: #REF!
Name _R10R: #REF!
Name _R10R: #REF!
Name _R10R: #REF!
Name _R11P: #REF!
Name _R11P: #REF!
Name _R11P: #REF!
Name _R11P: #REF!
Name _R11R: #REF!
Name _R11R: #REF!
Name _R11R: #REF!
Name _R12P: #REF!
Name _R12P: #REF!
Name _R12P: #REF!
Name _R12R: #REF!
Name _R12R: #REF!
Name _R12R: #REF!
Name _R13P: #REF!
Name _R13P: #REF!
Name _R13P: #REF!
Name _R13R: #REF!
Name _R13R: #REF!
Name _R13R: #REF!
Name _R14P: #REF!
Name _R14P: #REF!
Name _R14P: #REF!

Sheet MODELO DE PROPOSTA
B2: LICITANTE: Preencher com o valor do desconto | E2: DESCONTO | F2: 0
A4: CCU. COD. | B4: ITEM | C4: DESCRIÇÃO | D4: PREÇO MÁXIMO DE REFERÊNCIA (sem BDI) | E4: PREÇO MÁXIMO DE REFERÊNCIA COM BDI | F4: PROPOSTA LICITANTE COM BDI
B6: PR-1 | C6: Execução da ampliação do Píer Público de Granéis Líquidos (PPGL), incluindo a nova estrutura dos Pipe Rack, um dolfim de amarração, dois dolfins de atracação e nova plataforma de operação | E6: =SUM(E8,E17,E24,E31,E38,E46,E53,E56,E65,E68,E76,E79,E86) -> 1.1399424e+08 | F6: =SUM(F8,F17,F24,F31,F38,F46,F53,F56,F65,F68,F76,F79,F86) -> 1.1399424e+08
B8: 1 | C8: SERVIÇOS PRELIMINARES | D8: =SUM(D9:D16) -> 10346808 | E8: =SUM(E9:E16) -> 13479821 | F8: =SUM(F9:F16) -> 13479821
A9: CPU00001 | B9: 1.1 | C9: Instalação de canteiro de obras | D9: 259606.21 | E9: =D9+(D9*BDI!$D$24) -> 338214.97 | F9: =E9*(1-$F$2) -> 338214.97
A10: CPU00003 | B10: 1.2 | C10: Mobilização de equipamentos | D10: 309663.77 | E10: =D10+(D10*BDI!$D$24) -> 403429.96 | F10: =E10*(1-$F$2) -> 403429.96
A11: CPU00004 | B11: 1.3 | C11: Projeto executivo e levantamentos | D11: =1502379.1+5460 -> 1507839.1 | E11: =D11+(D11*BDI!$D$24) -> 1964412.8 | F11: =E11*(1-$F$2) -> 1964412.8
B12: 1.4 | C12: Manutenção do canteiro, Est. Temporárias e Administração local | D12: =2593723+3094284+685212.5 -> 6373219.5 | E12: =D12+(D12*BDI!$D$24) -> 8303030.4 | F12: =E12*(1-$F$2) -> 8303030.4
B13: 1.5 | C13: Monitoramento ambiental | D13: 1012517 | E13: =D13+(D13*BDI!$D$24) -> 1319107.1 | F13: =E13*(1-$F$2) -> 1319107.1
B14: 1.6 | C14: Medidas de controle de segurança | D14: 361140 | E14: =D14+(D14*BDI!$D$24) -> 470493.19 | F14: =E14*(1-$F$2) -> 470493.19
B15: 1.7 | C15: Serviços de prontidão ambiental | D15: 380000 | E15: =D15+(D15*BDI!$D$24) -> 495064 | F15: =E15*(1-$F$2) -> 495064
B16: 1.8 | C16: Recursos e equipamentos - atendimento a emergência ambiental | D16: 142822.28 | E16: =D16+(D16*BDI!$D$24) -> 186068.87 | F16: =E16*(1-$F$2) -> 186068.87
B17: 2 | C17: DOLFIM DE AMARRAÇÃO (DAM-01) | D17: =SUM(D18:D23) -> 5343387.1 | E17: =SUM(E18:E23) -> 6961364.7 | F17: =SUM(F18:F23) -> 6961364.7
B18: 2.1 | C18: Dolfim - Fundações - Fabricação e Fornecimento | D18: 2077880 | E18: =D18+(D18*BDI!$D$24) -> 2707062.1 | F18: =E18*(1-$F$2) -> 2707062.1
B19: 2.2 | C19: Dolfim - Fundações - Cravação | D19: 2274645 | E19: =D19+(D19*BDI!$D$24) -> 2963407.4 | F19: =E19*(1-$F$2) -> 2963407.4
B20: 2.3 | C20: Dolfim - Fundações - Arrasamento | D20: 35568 | E20: =D20+(D20*BDI!$D$24) -> 46337.99 | F20: =E20*(1-$F$2) -> 46337.99
B21: 2.4 | C21: Dolfim - Fundações - Armadura | D21: 170940 | E21: =D21+(D21*BDI!$D$24) -> 222700.63 | F21: =E21*(1-$F$2) -> 222700.63
B22: 2.5 | C22: Dolfim - Fundações - Concretagem | D22: 71204.22 | E22: =D22+(D22*BDI!$D$24) -> 92764.858 | F22: =E22*(1-$F$2) -> 92764.858
B23: 2.6 | C23: Dolfim - Superestrutura e Ensaios de prova de carga | D23: 713149.9 | E23: =D23+(D23*BDI!$D$24) -> 929091.69 | F23: =E23*(1-$F$2) -> 929091.69
B24: 3 | C24: DOLFIM DE ATRACAÇÃO (DAT-02) | D24: =SUM(D25:D30) -> 4696672.3 | E24: =SUM(E25:E30) -> 6118824.7 | F24: =SUM(F25:F30) -> 6118824.7
B25: 3.1 | C25: Dolfim - Fundações - Fabricação e Fornecimento | D25: 1898909 | E25: =D25+(D25*BDI!$D$24) -> 2473898.7 | F25: =E25*(1-$F$2) -> 2473898.7
B26: 3.2 | C26: Dolfim - Fundações - Cravação | D26: 2078678.3 | E26: =D26+(D26*BDI!$D$24) -> 2708102.1 | F26: =E26*(1-$F$2) -> 2708102.1
B27: 3.3 | C27: Dolfim - Fundações - Arrasamento | D27: 29640 | E27: =D27+(D27*BDI!$D$24) -> 38614.992 | F27: =E27*(1-$F$2) -> 38614.992
B28: 3.4 | C28: Dolfim - Fundações - Armadura | D28: 146520 | E28: =D28+(D28*BDI!$D$24) -> 190886.26 | F28: =E28*(1-$F$2) -> 190886.26
B29: 3.5 | C29: Dolfim - Fundações - Concretagem | D29: 59333.768 | E29: =D29+(D29*BDI!$D$24) -> 77300.033 | F29: =E29*(1-$F$2) -> 77300.033
B30: 3.6 | C30: Dolfim - Superestrutura e Ensaios de prova de carga | D30: 483591.19 | E30: =D30+(D30*BDI!$D$24) -> 630022.6 | F30: =E30*(1-$F$2) -> 630022.6
B31: 4 | C31: DOLFIM DE ATRACAÇÃO (DAT-03) | D31: =SUM(D32:D37) -> 4696672.3 | E31: =SUM(E32:E37) -> 6118824.7 | F31: =SUM(F32:F37) -> 6118824.7
B32: 4.1 | C32: Dolfim - Fundações - Fabricação e Fornecimento | D32: 1898909 | E32: =D32+(D32*BDI!$D$24) -> 2473898.7 | F32: =E32*(1-$F$2) -> 2473898.7
B33: 4.2 | C33: Dolfim - Fundações - Cravação | D33: 2078678.3 | E33: =D33+(D33*BDI!$D$24) -> 2708102.1 | F33: =E33*(1-$F$2) -> 2708102.1
B34: 4.3 | C34: Dolfim - Fundações - Arrasamento | D34: 29640 | E34: =D34+(D34*BDI!$D$24) -> 38614.992 | F34: =E34*(1-$F$2) -> 38614.992
B35: 4.4 | C35: Dolfim - Fundações - Armadura | D35: 146520 | E35: =D35+(D35*BDI!$D$24) -> 190886.26 | F35: =E35*(1-$F$2) -> 190886.26
B36: 4.5 | C36: Dolfim - Fundações - Concretagem | D36: 59333.768 | E36: =D36+(D36*BDI!$D$24) -> 77300.033 | F36: =E36*(1-$F$2) -> 77300.033
B37: 4.6 | C37: Dolfim - Superestrutura e Ensaios de prova de carga | D37: 483591.19 | E37: =D37+(D37*BDI!$D$24) -> 630022.6 | F37: =E37*(1-$F$2) -> 630022.6
B38: 5 | C38: PLATAFORMA DE OPERAÇÕES | D38: =SUM(D39:D45) -> 18099236 | E38: =SUM(E39:E45) -> 23579684 | F38: =SUM(F39:F45) -> 23579684
B39: 5.1 | C39: Fundações - Fabricação e Fornecimento | D39: 4684878.6 | E39: =D39+(D39*BDI!$D$24) -> 6103459.9 | F39: =E39*(1-$F$2) -> 6103459.9
B40: 5.2 | C40: Fundações - Cravação | D40: 5128355.5 | E40: =D40+(D40*BDI!$D$24) -> 6681221.6 | F40: =E40*(1-$F$2) -> 6681221.6
B41: 5.3 | C41: Fundações - Arrasamento | D41: 77064 | E41: =D41+(D41*BDI!$D$24) -> 100398.98 | F41: =E41*(1-$F$2) -> 100398.98
B42: 5.4 | C42: Fundações - Armadura | D42: 371184 | E42: =D42+(D42*BDI!$D$24) -> 483578.52 | F42: =E42*(1-$F$2) -> 483578.52
B43: 5.5 | C43: Fundações - Concretagem | D43: 155832.03 | E43: =D43+(D43*BDI!$D$24) -> 203017.97 | F43: =E43*(1-$F$2) -> 203017.97
B44: 5.6 | C44: Dolfim - Superestrutura (pré-moldados) | D44: 4096631.8 | E44: =D44+(D44*BDI!$D$24) -> 5337091.9 | F44: =E44*(1-$F$2) -> 5337091.9
...

Sheet BDI
B2: GOVERNO DO ESTADO DO PARANÁ
B3: PORTOS DO PARANÁ
C6: PRÓPRIO: | D6: =IF(#REF!<>"",#REF!," ") -> #REF!
A7: COMPOSIÇÃO DE BDI
A9: CUSTO TOTAL DO SERVIÇO (R$):
A10: ITEM | B10: DISCRIMINAÇÃO | C10: VALOR (R$) | D10: TAXA (%) | E10: OBSERVAÇÃO | F10: SITUAÇÃO DO INTERVALO ADMISSIVEL | G10: PARCELAS DO BDI - OBRAS PORTUÁRIAS (%)
G11: 1 Quartil | H11: Médio | I11: 3 Quartil
A12: 1 | B12: AC - ADMINISTRAÇÃO CENTRAL | C12: =ROUND(D12*$I$9,2) -> 0 | D12: 0.0552 | F12: =IF(AND(D12>=G12,D12<=I12),"OK","DIFERE") -> OK | G12: 0.0513 | H12: 0.0552 | I12: 0.0591 | J12: AC | K12: ADMINISTRAÇÃO CENTRAL
A13: 2 | B13: SG - SEGUROS + GARANTIA | C13: =ROUND(D13*$I$9,2) -> 0 | D13: 0.0122 | F13: =IF(AND(D13>=G13,D13<=I13),"OK","DIFERE") -> OK | G13: 0.0107 | H13: 0.0122 | I13: 0.0137 | J13: SG | K13: SEGUROS + GARANTIA
A14: 3 | B14: R - RISCOS | C14: =ROUND(D14*$I$9,2) -> 0 | D14: 0.0232 | F14: =IF(AND(D14>=G14,D14<=I14),"OK","DIFERE") -> OK | G14: 0.0196 | H14: 0.0232 | I14: 0.0268 | J14: R | K14: RISCOS
A15: 4 | B15: DF - DESPESAS FINANCEIRAS | C15: =D15*($I$9+C12+C13+C14) -> 0 | D15: 0.0102 | F15: =IF(AND(D15>=G15,D15<=I15),"OK","DIFERE") -> OK | G15: 0.0098 | H15: 0.0102 | I15: 0.0106 | J15: DF | K15: DESPESAS FINANCEIRAS
A16: 5 | B16: L - LUCRO BRUTO | C16: =D16*($I$9+C12+C13+C14+C15) -> 0 | D16: 0.0802 | F16: =IF(AND(D16>=G16,D16<=I16),"OK","DIFERE") -> OK | G16: 0.0802 | H16: 0.084 | I16: 0.0877 | J16: L | K16: LUCRO BRUTO
A17: 6 | B17: I - IMPOSTOS | C17: =C22-SUM(C12:C16) -> 0 | D17: =SUM(D18:D21) -> 0.0865 | J17: I | K17: IMPOSTOS
A18: 6.1 | B18: PIS | D18: 0.0065
A19: 6.2 | B19: COFINS | D19: 0.03
A20: 6.3 | B20: ISS (CONFORME LEGISLAÇÃO MUNICIPAL) | D20: 0.05
A21: 6.4 | B21: CONTRIB.PREV. SOBRE REC. BRUTA - CPRB
A22: TOTAL DO BDI (R$) | C22: =C23-I9 -> 0 | F22: Parâmetros do Acórdão 2.622/2013 - Plenário (Obras Portuárias)
A23: PREÇO DE VENDA (R$) | C23: =I9*(1+D24) -> 0 | F23: Sem CPRB | G23: 0.228 | H23: 0.2748 | I23: 0.3095
A24: BDI (%) | D24: =ROUND((((1+$D12+$D13+$D14)*(1+$D15)*(1+$D16)/(1-$D17)))-1,4) -> 0.3028 | E24: =IF(AND($D24>=$G24,$D24<=$I24),"OK","DIFERE") -> OK | F24: Com CPRB | G24: 0.2531 | H24: 0.3008 | I24: 0.3362
E28: Equação Acordão TCU 2.622/2013 - Plenário
A32: Onde:
A33: AC: taxa de administração central;
A34: S: taxa de seguros;
A35: G: taxa de garantias;
A36: R: taxa de riscos;
A37: DF: taxa de despesas financeiras;
A38: L: taxa de lucro/remuneração;
A39: I: taxa de incidência de impostos (PIS, COFINS, ISS, CPRB).

Sheet BDI (Reduzido)
B2: GOVERNO DO ESTADO DO PARANÁ
B3: PORTOS DO PARANÁ
C6: PRÓPRIO: | D6: =IF(#REF!<>"",#REF!," ") -> #REF!
A7: COMPOSIÇÃO DE BDI REDUZIDO
A9: CUSTO TOTAL DO SERVIÇO (R$):
A10: ITEM | B10: DISCRIMINAÇÃO | C10: VALOR (R$) | D10: TAXA (%) | E10: OBSERVAÇÃO | F10: SITUAÇÃO DO INTERVALO ADMISSIVEL | G10: PARCELAS DO BDI - OBRAS PORTUÁRIAS (%)
G11: 1 Quartil | H11: Médio | I11: 3 Quartil
A12: 1 | B12: AC - ADMINISTRAÇÃO CENTRAL | C12: =ROUND(D12*$I$9,2) -> 0 | D12: 0.0345 | F12: =IF(AND(D12>=G12,D12<=I12),"OK","DIFERE") -> OK | G12: 0.015 | H12: 0.0345 | I12: 0.0449 | J12: AC | K12: ADMINISTRAÇÃO CENTRAL
A13: 2 | B13: SG - SEGUROS + GARANTIA | C13: =ROUND(D13*$I$9,2) -> 0 | D13: 0.0048 | F13: =IF(AND(D13>=G13,D13<=I13),"OK","DIFERE") -> OK | G13: 0.003 | H13: 0.0048 | I13: 0.0082 | J13: SG | K13: SEGUROS + GARANTIA
A14: 3 | B14: R - RISCOS | C14: =ROUND(D14*$I$9,2) -> 0 | D14: 0.0085 | F14: =IF(AND(D14>=G14,D14<=I14),"OK","DIFERE") -> OK | G14: 0.0056 | H14: 0.0085 | I14: 0.0089 | J14: R | K14: RISCOS
A15: 4 | B15: DF - DESPESAS FINANCEIRAS | C15: =D15*($I$9+C12+C13+C14) -> 0 | D15: 0.0085 | F15: =IF(AND(D15>=G15,D15<=I15),"OK","DIFERE") -> OK | G15: 0.0085 | H15: 0.0085 | I15: 0.0111 | J15: DF | K15: DESPESAS FINANCEIRAS
A16: 5 | B16: L - LUCRO BRUTO | C16: =D16*($I$9+C12+C13+C14+C15) -> 0 | D16: 0.0511 | F16: =IF(AND(D16>=G16,D16<=I16),"OK","DIFERE") -> OK | G16: 0.035 | H16: 0.0511 | I16: 0.0622 | J16: L | K16: LUCRO BRUTO
A17: 6 | B17: I - IMPOSTOS | C17: =C22-SUM(C12:C16) -> 0 | D17: =SUM(D18:D21) -> 0.0365 | J17: I | K17: IMPOSTOS
A18: 6.1 | B18: PIS | D18: 0.0065
A19: 6.2 | B19: COFINS | D19: 0.03
A20: 6.3 | B20: ISS (CONFORME LEGISLAÇÃO MUNICIPAL) | D20: 0
A21: 6.4 | B21: CONTRIB.PREV. SOBRE REC. BRUTA - CPRB
A22: TOTAL DO BDI (R$) | C22: =C23-I9 -> 0
A23: PREÇO DE VENDA (R$) | C23: =I9*(1+D24) -> 0
A24: BDI (%) | D24: =ROUND((((1+$D12+$D13+$D14)*(1+$D15)*(1+$D16)/(1-$D17)))-1,4) -> 0.1528
E28: Equação Acordão TCU 2.622/2013 - Plenário
A32: Onde:
A33: AC: taxa de administração central;
A34: S: taxa de seguros;
A35: G: taxa de garantias;
A36: R: taxa de riscos;
A37: DF: taxa de despesas financeiras;
A38: L: taxa de lucro/remuneração;
A39: I: taxa de incidência de impostos (PIS, COFINS, ISS, CPRB).
