Workbook

Sheet Equipe
A1: PLANILHA A - EQUIPE
A3: EQUIPE DEDICADA | B3: QUANTIDADE | C3: CUSTO MENSAL* | D3: CUSTO TOTAL (30 MESES) | E3: CÁLCULO CUSTO TOTAL
A4: Controlador de Vetores com carteira de habilitação tipo B, conforme TR. | B4: 4 | C4: 0 | D4: =B4*C4*30 -> 0 | E4: QTDD X CUSTO UNITÁRIO X 30 MESES
A6: CUSTO TOTAL | D6: =D4 -> 0
A7: * valor deve conter todos os encargos aplicáveis, EPIs , incluindo pagamento de periculosidade ou insalubridade se for o caso

Sheet Recursos
A1: PLANILHA C - RECURSOS E EQUIPAMENTOS
A3: ITEM | B3: RECURSOS | C3: UNIDADE | D3: QTDD MENSAL | E3: CUSTO UNITÁRIO TOTAL | F3: CUSTO TOTAL (30 MESES) | G3: CÁLCULO CUSTO TOTAL
A4: 1 | B4: DESRATIZAÇÃO - conforme TR
A5: 1.1 | B5: Fornecimento inicial e instalação de porta-iscas de material adequado incluindo a sinalização vertical e horizontal, conforme TR | C5: unitário | D5: 500 | E5: 0 | F5: =E5*D5 -> 0 | G5: QTDD X CUSTO UNITÁRIO
A6: 1.2 | B6: Fornecimento inicial de sinalização horizontal com os riscos atinentes, conforme TR | C6: unitário | D6: 500 | E6: 0 | F6: =D6*E6 -> 0 | G6: QTDD X CUSTO UNITÁRIO
A7: 1.3 | B7: Fornecimento inicial de sinalização vertical com os riscos atinentes, conforme TR | C7: unitário | D7: 500 | E7: 0 | F7: =D7*E7*30 -> 0 | G7: QTDD X CUSTO UNITÁRIO
A8: 1.4 | B8: Reposição/substituição de porta-iscas sob demanda com a sinalização horizontal | C8: unitário/ mês | D8: 100 | E8: 0 | F8: =D8*E8*30 -> 0 | G8: QTDD X CUSTO UNITÁRIO X 30 MESES
A9: 1.5 | B9: Reposição/substituição da sinalização vertical dos porta-iscas , conforme TR | C9: unitário/ mês | D9: 50 | E9: 0 | F9: =D9*E9*30 -> 0 | G9: QTDD X CUSTO UNITÁRIO X 30 MESES
A10: 1.6 | B10: Reposição/substituição da sinalização horizontal dos porta-iscas, com execeção de resposição de porta-iscas, conforme TR | C10: unitário/ mês | D10: 50 | E10: 0 | F10: =D10*E10*30 -> 0 | G10: QTDD X CUSTO UNITÁRIO X 30 MESES
A11: 1.7 | B11: Iscas peletizadas, conforme TR | C11: kg/ mês | D11: 25 | E11: 0 | F11: =D11*E11*30 -> 0 | G11: QTDD X CUSTO UNITÁRIO X 30 MESES
A12: 1.8 | B12: Iscas parafinadas, conforme TR | C12: kg/ mês | D12: 10 | E12: 0 | F12: =D12*E12*30 -> 0 | G12: QTDD X CUSTO UNITÁRIO X 30 MESES
B13: Pó de contato, conforme TR | C13: kg/ mês | D13: 5 | E13: 0 | F13: =D13*E13*30 -> 0 | G13: QTDD X CUSTO UNITÁRIO X 30 MESES
E14: SUBTOTAL | F14: =SUM(F5:F13) -> 0
A15: 2 | B15: CONTROLE DE POMBOS - conforme TR
A16: 2.1 | B16: Fornecimento de enxada/pá antifaiscante para raspagem de fezes* | C16: unitário | D16: 2 | E16: 0 | F16: =D16*E16 -> 0 | G16: QTDD X CUSTO UNITÁRIO
A17: 2.2 | B17: Fornecimento de enxada/pá metálica para raspagem de fezes* | C17: unitário | D17: 2 | E17: 0 | F17: =D17*E17 -> 0 | G17: QTDD X CUSTO UNITÁRIO
A18: 2.3 | B18: Produtos de desinfecção contra piolho | C18: L/ mês | D18: 20 | E18: 0 | F18: =D18*E18*30 -> 0 | G18: QTDD X CUSTO UNITÁRIO X 30 MESES
A19: 2.4 | B19: Tela | C19: m²/ mês | D19: =900/30 -> 30 | E19: 0 | F19: =D19*E19*30 -> 0 | G19: QTDD X CUSTO UNITÁRIO X 30 MESES
A20: 2.5 | B20: Espículas/arames | C20: m/ mês | D20: =1500/30 -> 50 | E20: 0 | F20: =D20*E20*30 -> 0 | G20: QTDD X CUSTO UNITÁRIO X 30 MESES
A21: 2.6 | B21: Escadas com alcance mínimo de 2,5 metros, incluindo eventual locação* | C21: unitário | D21: 1 | E21: 0 | F21: =D21*E21 -> 0 | G21: QTDD X CUSTO UNITÁRIO
A22: 2.7 | B22: Escadas de pintor dupla fibra de 3 m e 10 degraus* | C22: unitário | D22: 1 | E22: 0 | F22: =D22*E22 -> 0 | G22: QTDD X CUSTO UNITÁRIO
A23: 2.8 | B23: Equipamento elevatório com alcance mínimo de 25 metros, incluindo eventual locação, mão de obra e demais despesas | C23: dias/ mês | D23: 4 | E23: 0 | F23: =D23*E23*30 -> 0 | G23: QTDD X CUSTO UNITÁRIO X 30 MESES
A24: 2.9 | B24: Lavadora de alta pressão profissional ou semiprofissional robusta com ciclo de funcionamento (inclui manutenção) com mangueira de longo alcance de 250 metros *, conforme TR | C24: unitário | D24: 1 | E24: 0 | F24: =D24*E24 -> 0 | G24: QTDD X CUSTO UNITÁRIO
A25: 2.10 | B25: Lanterna LED de longo alcance portátil (inclui manutenção)* | C25: unitario | D25: 1 | E25: 0 | F25: =D25*E25 -> 0 | G25: QTDD X CUSTO UNITÁRIO
E26: SUBTOTAL | F26: =SUM(F16:F25) -> 0
A27: 3 | B27: ARTRÓPODES NOCIVOS - conforme TR
A28: 3.1 | B28: Produto químico líquido para desinsetização (trimestral), conforme TR | C28: L/ trimestre | D28: 20 | E28: 0 | F28: =D28*E28*10 -> 0 | G28: QTDD X CUSTO UNITÁRIO X 10 APLICAÇÕES
A29: 3.2 | B29: Produto químico gel/pó seco para desinsetização (trimestral), conforme TR | C29: kg/ trimestre | D29: 10 | E29: 0 | F29: =D29*E29*10 -> 0 | G29: QTDD X CUSTO UNITÁRIO X 10 APLICAÇÕES
A30: 3.3 | B30: Larvicida com componente ativo bti (Bacillus thuringiensis israelensis), conforme TR | C30: L/ trimestre | D30: 20 | E30: 0 | F30: =D30*E30*30 -> 0 | G30: QTDD X CUSTO UNITÁRIO X 30 MESES
A31: 3.4 | B31: Adesivos de aplicação (trimestral), conforme TR | C31: unitário/ trimestre | D31: 50 | E31: 0 | F31: =D31*E31*10 -> 0 | G31: QTDD X CUSTO UNITÁRIO X 10 APLICAÇÕES
E32: SUBTOTAL | F32: =SUM(F28:F31) -> 0
A33: 4 | B33: CONTROLE DE ABELHAS, VESPAS , MARIMBONDOS E OUTROS (MORCEGOS, LAGARTOS, ANIMAIS PEÇONHENTOS ETC.) - conforme TR
A34: 4.1 | B34: Controle/retirada/destinação final de colméias de abelhas, vespas, marimbondos por profissional capacitado**, conforme TR | C34: unitário/ mês | D34: 10 | E34: 0 | F34: =E34*D34*30 -> 0 | G34: QTDD X CUSTO UNITÁRIO X 30 MESES
A35: 4.2 | B35: Controle de morcegos e lagartos por profissional capacitado**, conforme TR | C35: unitário/ mês | D35: 2 | E35: 0 | F35: =E35*D35*30 -> 0 | G35: QTDD X CUSTO UNITÁRIO X 30 MESES
A36: 4.3 | B36: Controle de animais peçonhentos e destinação final por profissional capacitado**, conforme TR | C36: unitário/ mês | D36: 4 | E36: 0 | F36: =E36*D36*30 -> 0 | G36: QTDD X CUSTO UNITÁRIO X 30 MESES
E37: SUBTOTAL | F37: =SUM(F34:F36) -> 0
A38: 5 | B38: ANIMAIS DOMÉSTICOS, DE CRIAÇÃO OU PRODUÇÃO - conforme TR
A39: 5.1 | B39: Remoção e destinação final de animais domésticos de pequeno porte por profissional capacitado**, conforme TR | C39: unitário/ mês | D39: 10 | E39: 0 | F39: =D39*E39*30 -> 0 | G39: QTDD X CUSTO UNITÁRIO X 30 MESES
A40: 5.2 | B40: Remoção e destinação final de animais domésticos de médio a grande porte por profissional capacitado**, conforme TR | C40: unitário/ mês | D40: 5 | E40: 0 | F40: =D40*E40*30 -> 0 | G40: QTDD X CUSTO UNITÁRIO X 30 MESES
A41: 5.3 | B41: Acionamento de médico veterinária para remoção e primeiro atendimento de animais domésticos de pequeno, porte | C41: unitário | D41: 5 | E41: 0 | F41: =D41*E41*30 -> 0 | G41: QTDD X CUSTO UNITÁRIO X 30 MESES
...

Sheet BDI
A1: PLANILHA B - COMPOSIÇÃO DO BDI - SERVIÇOS, MATERIAIS E EQUIPAMENTOS
A2: AC | B2: Administração Central | C2: 0.0552
A3: DF | B3: Despesa Financeira | C3: 0.0102
A4: LB | B4: Lucro Bruto | C4: 0.084
A5: SG | B5: Seguro + Garantia | C5: 0.0122
A6: R | B6: Risco | C6: 0.0232
A7: T | B7: Tributos | C7: =SUM(C8:C10) -> 0.0865
B8: ISS | C8: 0.05
B9: COFINS | C9: 0.03
B10: PIS | C10: 0.0065
A11: CUSTO TOTAL | D11: =((1+C2+C6+C5)*(1+C3)*(1+C4)/(1-C7))-1 -> 0.30735517
A12: Nota 1 - A Composição do BDI (Serviços, Materiais e Equipamentos) está de acordo com a Nota Técnica nº 4/2013 do Supremo Tribunal Federal - Secretaria de Controle Interno - Coordenadoria de Acompanhamento de Gestão - Seção de Análise de Licitações e Contratos
A13: Nota 2 - De acordo com a Lei Municipal nº 262 de 2011 do Município de Paranguá, atribui-se a alíquota específica de 5% para o ISS.
A14: Nota 3 -

Sheet Planilha Composição Final
A1: DADOS DA EMPRESA
A2: Razão Social da Empresa:
A3: CNPJ/CPF:
A4: Endereço:
A5: CEP:
A6: Estado: | C6: Cidade:
A7: Telefone:
A8: Email para contato:
A10: PLANILHA COMPOSIÇÃO DE PREÇOS DA CONTRATAÇÃO DE EMPRES ESPECIALIZADA PARA O CONTROLE DE PROLIFERAÇÃO DE VETORES
A12: ITEM | B12: DISCRIMINAÇÃO | C12: CUSTO TOTAL (30 meses)
A13: 1 | B13: Equipe | C13: =Equipe!D6 -> 0
A14: 2 | B14: Desratização | C14: =Recursos!F14 -> 0
A15: 3 | B15: Controle de Pombos | C15: =Recursos!F26 -> 0
A16: 4 | B16: Artrópodes nocivos | C16: =Recursos!F32 -> 0
A17: 5 | B17: Controle de abelhas, vespas, marimbondos e outros (morcegos, animais peçonhentos, lagartos etc.) | C17: =Recursos!F37 -> 0
A18: 6 | B18: Animais domésticos, de criação ou produção | C18: =Recursos!F43 -> 0
A19: 7 | B19: Equipamentos | C19: =Recursos!F49 -> 0
A20: 8 | B20: Carcaças | C20: =Recursos!F52 -> 0
A22: CUSTO TOTAL | C22: =SUM(C13:C20) -> 0
A23: 11 | B23: BDI - Benefícios e Despesas Indiretas | C23: =BDI!D11 -> 0.30735517
A25: CUSTO TOTAL | C25: =C22+(C22*C23) -> 0
A27: Data da Proposta:
A29: Validade da Proposta: | C29: 06 meses
A31: Assinatura do Representante da Empresa
