Workbook
Name TableName: "Dummy"

Sheet EQUIPE FIXA
B2: CUSTOS EQUIPE PERMANENTE *orientações preenchimento: 1 - devem ser preenchidas apenas as células em amarelo 2 - o valor dos salários devem já considerar todos os encargos aplicáveis
B9: Mão de obra operacional | D9: Valor salário mensal | F9: N° de profissionais
B10: Líder de Operação e Manutenção (conforme especificação do TR) | D10: 10000 | F10: 4
B11: Bombeiros Civis (conforme especificação do TR) | D11: 9000 | F11: 4
B12: Operadores (conforme especificação do TR) | D12: 7000 | F12: 16
B13: Gerencial
B14: Gerente Operacional (conforme especificação do TR) | D14: 32000 | F14: 1
B15: Coordenador Operacional (conforme especificação do TR) | D15: 18000 | F15: 1
B16: Assistente Administrarivo (conforme especificação do TR) | D16: 6000 | F16: 1
B17: Composição dos custos ( mês)
B18: Operacional | D18: =(D10*F10)+(D11*F11)+(D12*F12) -> 188000
B19: Gerencial | D19: =D14+D15+D16 -> 56000
B20: Total | D20: =SUM(D18:D19) -> 244000
B21: CUSTO MENSAL DA MÃO DE OBRA | E21: =D20 -> 244000

Sheet EQUIPE COMPLEMENTAR POR DEMANDA
B2: CUSTOS DE EQUIPE A SER EVENTUALMENTE UTILIZADA EM ATENDIMENTO A EMERGÊNCIAS *orientações preenchimento: 1 - devem ser preenchidas apenas as células em amarelo 2 - o valor dos salários devem já considerar todos os encargos aplicáveis
B12: Item | C12: Equipe Especializada | D12: Unidade | E12: Tempo p/ Disponibilização | F12: Preço Unitário | G12: Preço Total | J12: ALBRIGGS | K12: HIDROCLEAN | L12: OCEANPACT | M12: SUATRANS | N12: MEDIANA PREÇOS
B13: 1 | C13: Consultor em emergências químicas | D13: Dia | E13: 48h | F13: 2900 | G13: =F13 -> 2900 | J13: 3200 | K13: 12250 | L13: 3600 | M13: 265.11 | N13: =MEDIAN(J13:M13) -> 3400
B14: 2 | C14: Consultor em emergências com hidrocarbonetos | D14: Dia | E14: 48h | F14: 2700 | G14: =F14 -> 2700 | J14: 1815 | K14: 7000 | L14: 2400 | M14: 147.28 | N14: =MEDIAN(J14:M14) -> 2107.5
B15: 3 | C15: Consultor em emergências com incêndio e explosão | D15: Dia | E15: 48h | F15: 2950 | G15: =F15 -> 2950
B16: Item | C16: Equipe Gerencial | D16: Unidade | E16: Tempo p/ Disponibilização | F16: Preço Unitário | G16: Preço Total
B17: 1 | C17: Gerente de Contingência | D17: Dia | E17: 12h | F17: 1600 | G17: =F17 -> 1600 | J17: 2500 | K17: 1600 | L17: 1900 | M17: 265.11 | N17: =MEDIAN(J17:M17) -> 1750
B18: 2 | C18: Químico/engenheiro químico | D18: Dia | E18: 12h | F18: 1100 | G18: =F18 -> 1100 | J18: 1700 | K18: 1600 | L18: 2300 | M18: 147.28 | N18: =MEDIAN(J18:M18) -> 1650
B19: 3 | C19: Profissional graduado (biólogo; engenheiro;oceanógrafo) experiente em Monitoramentos ambientais durante atendimento à emergências | D19: Dia | E19: 12h | F19: 950 | G19: =F19 -> 950 | J19: 1700 | K19: 1600 | L19: 2300 | M19: 775.12 | N19: =MEDIAN(J19:M19) -> 1650
B20: 4 | C20: Profissional (graduado) de Relacionamento Imprensa/Comunidades | D20: Dia | E20: 12h | F20: 850 | G20: =F20 -> 850 | J20: 1700 | K20: 1600 | L20: 2300 | M20: 147.28 | N20: =MEDIAN(J20:M20) -> 1650
B21: 5 | C21: Profissional de Gestão de Equipamentos e de Manutenção | D21: Dia | E21: 12h | F21: 850 | G21: =F21 -> 850 | J21: 1850 | K21: 1200 | L21: 1900 | M21: 265.11 | N21: =MEDIAN(J21:M21) -> 1525
B22: 6 | C22: Supervisor OperacionaL/Treinamento/Manutenção | D22: Dia | E22: 08h | F22: 900 | G22: =F22 -> 900 | J22: 1400 | K22: 1100 | L22: 1300 | M22: 105.8 | N22: =MEDIAN(J22:M22) -> 1200
B23: Item | C23: Equipe operacional | D23: Unidade | E23: Tempo p/ Disponibilização | F23: Preço Unitário | G23: Preço Total
B24: 1 | C24: Gerente Operacional (com as mesmas qualificações dos Operadores da equipe fixa) | D24: Dia | E24: 08h | F24: 1500 | G24: =F24 -> 1500 | J24: 1815 | K24: 1100 | L24: 3600 | M24: 265.11 | N24: =MEDIAN(J24:M24) -> 1457.5
B25: 2 | C25: Coordenador Operacional (com as mesmas qualificações dos Operadores da equipe fixa) | D25: Dia | E25: 08h | F25: 1600 | G25: =F25 -> 1600 | J25: 900 | K25: 980 | L25: 2400 | M25: 147.28 | N25: =MEDIAN(J25:M25) -> 940
B26: 3 | C26: Líder ( com as mesmas qualificações dos Operadores da equipe fixa) | D26: Dia | E26: 08h | F26: 1300 | G26: =F26 -> 1300 | J26: 1650 | K26: 1000 | L26: 1900 | M26: 132.55 | N26: =MEDIAN(J26:M26) -> 1325
B27: 4 | C27: Assistente Administrativo (com as mesmas qualificações dos Operadores da equipe fixa) | D27: Dia | E27: 08h | F27: 1000 | G27: =F27 -> 1000 | J27: 900 | K27: 750 | L27: 1400 | M27: 74.06 | N27: =MEDIAN(J27:M27) -> 825
B28: 5 | C28: Operadores (com as mesmas qualificações dos Operadores da equipe fixa) | D28: Dia | E28: 08h | F28: 1200 | G28: =F28 -> 1200 | J28: 1000 | K28: 484 | L28: 950 | M28: 74.06 | N28: =MEDIAN(J28:M28) -> 717
B29: 6 | C29: Bombeiro Civil (com as mesmas qualificações dos Operadores da equipe fixa) | D29: Dia | E29: 08h | F29: 1300 | G29: =F29 -> 1300
B30: 7 | C30: Operador de Manutenção | D30: Dia | E30: 08h | F30: 1300 | G30: =F30 -> 1300
F31: TOTAL | G31: =SUM(G13:G15)+SUM(G17:G22)+SUM(G24:G30) -> 24000

Sheet TREINA.SIMULADOS.FISCALIZACAO
B1: Simulados/Treinamentos/Capacitações/FISCALIZAÇÃO AMBIENTAL *orientações preenchimento: 1 - devem ser preenchidas apenas as células em amarelo 2 - considerar as especificações detalhatas no Termo de Referência (TR)
B8: TREINAMENTOS | C8: UNIDADE | D8: QUANTIDADE | E8: PREÇO UNITÁRIO | F8: PREÇO TOTAL | H8: ALBRIGGS | I8: HIDROCLEAN | J8: OCEANPACT | K8: SUATRANS | L8: MEDIANA PREÇOS
B10: First Responder - OPRC IMO I | C10: Unid. | D10: 2 | E10: 12000 | F10: =E10*D10 -> 24000 | H10: 25000 | I10: 12500 | J10: 23085.8 | K10: 1001.41 | L10: =MEDIAN(H10:K10) -> 17792.9
B11: On Scene Commander - OPRC IMO II | C11: Unid. | D11: 1 | E11: 16000 | F11: =E11*D11 -> 16000 | H11: 26500 | I11: 14500 | J11: 19238.17 | K11: 1043.06 | L11: =MEDIAN(H11:K11) -> 16869.085
B12: Treinamento HAZMAT nível primeiro no local | C12: Unid. | D12: 2 | E12: 30000 | F12: =E12*D12 -> 60000
B13: Treinamento HAZMAT nível operações | C13: Unid. | D13: 1 | E13: 20000 | F13: =E13*D13 -> 20000
B14: Treinamento HAZMAT nível comando | C14: Unid. | D14: 1 | E14: 35000 | F14: =E14*D14 -> 35000
B15: Treinamento de Brigada Avançada (baseado na NPT 017 do Corpo de Bombeiros do Estado do Paraná). | C15: Unid. | D15: 2 | E15: 22000 | F15: =E15*D15 -> 44000
B16: Simulado de mobilização (PEI/PAE) | C16: Unid. | D16: 6 | E16: 12000 | F16: =E16*D16 -> 72000
B17: Simulado completo de resposta do Plano de Atendimento a Emergência (PAE/PCE) | C17: Unid. | D17: 12 | E17: 12000 | F17: =E17*D17 -> 144000
B18: Simulado completo de resposta do Plano de Emergência Individual (PEI) | C18: Unid. | D18: 3 | E18: 12000 | F18: =E18*D18 -> 36000 | H18: 28000 | I18: 800 | J18: 11542.9 | K18: 621.48 | L18: =MEDIAN(H18:K18) -> 6171.45
B19: Participação no SIMULADO DO PLANO DE ÁREA | C19: Unid. | D19: 3 | E19: 8000 | F19: =E19*D19 -> 24000 | H19: 39000 | I19: 3500 | J19: 13851.48 | K19: 1247.17 | L19: =MEDIAN(H19:K19) -> 8675.74
B20: Participação no SIMULADO DO Plano de Ajuda Mútua | C20: Unid. | D20: 3 | E20: 6000 | F20: =E20*D20 -> 18000
B21: FISCALIZAÇÃO AMBIENTAL com disponibilização de uma embarcação e pessoal para operação da mesma em Apoio a Diretoria de Meio Ambiente da APPA, na área dos portos organizados de Paranaguá e Antonina | C21: Unid. | D21: 10 | E21: 650 | F21: =(E21*D21)*30 -> 195000 | H21: 6000 | I21: 500 | J21: 3847.63 | K21: 4.18 | L21: =MEDIAN(H21:K21) -> 2173.815
B22: TOTAL | F22: =SUM(F10:F21) -> 688000

Sheet Recursos PEI
C2: RECURSOS E EQUIPAMENTOS PERMANENTES Atendimento vazamento de óleo no mar *orientações preenchimento: 1 - devem ser preenchidas apenas as células em amarelo 2 - os valores unitários a serem preenchidos devem considerar o valor para disponibilização mensal dos equipamentos no CPRE;
C10: ITEM | D10: RECURSOS | E10: UNIDADE | F10: QUANTIDADE | G10: VALOR UNITÁRIO | H10: VALOR TOTAL | K10: ALBRIGGS | M10: HIDROCLEAN | O10: OCEANPACT | Q10: SUATRANS | S10: MEDIANA PREÇOS
C11: 1 | D11: RECOLHIMENTO
C12: 1.1 | D12: Sistema de recolhimento - composto por Recolhedor de vertedouro com capacidade nominal mínima de 25m³/h com respectiva motobomba | E12: unidade | F12: 3 | G12: 400 | H12: =F12*G12 -> 1200 | K12: 535 | M12: 112.5 | O12: 342.69 | Q12: 1150.61 | S12: =MEDIAN(K12:R12) -> 438.845
C13: 1.2 | D13: Sistema de recolhimento - composto por Recolhedor de vertedouro com capacidade nominal mínima de 50m³/h com respectiva motobomba | E13: unidade | F13: 4 | G13: 500 | H13: =F13*G13 -> 2000
C14: 1.3 | D14: Sistema de recolhimento - composto por Recolhedor de vertedouro com capacidade nominal mínima de 275m³/h com respectiva motobomba | E14: unidade | F14: 1 | G14: 3200 | H14: =F14*G14 -> 3200 | K14: 8735 | M14: 750 | O14: 9735.44 | Q14: 204933.05 | S14: =MEDIAN(K14:R14) -> 9235.22
C15: 1.4 | D15: Sistema de recolhimento -composto por Recolhedor de vertedouro com capacidade nominal mínima de 150m³/h com respectiva motobomba | E15: unidade | F15: 1 | G15: 3200 | H15: =F15*G15 -> 3200 | K15: 7000 | M15: 375 | O15: 1947.09 | Q15: 14990.76 | S15: =MEDIAN(K15:R15) -> 4473.545
C16: 1.5 | D16: Sistema de recolhimento - composto por Recolhedor oleofílico com capacidade nominal de mínima 20m³/h com respectiva motobomba | E16: unidade | F16: 4 | G16: 350 | H16: =F16*G16 -> 1400
C17: 1.6 | D17: Manta absorvente para hidrocarbonetos de no mínimo 0,4 x 0,5 x 0,004m | E17: unidade | F17: 3000 | G17: 4 | H17: =F17*G17 -> 12000 | K17: 0.06 | M17: 0.01 | O17: 0.06 | Q17: 0.12 | S17: =MEDIAN(K17:R17) -> 0.06
C18: 1.7 | D18: Absorvente granulado natural (Tipo turfa) | E18: kg | F18: 400 | G18: 13 | H18: =F18*G18 -> 5200 | K18: 0.35 | M18: 0.06 | O18: 0.47 | Q18: 3.18 | S18: =MEDIAN(K18:R18) -> 0.41
C19: 2 | D19: CONTENÇÃO
C20: 2.1 | D20: Barreira com flutuador fixo de diâmetro maior ou igual a 30,5 cm (12") e saia maior ou igual a 35cm, com respectivas barras de reboque, âncoras e boia de arinque | E20: metro | F20: 1500 | G20: 4 | H20: =F20*G20 -> 6000 | K20: 4 | M20: 0.83 | O20: 8.27 | Q20: 9.58 | S20: =MEDIAN(K20:R20) -> 6.135
C21: 2.2 | D21: Barreira com flutuador fixo de diâmetro maior ou igual a 38 cm (15") e saia maior ou igual a 41cm, com respectivas barras de reboque, âncoras, boia de arinque | E21: metro | F21: 1500 | G21: 4.5 | H21: =F21*G21 -> 6750 | K21: 4.5 | M21: 0.9 | O21: 8.93 | Q21: 10.75 | S21: =MEDIAN(K21:R21) -> 6.715
C22: 2.3 | D22: Barreira absorvente para hidrocarbonetos de no mínimo 20 x 300 cm | E22: metro | F22: 3000 | G22: 1 | H22: =F22*G22 -> 3000 | K22: 0.67 | M22: 0.09 | O22: 0.62 | Q22: 5.34 | S22: =MEDIAN(K22:R22) -> 0.645
C23: 3 | D23: ARMAZENAMENTO
C24: 3.1 | D24: Tanque flutuante inflável de armazenamento temporário, com capacidade mínima de 10 m³ | E24: Unidade | F24: 25 | G24: 300 | H24: =F24*G24 -> 7500 | K24: 367 | M24: 67.5 | O24: 1210.89 | Q24: 575.29 | S24: =MEDIAN(K24:R24) -> 471.145
C25: 3.2 | D25: Tanque flutuante inflável de armazenamento temporário, com capacidade mínima de 25 m³ | E25: Unidade | F25: 4 | G25: 400 | H25: =F25*G25 -> 1600
C26: 3.3 | D26: Soprador para insuflação de tanques flutuantes infláveis de armazenamento temporário | E26: unidade | F26: 5 | G26: 90 | H26: =F26*G26 -> 450
C27: 3.4 | D27: Bomba para transferência entre dispositivos de armazenamento para líquidos alta viscosidade com capacidade mínima de bombeamento 25m³/h | E27: undiade | F27: 2 | G27: 250 | H27: =F27*G27 -> 500
C28: 3.5 | D28: Bomba para transferência entre dispositivos de armazenamento para água oleosa ou óleos leves com capacidade mínima de bombeamento 25m³/h | E28: undiade | F28: 2 | G28: 270 | H28: =F28*G28 -> 540
C29: 3.5 | D29: Tanque terrestre de armazenamento temporário, com capacidade mínima de 10 m³ | E29: unidade | F29: 45 | G29: 230 | H29: =F29*G29 -> 10350 | K29: 375 | M29: 101.25 | O29: 2977.59 | Q29: 904.04 | S29: =MEDIAN(K29:R29) -> 639.52
C30: 3.6 | D30: Tambores em plástico (200 litros) | E30: peça | F30: 15 | G30: 7 | H30: =F30*G30 -> 105 | K30: 5.7 | M30: 1.88 | O30: 19.47 | Q30: 7 | S30: =MEDIAN(K30:R30) -> 6.35
C31: 3.7 | D31: Big Bags com liner (1 m³) | E31: peça | F31: 150 | G31: 1 | H31: =F31*G31 -> 150 | K31: 1 | M31: 0.19 | O31: 1.95 | Q31: 2.67 | S31: =MEDIAN(K31:R31) -> 1.475
C32: 4 | D32: MONITORAMENTO AMBIENTAL
C33: 4.1 | D33: Monitor portátil multigás (O2 , Inflamabilidade e gases tóxicos) | E33: Unidade | F33: 2 | G33: 85 | H33: =F33*G33 -> 170 | K33: 85 | M33: 26.25 | O33: 231.59 | Q33: 114.81 | S33: =MEDIAN(K33:R33) -> 99.905
C34: 5 | D34: VEÍCULOS
C35: 5.1 | D35: Veículo tipo pick-up cabine dupla 4x4 diesel com guincho elétrico (conforme condições do TR, incluindo os custos de GPS de rastreamento com acesso à Contratante, de manutenção, combustível e condutor) | E35: unidade | F35: 2 | G35: 4000 | H35: =F35*G35 -> 8000 | K35: 4000 | M35: 787.5 | O35: 5062.43 | Q35: 3337.41 | S35: =MEDIAN(K35:R35) -> 3668.705
C36: 5.2 | D36: Carreta-reboque para equipamentos diversos | E36: unidade | F36: 1 | G36: 508.14 | H36: =F36*G36 -> 508.14 | K36: 500 | M36: 18.75 | O36: 224.3 | Q36: 698.62 | S36: =MEDIAN(K36:R36) -> 362.15
C37: 5.3 | D37: Barco de primeira resposta mínimo 7 metros, com carreta reboque ( conforme condições do TR) | E37: unidade | F37: 3 | G37: 5835 | H37: =F37*G37 -> 17505 | K37: 5835 | M37: 750 | O37: 9735.44 | Q37: 3399.69 | S37: =MEDIAN(K37:R37) -> 4617.345
C38: 5.4 | D38: Barco Workboat, mínimo 10 metros, com carreta reboque (conforme condições do TR) | E38: unidade | F38: 2 | G38: 8000 | H38: =F38*G38 -> 16000 | K38: 14165 | M38: 1125 | O38: 17523.79 | Q38: 22827.19 | S38: =MEDIAN(K38:R38) -> 15844.395
C39: 5.5 | D39: Barco pequeno porte para acesso em áreas rasas e manguezal (conforme condições do TR) | E39: unidade | F39: 1 | G39: 1500 | H39: =F39*G39 -> 1500 | K39: 1500 | M39: 22.5 | O39: 778.83 | Q39: 2966.33 | S39: =MEDIAN(K39:R39) -> 1139.415
C40: 5.6 | D40: Custo de alocação de uma embarcação de no mínimo 7 metros em Marina (conforme TR) | E40: mensal | F40: 1 | G40: 2000 | H40: =F40*G40 -> 2000
C41: 5.7 | D41: Empilhadeira com capacidade para movimentação dos equipamentos do contrato | E41: unidade | F41: 1 | G41: 600 | H41: =F41*G41 -> 600 | K41: 600 | M41: 900 | O41: 8601.94 | Q41: 908.74 | S41: =MEDIAN(K41:R41) -> 904.37
C42: 6 | D42: FERRAMENTAS MANUAIS
C43: 6.1 | D43: Ferramentas Manuais Gerais, tais como: ancinho, enxada, facão, foice, picareta, pá, rodo, baldes, saco plástico, carrinho de mão e puça | E43: Conjunto | F43: 1 | G43: 47 | H43: =F43*G43 -> 47 | K43: 47 | M43: 3 | O43: 66.17 | Q43: 16.51 | S43: =MEDIAN(K43:R43) -> 31.755
C44: 6.2 | D44: Kit manutenção (alicate, chaves de boca, chaves de fenda, braçadeiras) | E44: Conjunto | F44: 2 | G44: 17 | H44: =F44*G44 -> 34 | K44: 17 | M44: 3.75 | O44: 66.17 | Q44: 10.51 | S44: =MEDIAN(K44:R44) -> 13.755
C45: 7 | D45: PROTEÇÃO INDIVIDUAL
C46: 7.1 | D46: Conjunto de Proteção Individual contendo uma quantidade de equipamentos capazes de suprir a demanda operação do Plano de Emergência Individual da APPA e do PPRA da Contratada (bota de PVC cano longo, bota de couro com elástico com biqueira protetora, perneira, luva de algodão, luva de vaqueta, luva de borracha nitrílica, luva de borracha vinílica, luva de raspa, luva de látex, luva de PVC, luva para alta tensão, trava queda e cinto de segurança, colete reflexivo, colete salva-vidas, macacão nível C de proteção (Tipo Tyvek 1422A), macacão nível C de proteção (Tipo Tyvek QC), calça em PVC, blusa em PVC, macacão em PVC, jardineira em PVC, capa de PVC, capacete de segurança, óculos de segurança com aba lateral, óculas ultravioleta, protetor auricular (tipo concha), protetor auricular (inserção descartável), máscara semi-facial, filtro combinado (ABEK), bloqueador solar FPS 60, creme protetor) | E46: Conjunto | F46: 1 | G46: 800 | H46: =F46*G46 -> 800 | K46: 800 | M46: 3.56 | O46: 132.34 | Q46: 592.07 | S46: =MEDIAN(K46:R46) -> 362.205
C47: 8 | D47: PROTEÇÃO COLETIVA
C48: 8.1 | D48: Conjunto de Proteção Coletiva, contendo uma quantidade de equipamentos capazes de suprir a demanda operacional do Plano de Emergência Individual [Fita de isolamento/sinalização, cavaletes de isolamento/sinalização, cones de isolamento/sinalização, bastão ou sinalizador luminoso, sinalizador náutico (fumígeno)] | E48: Conjunto | F48: 1 | G48: 17 | H48: =F48*G48 -> 17 | K48: 17 | M48: 4.5 | O48: 231.59 | Q48: 15.01 | S48: =MEDIAN(K48:R48) -> 16.005
...

Sheet Recursos proteção contra incênd
C2: RECURSOS E EQUIPAMENTOS PERMANENTES (Proteção contra incêndio) *orientações preenchimento: 1 - devem ser preenchidas apenas as células em amarelo; 2 - os valores unitários a serem preenchidos devem considerar o valor para disponibilização mensal dos equipamentos no CPRE;
C11: ITEM | D11: RECURSOS | E11: UNIDADE | F11: QUANTIDADE | G11: VALOR UNITÁRIO | H11: VALOR TOTAL | K11: ALBRIGGS | M11: HIDROCLEAN | O11: OCEANPACT | Q11: SUATRANS | S11: MEDIANA PREÇOS
C12: 1 | D12: MONITORAMENTO AMBIENTAL
C13: 1.1 | D13: Monitor portátil multigás 5 gases(O2 , Inflamabilidade,CO, H2S e NH3) | E13: Unidade | F13: 2 | G13: 700 | H13: =F13*G13 -> 1400 | K13: 85 | M13: 26.25 | O13: 231.59 | Q13: 114.81 | S13: =MEDIAN(K13:R13) -> 99.905
C14: 2 | D14: VEÍCULOS
C15: 2.1 | D15: Caminhão de combate a incêndio ABT (conforme especificações técnicas do Anexo I do Termo de Referência) | E15: unidade | F15: 1 | G15: 55000 | H15: =F15*G15 -> 55000 | K15: 4000 | M15: 787.5 | O15: 5062.43 | Q15: 3337.41 | S15: =MEDIAN(K15:R15) -> 3668.705
C16: 2.2 | D16: Carreta-reboque para equipamentos diversos | E16: unidade | F16: 1 | G16: 700 | H16: =F16*G16 -> 700
C17: 2.3 | D17: Veículo tipo pick-up (conforme condições do TR, incluindo os custos de GPS de rastreamento com acesso à Contratante, de manutenção, combustível e condutor) | E17: unidade | F17: 1 | G17: 13000 | H17: =F17*G17 -> 13000 | K17: 500 | M17: 18.75 | O17: 224.3 | Q17: 698.62 | S17: =MEDIAN(K17:R17) -> 362.15
C18: 3 | D18: FERRAMENTAS MANUAIS
C19: 3.1 | D19: Ferramenta para arrombamento tática portátil para uso exclusivo de forças especiais (Grupos Anti-Sequestro,Policiais, Bombeiros, Resgatistas), foi projetada para forçar, martelar, torcer ou remover todos os tipos de barreiras, mantendo um perfil tático, corpo fabricado em aço SAE 1045 e acabamento com pintura ou galvanizada. Contendo ponteiras fabricadas em aço SAE 1075 temperado e revenido, sendo em uma das extremidades uma ponteira tipo pé de cabra e na outra extremidade uma ponteira tipo cunha e uma ponta arrombadora. Medindo 80 cm de comprimento e 22 mm de diâmetro (corpo), pesando até 6,8 Kg, (padrão). | E19: Unidade | F19: 2 | G19: 45 | H19: =F19*G19 -> 90 | K19: 47 | M19: 3 | O19: 66.17 | Q19: 16.51 | S19: =MEDIAN(K19:R19) -> 31.755
C20: 3.2 | D20: Alicate Corta Vergalhão ou Corta Frio Para cortar vergalhões, cadeados, pinos ou barras de aço. Lâmina em liga de aço 55 cromo, resultando em dureza de 55 a 62 HRC. Articulações do corte desenvolvidas para melhor desempenho e menor esforço do usuário. Cabos tubulares e anatômicos para melhor ajuste e conforto das mãos do usuário. Sistema de ajuste de lâminas mediante parafusos de eixos descentralizados. Grande capacidade de corte. Acabamento em pintura epóxi. Tamanhos: Corta Vergalhão 36" Corta Vergalhão 30" Corta Vergalhão 24" | E20: Unidade | F20: 2 | G20: 35 | H20: =F20*G20 -> 70
C21: 3.3 | D21: Bastão de Salvamento e Resgate para área energizada Bastão de salvamento utilizado em resgate de acidentes elétricos. Idealizado para resgate em acidentes elétricos em instalações, esse bastão dotado de ganchos anatomicamente projetados, garante a distância de segurança e o isolamento necessário, fazendo com que intervenções de emergência e em condições adversas, sejam executadas de forma prática, rápida e segura. | E21: Unidade | F21: 2 | G21: 200 | H21: =F21*G21 -> 400
C22: 3.4 | D22: GANCHO CROQUE PARA BOMBEIROS Desenvolvido para facilitar a ação dos bombeiros em situação de resgate de vítima de afogamento, abordagem de grande utilidade quando da "operação rescaldo" e em áreas energizadas e ou de difícil acesso. ESPECIFICAÇÕES TÉCNICAS: Tensão 100 KV - 100.000 V gancho anti-corrosivo.Fabricado conforme NBR 11854 Os elementos são acopláveis entre si, através de encaixe com travamento por pino de engate rápido. Gancho de aço #1/4" Peso aproximado: 2,75 kg. TAMANHOS: Gancho Croque cabo em Fibra 4,5 m 3 lances Gancho Croque 2,6 m lance único Características Construtivas: Bastão de fibra de vidro, impregnado com resina epoxi e protegido internamente com o núcleo de poliuretano. | E22: Unidade | F22: 2 | G22: 50 | H22: =F22*G22 -> 100
C23: 3.5 | D23: PASSAGEM DE NÍVEL PARA MANGUEIRA DE INCÊNDIO Equipamento fabricado em ferro fundido, na cor preto com faixas na cor amarela para melhor visualização, utilizado para proteção da mangueira de combate a incêndio quando da necessidade de transpassa-la com o caminhão. Comprimento aproximado: 76 cm; Largura aproximada: 42 cm; Altura aproximada: 9 cm; Largura e altura do vão para encaixe das mangueiras de 1 ½' e 2 ½" de aproximadamente 11 cm; Possui duas alças laterais para transporte; Peso máximo de 23 kg. | E23: Unidade | F23: 40 | G23: 75 | H23: =F23*G23 -> 3000
C24: 3.6 | D24: Machado para Bombeiro tipo arrombador. Cabo de madeira; Lâmina em aço SAE 1050; Ferramenta forjada em uma única peça, sem soldas; Temperada e revenida, processos estes que eliminam a aparição de trincas e imperfeições na lâmina (partículas de ar na estrutura do aço); Dureza de 48 - 52 Hrc; Fixação da cabeça ao cabo com cunha de madeira e resina especial, proporcionando maior segurança ao usuário; Produzidos em novo design, garantindo corte preciso e melhor penetração; Formato anatômico do cabo, para melhor ajuste a mão do usuário; Cabo de madeira especial e envernizado; Comprimento: 90cm; | E24: Unidade | F24: 2 | G24: 50 | H24: =F24*G24 -> 100 | K24: 17 | M24: 3.75 | O24: 66.17 | Q24: 10.51 | S24: =MEDIAN(K24:R24) -> 13.755
C25: 4 | D25: PROTEÇÃO INDIVIDUAL
C26: 4.1 | D26: Conjunto de combate à incêndio, COMPOSIÇÃO : Tunica e calça, Camada externa com alto índice de resistência mecânica com composição de 40% a 50% de fibra meta-aramida, 50% a 60% de fibra para-aramida, construída no sistema para-rasgo (RIP STOP), com gramatura não inferior a 210 gr/m2, na cor azul cobalto. Tratamento contra raios ultravioleta (UV) e tratamento hidro-repelente incolor, conforme norma NBR 13000. Resistência à tração, (força e alongamento à ruptura), força de ruptura com média superior a 195 daN no urdume e 245 daN na trama; e no alongamento a ruptura média inferior a 15% no urdume e na trama, conforme NBR 11912. Solidez da cor a luz (40 horas), no mínimo nota 3 na alteração, conforme norma NBR 12997. Resistência a carga de rasgamento de 25 Kgf no mínimo para trama e urdume. Resistência a abrasão de 1300 ciclos no mínimo. Solidez da cor a lavagem, com alteração e transferência 5, conforme norma ISO 105 C06 B1M. Solidez da cor à fricção de transferência no mínimo 4 (para seco e úmido), conforme norma NBR ISO105X12:2007. Resistência a formação de pilling de no mínimo 4/5 na tabela de índice/avaliação, conforme norma JIS L 1076 método A. Barreira de Umidade: Será composta por filme (membrana) de PTFE (politetrafluoretileno) ignífugo, que mantém a impermeabilidade e estanqueidade de fora para dentro da roupa, não permitindo a passagem de vapores ou líquidos perigosos, mas permitindo a respiração de dentro para fora da roupa, fixado a um não tecido de fibras de aramida, propiciando resistência térmica e mecânica. Essa 2ª camada terá peso máximo de 213,6 g/m² e atuará como barreira de umidade (vapor e líquidos). Resistência a tração de acordo com norma ISO 13.934.1/1999 de no mínimo 320 N na transversal e 170 N na longitudinal. 3ª Camada: Atua como barreira de calor, entre o risco e o usuário da roupa formada por manta de fibra agulhada para aramida carbono com peso de no minimo 240g/m2, conforme norma ASTM D 3776, na cor verde escuro ou preta, com espessura mínima de 2mm, que permite maior aproximação do usuário, sem armazenar calorias. As mantas são unidas por costuras com a 4ª camada em linha aramida formando metalasse trapezoidal. Características da manta conforme resultados laboratoriais de acordo com a norma EN532/EN531, 4ª Camada: Composto de 45% modacrílico, 54% algodão e 1% de fibras anti estáticas conforme norma ASTM 629, com gramatura não inferior a 150g/m2 conforme norma ASTM D 3776. Será admitida variação de 10% em todos os valores requisitados, GOLA: No mínimo 520mm de comprimento e 70mm de largura. Dois fechos de ganchos e argolas 50mm x 50 mm, sendo um no lado esquerdo e um no lado direito, ambos na parte externa da gola. Com lapela em formato de curva, centralizada por meio de fita da camada externa dupla medindo 20mm x 30mm, e com travetes nos pontos críticos. Nas extremidades da lapela, lado interno deverá ter dois fechos de ganchos e argolas medindo 50mm x 90mm. Fecho de ganchos e argolas medindo 25mm x 50mm fixado no lado interno da lapela na parte inferior a 80mm da extremidade. A lapela deverá possuir as seguintes medidas : 220mm de comprimento x 110mm de largura. Deverá ter o mesmo material do conjunto e deverá ter alça para pendurar feita de camada externa dupla com 60mm de comprimento e 150mm de largura, fixada no meio da gola na extremidade superior, lado interno, MANGAS: Tipo raglã composta de um painel e com foles nas axilas medindo 70mm x 260mm. A barra deverá ter debrum em tecido da camada externa com 20mm de largura e reforço em couro ignifugo, medindo 190mm x 24mm, fixados e centralizados na altura dos cotovelos. Poço dagua composto de barreira de umidade e barreira térmica, fixado a 180mm da barra da manga.Todas as costuras do poço dagua devem ser seladas com fita de selagem. As regulagens das mangas com uma tira de camada dupla medindo 40 x 115mm, fixada na costura do fechamento das mangas a 450mm da barra da manga. O fechamento deve ser em fecho de ganchos e argolas, medindo 100mm de largura x 25mm de comprimento, sendo fecho de gancho fixado na tira do lado interno e o fecho de argolas fixado nas mangas. O punho deve ser costurado na parte interna das mangas, junto ao poço d'água. Cabedal confeccionado com material da camada externa dupla, costurado no punho e medindo 60mm de altura x 150mm de largura. Em sua base, reforço da camada externa de 30 x 30mm, costurado em X. A borda desse reforço a 150mm da barra do punho e o cabedal deve estar voltado para o corpo do usuário, FECHAMENTO: Frontal em zíper e fecho de ganchos e argolas fixado a carcela, que deverá ter 120mm de largura e comprimento da altura da gola até a barra do blusão, depois de fechada com costura pesponto duplo, fixada do lado esquerdo. Reforçada no topo e base com travetes, BOLSO PARA RÁDIO: Tipo caixa, com fundo falso, com duas tiras em formato de cruz, costurado na parte superior do painel esquerdo do blusão, com base paralela a faixa refletiva, medindo 80mm de largura 170mm de altura e profundidade de 60mm. Através de lapela, confeccionada com material da camada externa dupla, medindo 60mm x 120mm com fecho de ganchos medindo 50mm x 100mm fixado no lado externo. Deverá ter travetes nos pontos críticos. BOLSOS INFERIORES: Tipo caixa, com dois ilhoses para drenagem, fixado na parte inferior do painel frontal esquerdo a 80mm da faixa refletiva. O bolso com 220mm de largura x 240mm de altura x 50mm de profundidade. Fechamento com lapela, em material da camada externa dupla, medindo 110mm x 240mm com dois fechos de ganchos medindo 50mm x 50mm. Os fechos de ganchos e argolas deverão ser costurados de forma que os ganchos intercalem com as argolas. Deverão ter travetes nos pontos críticos, BOLSOS NA VERTICAL: 2, desenho tipo embutido, fixados sob a carcela, lado esquerdo, na posição vertical, sendo um com abertura de 150mm na parte superior e um com abertura de 200mm na parte inferior. Com travetes nos pontos críticos. BOLSOS INTERNOS: 1, desenho tipo chapado, costurado na parte inferior interna do painel frontal, lado direito a 170mm da barra medindo 200mm de largura x 220mm de altura. FITA PARA MICROFONE: Com 150mm de largura e 60mm de comprimento, fixada no centro da carcela a 120mm da extremidade superior. TARJA DE IDENTIFICAÇÃO: Um fecho de argolas, medindo 250mm x 120mm fixado no lado direito na altura do peito a 80mm acima da faixa refletiva, e um fecho de ganchos com a mesma medida sobreposto no fecho de argolas sem costura, FAIXAS REFLETIVAS: Nas cores amarelo e prata de 50mm de largura com no mínimo 490 cd.lux/m2 de retrorreflexão. Uma faixa ao redor de todo o tórax (frente, costas e sobre a carcela), fixada abaixo das axilas. Uma faixa a 5mm acima de toda a barra (frente, verso e sobre a carcela). Uma faixa ao redor das mangas, fixada a 100mm da barra da manga. COSTURAS: Em fibra de meta-aramida e não poderão ter resistência a ruptura inferior a 39kgf conforme ASTM D 4034. Todas as costuras da barreira de umidade deverão ser seladas com fitas em 100% PTFE com largura mínima de 20mm. LETREIROS: Fixado nas costas, na região do tórax, os dizeres BOMBEIROS, letra cheia, medindo 50mm de altura e 280mm de comprimento a 10mm acima da faixa refletiva. Deverá ser gravado o nome de cada usuário com letra cheia com 40mm de altura em uma tira da camada externa e fixada na parte inferior das costas através de fita prendedora de ganchos e argolas, sendo fecho de argolas na parte inferior do blusão e o fecho de ganchos na tira gravada com 340mm x 55mm a 150mm da faixa refletiva, CALÇA: Com quatro painéis, dois frontais e dois traseiros. Todas as costuras internas embutidas entre a camada externa e o forro. Cós: Com ajuste através de elástico costurado na parte traseira e ajuste na parte frontal através de cadarços recobertos nos dois painéis com fechamento através de engate rápido. Suspensório: Na parte frontal em formato reto, com regulagem através de regulador, com dois engates tipo macho para conectar nos engates fêmea do cós, na parte traseira deve ser em formato de H, com dois engates macho, para conectar nos engates fêmea do cós. A junção do H deve estar a 240mm do engate macho, com costura em forma de X com linha em meta-aramida. Braguilha: Retangular com base redonda, medindo 230mm de altura e 100mm de largura. Fechamento duplo, sendo o primeiro através de zíper, fixado nas extremidades da abertura e o segundo através de fecho de ganchos e argolas. Deverá ter travetes nos pontos críticos Reforços: Em couro ignifugo nos joelhos, medindo 220mm x 300mm fixados centralizados na altura dos joelhos, com costura reta dupla em linha de meta-aramida. Faixas refletivas: Nas cores amarelo e prata de 50mm com no mínimo 490 cd.lux/m2 de retrorreflexão. Uma faixa refletiva costurada ao redor das pernas a 50mm das barras, com costura reta dupla em linha meta-aramida. Uma faixa refletiva, medindo 400mm de comprimento, costurada nas laterais das pernas a partir da faixa refletiva ao redor das pernas, com linha em meta-aramida. Gravação: O nome do usuário com letra cheia com 40mm de altura, em uma tira da camada externa e fixada na parte inferior lado direito parte frontal através do velcro sendo fecho de argola na parte inferior da calça e o gancho na tira gravada com 220mm x 550mm a 150mm da faixa refletiva. Costuras: Em fibra de meta-aramida e não poderão ter resistência a ruptura inferior a 39kgf conforme ASTM D 4034. Todas as costuras da barreira de umidade deverão ser seladas com fitas em 100% PTFE com largura mínima de 20mm. | E26: Conjunto | F26: 10 | G26: 90 | H26: =F26*G26 -> 900 | K26: 800 | M26: 3.56 | O26: 132.34 | Q26: 592.07 | S26: =MEDIAN(K26:R26) -> 362.205
C27: 4.2 | D27: Balaclava de segurança para combate a incêndio confeccionada em malha de aramida. | E27: Unidade | F27: 10 | G27: 5 | H27: =F27*G27 -> 50
C28: 4.3 | D28: Capacete de Segurança para Bombeiro, modelo GALLET, composto de casco injetado em termoplástico (poliamida) em diversas cores combinadas com tiras refletivas ou não; conjunto de absorção contra impacto confeccionado em placa de espuma moldada em poliuretano; conjunto de suspensão composto de carneira com cremalheira horizontal para regulagem ou suspensão padrão com ajuste manual por dentes, ambas com tiras de absorção com proteção em couro antialérgico, contra impacto distribuído em 06 pontos de fixação; tira jugular de encaixe rápido com protetor para queixo; visor transparente de policarbonato, movido por alavanca externa posicionada do lado direito do casco e com espessura média de 2,5 mm; visor com revestimento metalizado por ouro, com 2,5 mm de espessura média. Acoplado com lanterna à prova de explosão com adaptador, protetor de nuca e sistema de comunicação. PROTEÇÃO DO CRÂNIO E FACE DO USUÁRIO CONTRA RISCOS PROVENIENTES DE FONTES GERADORAS DE CALOR NOS TRABALHOS DE COMBATE A INCÊNDIO. | E28: Unidade | F28: 10 | G28: 60 | H28: =F28*G28 -> 600
C29: 4.4 | D29: Luva, Combate à incêndio, MATERIAL: Confeccionada em couro de vaqueta, APRESENTAÇÃO: Composta em multicamadas para operações com temperaturas e produtos líquidos e abrasivos. Tira de couro de vaqueta natural com 18 mm de largura costurada entre polegar e indicador. Dorso liso com costuras de linha para aramida e elásticos para ajustes. Reforço de artéria na parte inferior da luva em couro de vaqueta medindo 110 mm de largura e 100 mm de comprimento. Todo o fechamento da luva deverá ser em linha de para aramida. Durante sua utilização a luva dará proteção térmica sem gerar vapor interno. Possuir boa habilidade digital. Parte externa couro de vaqueta na cor natural, maleável, com tratamento de oil paint para resistir a temperaturas elevadas e com resistência a abrasão e cortes. Parte interna Filme de poliuretano antichama (características da 2ª camada capa), para inibir passagem de produtos químicos e líquidos. Deverá conter manta de fibras aramidas e para amidas, com 300 gr/m², na cor predominante clara, atua como barreira térmica. Punho em malha para amida 300 gr/m² sanfonado medindo 100 mm de comprimento para inibir entrada de produtos e calor, COR: Branca, ESPESSURA: Mínima de 12/14 linhas. | E29: par | F29: 10 | G29: 20 | H29: =F29*G29 -> 200
C30: 4.5 | D30: Par de Calçado de segurança tipo bota para uso no combate a incêndio, confeccionado em borracha vulcanizada na cor preta com detalhes em amarelo, forro em tecido retardante à chamas, biqueira interna em aço, palmilha de aço, camada isolante elétrica separada do solado através de feltro isolante térmico, proteção da tíbia e sua borda superior, com duas alças. PROTEÇÃO DOS PÉS DO USUÁRIO CONTRA IMPACTOS DE QUEDAS DE OBJETOS SOBRE OS ARTELHOS, CONTRA AGENTES ABRASIVOS E ESCORIANTES E CONTRA AGENTES TÉRMICOS (CALOR E CHAMAS) PROVENIENTES DE OPERAÇÕES DE COMBATE A INCENDIO. | E30: Unidade | F30: 10 | G30: 45 | H30: =F30*G30 -> 450
C31: 5 | D31: PROTEÇÃO COLETIVA
C32: 5.1 | D32: Kit de isolamento de áreas contendo no mínimo 2 rolos (200m) de fita zebrada e 15 cones | E32: unidade | F32: 2 | G32: 0.75 | H32: =F32*G32 -> 1.5
C33: 5.2 | D33: Líquido gerador de espuma, bombona 50 litros, normas: Petrobras N-2142, ICAO Doc: 9137, MIL-F-24385, NFPA 11 e ISSO 7203. | E33: Unidade | F33: 10 | G33: 3 | H33: =F33*G33 -> 30 | K33: 17 | M33: 4.5 | O33: 231.59 | Q33: 15.01 | S33: =MEDIAN(K33:R33) -> 16.005
C34: CUSTO TOTAL | H34: =H13+SUM(H15:H17)+SUM(H19:H24)+SUM(H26:H30)+SUM(H32:H33) -> 76091.5
K35: 835 | M35: 60 | O35: 3308.44 | Q35: 201.11 | S35: =MEDIAN(K35:R35) -> 518.055
K36: 235 | M36: 48.75 | O36: 2646.75 | Q36: 230.37 | S36: =MEDIAN(K36:R36) -> 232.685
K37: 130 | M37: 36 | O37: 146.03 | Q37: 497.23 | S37: =MEDIAN(K37:R37) -> 138.015
K38: 127 | M38: 37.5 | O38: 1257.21 | Q38: 205.61 | S38: =MEDIAN(K38:R38) -> 166.305
K39: 15 | M39: 18.75 | O39: 562.43 | Q39: 23.26 | S39: =MEDIAN(K39:R39) -> 21.005

Sheet RECURSOS PARA QUÍMICOS
C2: RECURSOS E EQUIPAMENTOS PERMANENTES Atendimento a produtos químicos *orientações preenchimento: 1 - devem ser preenchidas apenas as células em amarelo; 2 - os valores unitários a serem preenchidos devem considerar o valor para disponibilização mensal dos equipamentos no CPRE;
C8: ITEM | D8: RECURSOS PARA QUÍMICOS | E8: UNIDADE | F8: QUANTIDADE | G8: VALOR UNITÁRIO | H8: VALOR TOTAL | K8: ALBRIGGS | M8: HIDROCLEAN | O8: OCEANPACT | Q8: SUATRANS | S8: MEDIANA PREÇOS
C9: 1 | D9: RECOLHIMENTO
C10: 1.1 | D10: Bomba de transferência p/ produtos químicos diversos com vazão maior que 12 m³ com compressor (inox, diafragma duplo e mangotes) | E10: unidade | F10: 2 | G10: 900 | H10: =F10*G10 -> 1800 | K10: 1500 | M10: 25 | O10: 1763.24 | Q10: 2199.05 | S10: =MEDIAN(K10:R10) -> 1631.62
C11: 1.2 | D11: Manta absorvente para produtos químicos diversos de no mínimo 0,4 x 0,5 x 0,004m | E11: Peça | F11: 1000 | G11: 4 | H11: =F11*G11 -> 4000 | K11: 0.3 | M11: 0.02 | O11: 0.07 | Q11: 0.19 | S11: =MEDIAN(K11:R11) -> 0.13
C12: 1.3 | D12: Rolo absorvente para produtos químicos diversos de no mínimo 0,5 x 0,004m | E12: metro | F12: 500 | G12: 35 | H12: =F12*G12 -> 17500 | K12: 15 | M12: 0.04 | O12: 0.44 | Q12: 1.43 | S12: =MEDIAN(K12:R12) -> 0.935
C13: 1.4 | D13: Barreira absorvente para produtos químicos diversos de no mínimo 20 x 300cm | E13: metro | F13: 500 | G13: 12 | H13: =F13*G13 -> 6000 | K13: 6 | M13: 0.18 | O13: 1.1 | Q13: 8.17 | S13: =MEDIAN(K13:R13) -> 3.55
C14: 2 | D14: Contenção na fonte/armanzenamento
C15: 2.1 | D15: Massa de vedação (Tipo Plug "n" Dike) | E15: lata | F15: 2 | G15: 12 | H15: =F15*G15 -> 24 | K15: 4 | M15: 0.75 | O15: 4.49 | Q15: 2.63 | S15: =MEDIAN(K15:R15) -> 3.315
C16: 2.2 | D16: Massa de vedação epóxi submaria | E16: lata | F16: 2 | G16: =150/30 -> 5 | H16: =F16*G16 -> 10 | K16: 6.7 | M16: 0.13 | O16: 5.24 | Q16: 7.13 | S16: =MEDIAN(K16:R16) -> 5.97
C17: 2.3 | D17: Contentor de tambores spill drum | E17: unidade | F17: 10 | G17: 135 | H17: =F17*G17 -> 1350
C18: 2.4 | D18: Conjunto de batoques, cintas de borrcha, braçadeiras, e outros acessórios para vedações de furos, rasgos em diferetes fontes de descarga | E18: unidade | F18: 3 | G18: =75/30 -> 2.5 | H18: =F18*G18 -> 7.5
C19: 2.5 | D19: Conteiner de segurança (IBC ou similar) para armazenamento de de produtos químicos líquidos | E19: peça | F19: 5 | G19: 65 | H19: =F19*G19 -> 325 | K19: 1.35 | M19: 4.17 | O19: 4.49 | Q19: 94.55 | S19: =MEDIAN(K19:R19) -> 4.33
C20: 3 | D20: MONITORAMENTO AMBIENTAL
C21: 3.1 | D21: Monitor portátil - fotoionizador | E21: unidade | F21: 2 | G21: 40 | H21: =F21*G21 -> 80 | K21: 150 | M21: 29.17 | O21: 89.88 | Q21: 377.45 | S21: =MEDIAN(K21:R21) -> 119.94
C22: 3.2 | D22: Monitor portátil - potenciômetro (medidor de pH) | E22: unidade | F22: 2 | G22: =150/30 -> 5 | H22: =F22*G22 -> 10 | K22: 30 | M22: 8.33 | O22: 59.92 | Q22: 377.45 | S22: =MEDIAN(K22:R22) -> 44.96
C23: 3.3 | D23: Indicador de pH (tornassol) | E23: caixa | F23: 5 | G23: 2 | H23: =F23*G23 -> 10 | K23: 5.35 | M23: 0.67 | O23: 1.5 | Q23: 1.95 | S23: =MEDIAN(K23:R23) -> 1.725
C24: 3.4 | D24: Monitor portátil detector de cloro | E24: unidade | F24: 2 | G24: 125 | H24: =F24*G24 -> 250
C25: 3.5 | D25: Detector de Gás Fosfina PH3 | E25: unidade | F25: 2 | G25: 250 | H25: =F25*G25 -> 500
C26: 3.6 | D26: Detector de Compostos Tóxicos Industriais (TIC) e Radioativos | E26: unidade | F26: 2 | G26: =1200/30 -> 40 | H26: =F26*G26 -> 80
C27: 3.7 | D27: Câmera térmica portátil | E27: unidade | F27: 2 | G27: 135 | H27: =F27*G27 -> 270
C28: 3.8 | D28: Termômetro de contato | E28: unidade | F28: 2 | G28: 15 | H28: =F28*G28 -> 30 | K28: 17 | M28: 1.25 | O28: 3 | Q28: 3 | S28: =MEDIAN(K28:R28) -> 3
C29: 4 | D29: VEÍCULOS
C30: 4.1 | D30: Veículo para emergências químicas - Tipo Furgão ou Caminhão - adaptado para transporte de equipamentos de atendimento a emergência e capacidade para no mínimo 3 pessoas (conforme especificações do TR) | E30: unidade | F30: 1 | G30: 19890 | H30: =F30*G30 -> 19890 | K30: 4830 | M30: 625 | O30: 3085.67 | Q30: 4711.02 | S30: =MEDIAN(K30:R30) -> 3898.345
C31: 5 | D31: EQUIPAMENTOS DE SEGURANÇA
C32: 5.1 | D32: Respirador/purificador de ar P1/P2 | E32: peça | F32: 100 | G32: 2 | H32: =F32*G32 -> 200 | K32: 5.15 | M32: 1.67 | O32: 0.26 | Q32: 0.13 | S32: =MEDIAN(K32:R32) -> 0.965
C33: 5.2 | D33: EPR EQUIPAMENTO AUTÔNOMO COM CILINDRO DE ALUMÍNIO E REVESTIDO DE FIBRA DE CARBONO 300 BAR 9L . Suporte resistente e anti-estático: o suporte é moldado em fibra de carbono, evitando qualquer tipo de deterioração por parte de agentes químicos ou orgânicos, é anti-estático, não inflamável . Os arreios do Equipamento são confeccionados em poliamida resistente a chama, possui faixas refletivas para melhor visualização em ambientes com pouca luminosidade. Manômetro de pressão fosforescente: a reserva de ar pode ser conferida diretamente por uma visualização rápida no manômetro e alerta de baixa pressão, este com sistema giratório que evita o estrangulamento da mangueira de alta pressão. Máscara facial panorama BR PP/RB: a máscara facial que compõe o Equipamento Autônomo é confeccionada em silicone e composta de um corpo, visor de acrílico, conector que permite o uso de válvula de demanda. Possui membrana acústica, mascarilha interna, evitando o embaçamento do visor, tirantes de fixação (aranha) de 5 pontos e alça de transporte. | E33: peça | F33: 4 | G33: 950 | H33: =F33*G33 -> 3800 | K33: 167 | M33: 108.33 | O33: 440.81 | Q33: 220.12 | S33: =MEDIAN(K33:R33) -> 193.56
C34: 5.3 | D34: Cilindro reserva em composite de 300 bar e 9 litros | E34: peça | F34: 4 | G34: 125 | H34: =F34*G34 -> 500 | K34: 30 | M34: 34.17 | O34: 238.04 | Q34: 94.3 | S34: =MEDIAN(K34:R34) -> 64.235
C35: 5.4 | D35: Tripé com luminária intrinsecamente seguros | E35: peça | F35: 3 | G35: =3000/30 -> 100 | H35: =F35*G35 -> 300 | K35: 74 | M35: 12.5 | O35: 1123.52 | Q35: 885.97 | S35: =MEDIAN(K35:R35) -> 479.985
C36: 5.5 | D36: Roupa de proteção nível A | E36: peça | F36: 4 | G36: 110 | H36: =F36*G36 -> 440 | K36: 30 | M36: 12.5 | O36: 61.71 | Q36: 1036.75 | S36: =MEDIAN(K36:R36) -> 45.855
C37: 5.6 | D37: Roupa de proteção nível B (PVC) | E37: peça | F37: 6 | G37: =9000/30 -> 300 | H37: =F37*G37 -> 1800 | K37: 335 | M37: 57.53 | O37: 440.81 | Q37: 44.02 | S37: =MEDIAN(K37:R37) -> 196.265
C38: 5.7 | D38: Máscara semi facial | E38: peça | F38: 6 | G38: 3.5 | H38: =F38*G38 -> 21
C39: 5.8 | D39: Máscara facial inteira | E39: peça | F39: 6 | G39: 20 | H39: =F39*G39 -> 120 | K39: 167 | M39: 39.58 | O39: 66.12 | Q39: 296.41 | S39: =MEDIAN(K39:R39) -> 116.56
C40: 5.9 | D40: Filtros químicos | E40: peça | F40: 12 | G40: =75/30 -> 2.5 | H40: =F40*G40 -> 30
C41: 5.10 | D41: Filtros mecânicos | E41: peça | F41: 12 | G41: 2 | H41: =F41*G41 -> 24
C42: 5.11 | D42: Solução de lava-olhos para primeiros socorros em acidentes químicos com apresentações específicas para descontaminação química ocular e cutânea, embalagem de 500 ml. | E42: Unidade | F42: 6 | G42: 400 | H42: =F42*G42 -> 2400
C43: 5.12 | D43: Solução de lavagem de até corpo inteiro para primeiros socorros em acidentes químicos com apresentações específicas para descontaminação química ocular e cutânea,ducha autônoma portátil contendo 5 litros. | E43: Unidade | F43: 2 | G43: 1000 | H43: =F43*G43 -> 2000 | K43: 30 | M43: 3.33 | O43: 18.73 | Q43: 19.51 | S43: =MEDIAN(K43:R43) -> 19.12
C44: TOTAL | H44: =SUM(H10:H13)+SUM(H15:H19)+SUM(H21:H28)+H30+SUM(H32:H43) -> 63771.5

Sheet EQUIPAMENTOS POR DEMANDA
B2: CUSTOS DEQUIPAMENTOS MOBILIZÁVEIS PARA DISPONIBILIZAÇÃO SOB DEMANDANDA NO ATENDIMENTO A EMERGÊNCIAS DA Portos do Paraná (PAE/PEI) *orientações preenchimento: 1 - devem ser preenchidas apenas as células em amarelo; 2 - os valores unitários a serem preenchidos devem considerar a diária do equipamento, considerando a disponibilização no CPRE no tempo de mobilização em caso de acionamento
O3: =AVERAGE(J6:N6) -> 36.926
J6: 4.63 | K6: 10 | L6: 15 | M6: 65 | N6: 90 | O6: =MEDIAN(J6:N6) -> 15
B12: Item | C12: Recursos | D12: Unidade | E12: Tempo p/ Disponibilização | F12: Preço Unitário | G12: Preço Total | J12: ALBRIGGS | L12: HIDROCLEAN | N12: OCEANPACT | P12: SUATRANS | R12: MEDIANA PREÇOS
B13: 1.1 | C13: Barreira para uso oceânico inflável com flutuador maior ou igual a 50 cm e saia maior ou igual a 80 cm com carretel, soprador e unidade de força | D13: m/dia | E13: 60h | F13: 275 | G13: =F13 -> 275 | J13: 275 | L13: 40 | N13: 80 | P13: 18.94 | R13: =MEDIAN(J13:Q13) -> 60
B14: 1.2 | C14: Barreira de contenção inflável para operações em alto mar, transportada e operada por embarcação adequada (de navegação em mar aberto, com carretel e sistema de insuflação a bordo, incluindo tripulantes/ operadores) | D14: m/dia | E14: 60h | F14: 125 | G14: =F14 -> 125
B15: 1.3 | C15: Barreira com flutuador fixo com diâmetro maior ou igual a 23 cm (9") e saia maior ou igual a 30 cm, com barras de reboque, âncoras e boia de arinque | D15: m/dia | E15: 36h | F15: 65 | G15: =F15 -> 65 | J15: 65 | L15: 10 | N15: 15 | P15: 4.63 | R15: =MEDIAN(J15:Q15) -> 12.5
B16: 1.4 | C16: Barreira com flutuador fixo de diâmetro maior ou igual a 30,5 cm (12") e saia maior ou igual a 35 cm, com respectivas barras de reboque, âncoras e boia de arinque | D16: m/dia | E16: 36h | F16: 70 | G16: =F16 -> 70 | J16: 70 | L16: 10.5 | N16: 20 | P16: 5.68 | R16: =MEDIAN(J16:Q16) -> 15.25
B17: 1.5 | C17: Barreira com flutuador fixo de diâmetro maior ou igual a 38 cm (15") e saia maior ou igual a 41 cm, com respectivas barras de reboque, âncoras e boia de arinque | D17: m/dia | E17: 36h | F17: 75 | G17: =F17 -> 75 | J17: 75 | L17: 11 | N17: 25 | P17: 6.73 | R17: =MEDIAN(J17:Q17) -> 18
B18: 1.6 | C18: Barreira com flutuador fixo de diâmetro maior ou igual a 43 cm (17") e saia maior ou igual a 46 cm, com respectivas barras de reboque, âncoras e boia de arinque | D18: m/dia | E18: 60h | F18: 80 | G18: =F18 -> 80 | J18: 80 | L18: 12 | N18: 30 | P18: 7.78 | R18: =MEDIAN(J18:Q18) -> 21
B19: 1.7 | C19: Barreira do tipo proteção permanente para cercos de longa duração com flutuador rígido de diâmetro maior ou igual a 38 cm (15") e saia maior ou igual a 58 cm (23"), barras de reboque, âncoras e boia de arinque | D19: m/dia | E19: 60h | F19: 90 | G19: =F19 -> 90 | J19: 90 | L19: 12 | N19: 35 | P19: 7.57 | R19: =MEDIAN(J19:Q19) -> 23.5
B20: 1.8 | C20: Barreira de contenção para selagem de áreas intermarés com borda superior de diâmetro maior ou igual a 28 cm (11") e bordas inferiores de diâmetro maior ou igual a 26 cm (10") | D20: m/dia | E20: 60h | F20: 275 | G20: =F20 -> 275 | J20: 275 | L20: 40 | N20: 35 | P20: 23.14 | R20: =MEDIAN(J20:Q20) -> 37.5
B21: 1.9 | C21: Sistema de recolhimento - composto por Recolhedor de vertedouro com capacidade nominal mínima de 50m³/h com respectiva motobomba | D21: Unidade/dia | E21: 36h | F21: 1800 | G21: =F21 -> 1800 | J21: 3500 | L21: 960 | N21: 2200 | P21: 568.08 | R21: =MEDIAN(J21:Q21) -> 1580
B22: 1.10 | C22: Sistema de recolhimento - composto por Recolhedor de vertedouro com capacidade nominal mínima de 100m³/h com respectiva motobomba | D22: Unidade/dia | E22: 60h | F22: 2300 | G22: =F22 -> 2300 | J22: 2350 | L22: 690 | N22: 900 | P22: 284.04 | R22: =MEDIAN(J22:Q22) -> 795
B23: 1.11 | C23: Sistema de recolhimento - composto por Recolhedor oleofílico com capacidade nominal de mínima 30m³/h com respectiva motobomba | D23: Unidade/dia | E23: 36h | F23: 900 | G23: =F23 -> 900
B24: 1.12 | C24: Sistema de recolhimento - composto por Recolhedor oleofílico com capacidade nominal de mínima 50m³/h com respectiva motobomba | D24: Unidade/dia | E24: 60h | F24: 1300 | G24: =F24 -> 1300
B25: 1.13 | C25: Bomba para transferência entre dispositivos de armazenamento para líquidos alta viscosidade com capacidade mínima de bombeamento 25m³/h | D25: Unidade/dia | E25: 36h | F25: 800 | G25: =F25 -> 800
B26: 1.14 | C26: Bomba para transferência entre dispositivos de armazenamento para água oleosa ou óleos leves com capacidade mínima de bombeamento 25m³/h | D26: Unidade/dia | E26: 36h | F26: 800 | G26: =F26 -> 800 | J26: 1200 | L26: 350 | N26: 600 | P26: 231.44 | R26: =MEDIAN(J26:Q26) -> 475
B27: 1.15 | C27: Bomba para transferência entre dispositivos de armazenamento para líquidos alta viscosidade com capacidade mínima de bombeamento 50m³/h | D27: Unidade/dia | E27: 60h | F27: 1200 | G27: =F27 -> 1200
B28: 1.16 | C28: Bomba para transferência entre dispositivos de armazenamento para água oleosa ou óleos leves com capacidade mínima de bombeamento 50m³/h | D28: Unidade/dia | E28: 60h | F28: 1300 | G28: =F28 -> 1300 | J28: 2600 | L28: 450 | N28: 2300 | P28: 378.72 | R28: =MEDIAN(J28:Q28) -> 1375
B29: 1.17 | C29: Tanque flutuante inflável de armazenamento temporário, com capacidade mínima de 25 m³ | D29: Unidade/dia | E29: 36h | F29: 900 | G29: =F29 -> 900 | J29: 600 | L29: 250 | N29: 150 | P29: 168.32 | R29: =MEDIAN(J29:Q29) -> 209.16
B30: 1.18 | C30: Tanque flutuante inflável de armazenamento temporário, com capacidade mínima de 50 m³ | D30: Unidade/dia | E30: 60h | F30: 1300 | G30: =F30 -> 1300 | J30: 600 | L30: 250 | N30: 450 | P30: 168.32 | R30: =MEDIAN(J30:Q30) -> 350
B31: 1.19 | C31: Tanque terrestre de armazenamento temporário, com capacidade mínima de 10 m³ | D31: Unidade/dia | E31: 36h | F31: 600 | G31: =F31 -> 600 | J31: 750 | L31: 300 | N31: 550 | P31: 315.6 | R31: =MEDIAN(J31:Q31) -> 432.8
B32: 1.20 | C32: Caminhão tanque com capacidade mínima de 30m³ | D32: unidade /dia | E32: 60h | F32: 2100 | G32: =F32 -> 2100
B33: 1.21 | C33: Tambores em plástico (200 litros) | D33: unidade/dia | E33: 36h | F33: 15 | G33: =F33 -> 15
B34: 1.22 | C34: Contentor de tambores spill drum | D34: unidade/dia | F34: 30 | G34: =F34 -> 30
B35: 1.23 | C35: Tancagem Flutuante adicional de no mínimo 1100 m³ | D35: Unidade/dia | E35: 60h | F35: 38000 | G35: =F35 -> 38000 | J35: 9000 | L35: 8500 | N35: 195000 | P35: 666.67 | R35: =MEDIAN(J35:Q35) -> 8750
B36: 1.24 | C36: Caminhão Vácuo com capacidade de 12m³ ou superior, para aplicações industriais e adequado para aspirar, descarregar e transportar fluidos e substâncias perigosas, tais como líquidos, lamas, gorduras, óleos, combustíveis e químicos. Projetado para trabalhar com substâncias perigosas e contaminadas, classificado como ATEX (Ex) e construído de acordo com todas as normas de segurança aplicáveis. Aprovado em conformidade com a homologação ASME American type-approval - PED ou ADR (CEOC) European type-approval. O caminhão deve possuir sistema de aterramento devidamente certificado capaz de dissipar a energia estática do veículo, tanque e demais compoenetes. | D36: Unidade/dia | E36: 6h | F36: 2450 | G36: =F36 -> 2450 | J36: 2450 | L36: 4700 | N36: 10000 | P36: 1009.93 | R36: =MEDIAN(J36:Q36) -> 3575
B37: 1.25 | C37: Barco pequeno porte para acesso em áreas rasas e manguezal (conforme condições do TR) | D37: Unidade/dia | E37: 12h | F37: 750 | G37: =F37 -> 750 | J37: 2350 | L37: 1080 | N37: 900 | P37: 378.72 | R37: =MEDIAN(J37:Q37) -> 990
B38: 1.26 | C38: Barco Workboat, mínimo 10 metros, com carreta reboque (conforme condições do TR), considerando guindaste (com operador) para sua completa mobilização | D38: Unidade/dia | E38: 36h | F38: 1400 | G38: =F38 -> 1400 | J38: 3900 | L38: 2300 | N38: 4200 | P38: 946.81 | R38: =MEDIAN(J38:Q38) -> 3100
B39: 1.27 | C39: Embarcação para navegação em mar aberto ( área de fundeio externa do Porto), conforme normas da Capitania dos Portos do Paraná. Poderá ser contratado de terceiros, mas deverão apresentar a declaração de que irão ter esse recurso caso ganhem a licitação | D39: Unidade/dia | E39: 01h | F39: 18000 | G39: =F39 -> 18000 | J39: 990 | L39: 490 | N39: 500 | P39: 248.27 | R39: =MEDIAN(J39:Q39) -> 495
B40: 1.28 | C40: Custo de lançamento das embarcações previstas em contrato em Marina (conforme TR) | D40: unidade | E40: 4h | F40: 600 | G40: =F40 -> 600
B41: 1.29 | C41: Caminhão Munck (com operador) com capacidade mínima de 14 ton., com condições para o içamento da maior embarcação do contrato | D41: Unidade/dia | E41: 2h | F41: 1550 | G41: =F41 -> 1550 | J41: 1550 | L41: 350 | N41: 2000 | P41: 669.08 | R41: =MEDIAN(J41:Q41) -> 1109.54
B42: 1.30 | C42: Veículo tipo pick-up cabine dupla 4x4 diesel com guincho elétrico (conforme condições do TR, incluindo os custos de GPS de rastreamento com acesso à Contratante, de manutenção, combustível e condutor) | D42: Unidade/dia | E42: 12h | F42: 990 | G42: =F42 -> 990
B43: 1.31 | C43: Máquinário pesado de acordo com a emergência (ex. retroescavadeira, escadeira hidráulica, pá carregadeira) | D43: unidade/dia | E43: 12h | F43: 3500 | G43: =F43 -> 3500 | J43: 750 | L43: 790 | N43: 1100 | P43: 92.58 | R43: =MEDIAN(J43:Q43) -> 770
B44: 1.32 | C44: Veículo Quadriciclo 4x4 com potência de no mínimo 400 CC | D44: Unidade/dia | E44: 36h | F44: 500 | G44: =F44 -> 500 | J44: 4250 | L44: 49000 | N44: 50000 | P44: 1893.61 | R44: =MEDIAN(J44:Q44) -> 26625
B45: 1.33 | C45: Tripé e luminária intrinsecamente seguros | D45: Unidade/dia | E45: 36h | F45: 660 | G45: =F45 -> 660 | J45: 660 | L45: 600 | N45: 1200 | P45: 76.96 | R45: =MEDIAN(J45:Q45) -> 630
B46: 1.34 | C46: Unidade Móvel de Reabilitação de Fauna | D46: Unidade/dia | E46: 60h | F46: 4200 | G46: =F46 -> 4200 | J46: 4200 | L46: 850 | N46: 9500 | P46: 1472.81 | R46: =MEDIAN(J46:Q46) -> 2836.405
B47: 1.35 | C47: Destinação final de resíduos, perigosos ou não, provenientes de atendimento a emergências | D47: kg | E47: 12h | F47: 90 | G47: =F47 -> 90 | J47: 3.2 | L47: 350 | N47: 10000 | P47: 189.36 | R47: =MEDIAN(J47:Q47) -> 269.68
B48: 1.36 | C48: Big Bag | D48: Unidade/dia | E48: 12h | F48: 40 | G48: =F48 -> 40 | J48: 40 | L48: 70 | N48: 100 | P48: 12.05 | R48: =MEDIAN(J48:Q48) -> 55
...

Sheet INFRAESTRUTURA SALA DE CRISE
D3: INFRAESTRUTURA PARA SALA DE CRISE
D10: INFRAESTRUTURA PARA SALA DE CRISE ÁREA | E10: UNIDADE | F10: QUANTIDADE | G10: PREÇO UNITÁRIO | H10: PREÇO TOTAL | J10: ALBRIGGS | L10: HIDROCLEAN | N10: OCEANPACT | P10: SUATRANS | R10: MEDIANA PREÇOS
D12: Televisor de 50" polegadas | E12: UNIDADE | F12: 2 | G12: 2300 | H12: =G12*F12 -> 4600 | J12: 950 | L12: 900 | N12: 6823.89 | P12: 31.52 | R12: =MEDIAN(J12:Q12) -> 925
D13: Datashow | E13: UNIDADE | F13: 1 | G13: 1300 | H13: =G13*F13 -> 1300 | J13: 2500 | L13: 1600 | N13: 15164.21 | P13: 72.79 | R13: =MEDIAN(J13:Q13) -> 2050
D14: Notebook | E14: UNIDADE | F14: 2 | G14: 3000 | H14: =G14*F14 -> 6000 | J14: 2200 | L14: 1500 | N14: 18955.26 | P14: 97.55 | R14: =MEDIAN(J14:Q14) -> 1850
D15: Mural para Cartas Naúticas | E15: UNIDADE | F15: 2 | G15: 400 | H15: =G15*F15 -> 800 | J15: 250 | L15: 50 | N15: 5307.47 | P15: 3.75 | R15: =MEDIAN(J15:Q15) -> 150
D16: Quadro Branco imantado para desenho e instrução | E16: UNIDADE | F16: 2 | G16: 250 | H16: =G16*F16 -> 500 | J16: 250 | L16: 250 | N16: 5307.47 | P16: 3.38 | R16: =MEDIAN(J16:Q16) -> 250
D17: Painel de gestão a vista com 6 acrílicos | E17: UNIDADE | F17: 2 | G17: 300 | H17: =G17*F17 -> 600
D18: Painel de gestão a vista com layout de kanban | E18: UNIDADE | F18: 1 | G18: 250 | H18: =G18*F18 -> 250 | J18: 100 | L18: 200 | N18: 1516.42 | P18: 4.5 | R18: =MEDIAN(J18:Q18) -> 150
D19: TOTAL | H19: =SUM(H12:H18) -> 14050

Sheet BDI
A1: COMPOSIÇÃO DO BDI - SERVIÇOS, MATERIAIS E EQUIPAMENTOS
A2: AC | B2: Administração Central | C2: 0.0552
A3: DF | B3: Despesa Financeira | C3: 0.0102
A4: LB | B4: Lucro Bruto | C4: 0.084
A5: SG | B5: Seguro + Garantia | C5: 0.0122
A6: R | B6: Risco | C6: 0.0232
A7: T | B7: Tributos | C7: =SUM(C8:C10) -> 0.1425
B8: ISS | C8: 0.05 | D8: *atentar que este já é valor do município de Paranaguá, onde será emitida nota fiscal so serviço.
B9: COFINS | C9: 0.076
B10: PIS | C10: 0.0165
A11: TOTAL | D11: =((1+C2+C6+C5)*(1+C3)*(1+C4)/(1-C7))-1 -> 0.39273346
A12: Nota 1 - A Composição do BDI (Serviços, Materiais e Equipamentos) está de acordo com a Nota Técnica nº 4/2013 do Supremo Tribunal Federal - Secretaria de Controle Interno - Coordenadoria de Acompanhamento de Gestão - Seção de Análise de Licitações e Contratos
A15: Nota 2 - De acordo com a Lei Complementar nº 147 de 20 de Dezembro de 2012 do Município de Paranguá, que alterou os anexos da Lei Complementar nº 111/2009 - atribui-se a alíquota específica de 4% para o ISS.
A17: Nota 3 -

Sheet Planilha Composição Final
B2: DADOS DA EMPRESA
B3: Fornecedor: Albriggs Defesa Ambiental S/A
B4: CNPJ/CPF: 04.050.400/0001-62
B5: Endereço: AV. Jabaquara, 3.060 - 2º andar - sala 205 - Bairro Mirandópolis
B6: CEP: 04046-500
B7: Estado: São Paulo | F7: Cidade: São Paulo
B8: Telefone: (11) 4059-9999
B9: Email para contato: alex.cobra@albriggs.com.br
B10: ITEM 1. PLANILHA COMPOSIÇÃO DE PREÇOS DA CONTRATAÇÃO DE EMPRES ESPECIALIZADA PARA O GERENCIAMENTO DO CENTRO DE PRONTIDÃO E RESPOSTA A EMERGÊNCIA E ATENDIMENTOS A EMERGÊNCIAS NOS PORTOS ORGANIZADOS DE PARANAGUÁ E ANTONINA | P10: *orientações preenchimento: 1 - devem ser preenchidos apenas as células em amarelo 2 - especificamente no caso do item 6 - Reposição materiais consumíveis - o valor unitário deve considerar o custo de reposição da quantidade consumida no caso de utilização em atendimentos a emergência, com vistas a repor a quantidade mensal a ser disponibilizada.
B11: ITEM | C11: DISCRIMINAÇÃO | D11: UNID. | E11: QUANT. | F11: PREÇO UNIT. | G11: PREÇO TOTAL
B12: 1 | C12: Mão de Obra
B13: 1.1 | C13: Equipe mínima permanente | D13: Mês | E13: 30 | F13: ='EQUIPE FIXA'!E21 -> 244000 | G13: =F13*E13 -> 7320000
B14: 1.2 | C14: Equipe Complementar por demanda eventual para emergências ambientais | D14: Dia | E14: 5 | F14: ='EQUIPE COMPLEMENTAR POR DEMANDA'!G31 -> 24000 | G14: =F14*E14 -> 120000
B15: 2 | C15: Simulados/Treinamentos/Capacitações
B16: 2.1 | C16: First Responder - OPRC IMO I | D16: Unid | E16: 2 | F16: ='TREINA.SIMULADOS.FISCALIZACAO'!E10 -> 12000 | G16: =F16*E16 -> 24000
B17: 2.2 | C17: On Scene Commander - OPRC IMO II | D17: Unid | E17: 1 | F17: ='TREINA.SIMULADOS.FISCALIZACAO'!E11 -> 16000 | G17: =F17*E17 -> 16000
B18: 2.3 | C18: Treinamento HAZMAT nível primeiro no local | D18: Unid | E18: 2 | F18: ='TREINA.SIMULADOS.FISCALIZACAO'!E12 -> 30000 | G18: =F18*E18 -> 60000
B19: 2.4 | C19: Treinamento HAZMAT nível operações | D19: Unid | E19: 1 | F19: ='TREINA.SIMULADOS.FISCALIZACAO'!E13 -> 20000 | G19: =F19*E19 -> 20000
B20: 2.5 | C20: Treinamento HAZMAT nível comando | D20: Unid | E20: 1 | F20: ='TREINA.SIMULADOS.FISCALIZACAO'!E14 -> 35000 | G20: =F20*E20 -> 35000
B21: 2.6 | C21: Treinamento de Brigada Avançada (baseado na NPT 017 do Corpo de Bombeiros do Estado do Paraná). | D21: Unid | E21: 2 | F21: ='TREINA.SIMULADOS.FISCALIZACAO'!E15 -> 22000 | G21: =F21*E21 -> 44000
B22: 2.7 | C22: Simulado de mobilização (PEI/PAE) | D22: Unid | E22: 6 | F22: ='TREINA.SIMULADOS.FISCALIZACAO'!E16 -> 12000 | G22: =F22*E22 -> 72000
B23: 2.8 | C23: Simulado completo de resposta do Plano de Atendimento a Emergência (PAE/PCE) | D23: Unid | E23: 12 | F23: ='TREINA.SIMULADOS.FISCALIZACAO'!E17 -> 12000 | G23: =F23*E23 -> 144000
B24: 2.9 | C24: Simulado completo de resposta do Plano de Emergência Individual (PEI) | D24: Unid | E24: 3 | F24: ='TREINA.SIMULADOS.FISCALIZACAO'!E18 -> 12000 | G24: =F24*E24 -> 36000
B25: 2.10 | C25: Participação no SIMULADO DO PLANO DE ÁREA (considerar menos material, pois os integrantes do Plano de Área irão participar) | D25: Unid | E25: 2 | F25: ='TREINA.SIMULADOS.FISCALIZACAO'!E19 -> 8000 | G25: =F25*E25 -> 16000
B26: 2.11 | C26: Participação no SIMULADO DO Plano de Ajuda Mútua (considerar menos material, pois os integrantes do Plano de Área irão participar) | D26: Unid | E26: 3 | F26: ='TREINA.SIMULADOS.FISCALIZACAO'!E20 -> 6000 | G26: =F26*E26 -> 18000
B27: 2.12 | C27: FISCALIZAÇÃO AMBIENTAL com disponibilização de uma embarcação e pessoal para operação da mesma em Apoio a Diretoria de Meio Ambiente da APPA, na área dos portos organizados de Paranaguá e Antonina | D27: Unid | E27: 10 | F27: ='TREINA.SIMULADOS.FISCALIZACAO'!E21 -> 650 | G27: =(F27*E27)*30 -> 195000
B28: 3 | C28: Materiais
B29: 3.1 | C29: RECURSOS E EQUIPAMENTOS PERMANENTES Atendimento vazamento de óleo no mar | D29: Mês | E29: 30 | F29: ='Recursos PEI'!H61 -> 115791.14 | G29: =F29*E29 -> 3473734.2
B30: 3.2 | C30: RECURSOS E EQUIPAMENTOS PERMANENTES Atendimento a produtos químicos | D30: Mês | E30: 30 | F30: ='RECURSOS PARA QUÍMICOS'!H44 -> 63771.5 | G30: =F30*E30 -> 1913145
